BEGIN:VCALENDAR
VERSION:2.0
PRODID:-//Chewelah Chamber of Commerce - ECPv6.15.17//NONSGML v1.0//EN
CALSCALE:GREGORIAN
METHOD:PUBLISH
X-WR-CALNAME:Chewelah Chamber of Commerce
X-ORIGINAL-URL:https://chewelah.org
X-WR-CALDESC:Events for Chewelah Chamber of Commerce
REFRESH-INTERVAL;VALUE=DURATION:PT1H
X-Robots-Tag:noindex
X-PUBLISHED-TTL:PT1H
BEGIN:VTIMEZONE
TZID:America/Los_Angeles
BEGIN:DAYLIGHT
TZOFFSETFROM:-0800
TZOFFSETTO:-0700
TZNAME:PDT
DTSTART:20240310T100000
END:DAYLIGHT
BEGIN:STANDARD
TZOFFSETFROM:-0700
TZOFFSETTO:-0800
TZNAME:PST
DTSTART:20241103T090000
END:STANDARD
BEGIN:DAYLIGHT
TZOFFSETFROM:-0800
TZOFFSETTO:-0700
TZNAME:PDT
DTSTART:20250309T100000
END:DAYLIGHT
BEGIN:STANDARD
TZOFFSETFROM:-0700
TZOFFSETTO:-0800
TZNAME:PST
DTSTART:20251102T090000
END:STANDARD
BEGIN:DAYLIGHT
TZOFFSETFROM:-0800
TZOFFSETTO:-0700
TZNAME:PDT
DTSTART:20260308T100000
END:DAYLIGHT
BEGIN:STANDARD
TZOFFSETFROM:-0700
TZOFFSETTO:-0800
TZNAME:PST
DTSTART:20261101T090000
END:STANDARD
END:VTIMEZONE
BEGIN:VEVENT
DTSTART;TZID=America/Los_Angeles:20250601T160000
DTEND;TZID=America/Los_Angeles:20250601T190000
DTSTAMP:20260419T060536
CREATED:20240501T183302Z
LAST-MODIFIED:20240611T211725Z
UID:10040034-1748793600-1748804400@chewelah.org
SUMMARY:Fired Up Pizza Blues Jam
DESCRIPTION:
URL:https://chewelah.org/event/fired-up-pizza-blues-jam/2025-06-01/
LOCATION:Fired Up Pizza\, 206 E Main Ave\, Chewelah\, WA\, 99109\, United States
CATEGORIES:Community Event,Family Friendly
END:VEVENT
BEGIN:VEVENT
DTSTART;TZID=America/Los_Angeles:20250603T103000
DTEND;TZID=America/Los_Angeles:20250603T113000
DTSTAMP:20260419T060536
CREATED:20240711T193910Z
LAST-MODIFIED:20240711T193910Z
UID:10038297-1748946600-1748950200@chewelah.org
SUMMARY:Chewelah Library Story Time
DESCRIPTION:
URL:https://chewelah.org/event/chewelah-library-story-time-2/2025-06-03/
LOCATION:Chewelah Public Library\, 311 E Clay\, Chewelah\, WA\, 99109\, United States
CATEGORIES:Family Friendly
END:VEVENT
BEGIN:VEVENT
DTSTART;TZID=America/Los_Angeles:20250604T100000
DTEND;TZID=America/Los_Angeles:20250604T150000
DTSTAMP:20260419T060536
CREATED:20240123T001342Z
LAST-MODIFIED:20240123T001420Z
UID:10039376-1749031200-1749049200@chewelah.org
SUMMARY:First Wednesdays with TEDD at the Chewelah Public Library
DESCRIPTION:First Wednesdays with TEDD at the Chewelah Public Library \nWednesday\,  October 4\, 2023 \nTEDD Regional Economic Development Specialist Brandon Hansen will be at the Chewelah Public Library for your business needs! For more info call 509-684-4571 or email bwhansen@teddonline.com
URL:https://chewelah.org/event/first-wednesdays-with-tedd-at-the-chewelah-public-library-2/2025-06-04/
LOCATION:Chewelah Library\, 311 East Clay\, Chewelah\, WA\, 99109
CATEGORIES:Business Events
ORGANIZER;CN="TEDD":MAILTO:bwhansen@teddonline.com
END:VEVENT
BEGIN:VEVENT
DTSTART;TZID=America/Los_Angeles:20250604T180000
DTEND;TZID=America/Los_Angeles:20250604T190000
DTSTAMP:20260419T060536
CREATED:20240122T235814Z
LAST-MODIFIED:20240122T235937Z
UID:10039183-1749060000-1749063600@chewelah.org
SUMMARY:Bingo @ Fired Up Pizza 6pm
DESCRIPTION:
URL:https://chewelah.org/event/bingo-fired-up-pizza-6pm-2-2/2025-06-04/
LOCATION:Fired Up Pizza\, 206 E Main Ave\, Chewelah\, WA\, 99109\, United States
END:VEVENT
BEGIN:VEVENT
DTSTART;TZID=America/Los_Angeles:20250605T100000
DTEND;TZID=America/Los_Angeles:20250605T140000
DTSTAMP:20260419T060536
CREATED:20240123T000233Z
LAST-MODIFIED:20240123T000434Z
UID:10039284-1749117600-1749132000@chewelah.org
SUMMARY:Food Bank Open 10am-2pm
DESCRIPTION:
URL:https://chewelah.org/event/food-bank-open-10am-2pm-2/2025-06-05/
LOCATION:Chewelah Food Bank\, 302 E Main Ave\, Chewelah\, WA\, 99109\, United States
END:VEVENT
BEGIN:VEVENT
DTSTART;TZID=America/Los_Angeles:20250605T170000
DTEND;TZID=America/Los_Angeles:20250605T200000
DTSTAMP:20260419T060536
CREATED:20250529T210954Z
LAST-MODIFIED:20250529T210955Z
UID:10042778-1749142800-1749153600@chewelah.org
SUMMARY:First Thursday Art Walk
DESCRIPTION:
URL:https://chewelah.org/event/first-thursday-art-walk-12/
LOCATION:Downtown Chewelah\, Main Ave & 2nd Street\, Chewelah\, WA\, 99109\, United States
CATEGORIES:Arts & Cultural Events,Spring Events
END:VEVENT
BEGIN:VEVENT
DTSTART;TZID=America/Los_Angeles:20250605T170000
DTEND;TZID=America/Los_Angeles:20250628T200000
DTSTAMP:20260419T060536
CREATED:20250529T211203Z
LAST-MODIFIED:20250603T174821Z
UID:10042779-1749142800-1751140800@chewelah.org
SUMMARY:Chewelah Plein Air 2025
DESCRIPTION:
URL:https://chewelah.org/event/chewelah-plein-air-2025/
LOCATION:Trails End Gallery\, 101 N. Park St. \, Suite #B\, Chewelah\, WA\, 99109\, United States
CATEGORIES:Arts & Cultural Events,Spring Events,Summer Events
END:VEVENT
BEGIN:VEVENT
DTSTART;TZID=America/Los_Angeles:20250605T203000
DTEND;TZID=America/Los_Angeles:20250605T233000
DTSTAMP:20260419T060536
CREATED:20240501T185655Z
LAST-MODIFIED:20240809T231250Z
UID:10039942-1749155400-1749166200@chewelah.org
SUMMARY:Kraigmire Karaoke
DESCRIPTION:
URL:https://chewelah.org/event/kraigmire-karaoke/2025-06-05/
LOCATION:Oasis\, 109 N Park Street\, CHEWELAH\, WA\, 99109\, United States
CATEGORIES:Arts & Cultural Events,Community Event,Featured Events
END:VEVENT
BEGIN:VEVENT
DTSTART;TZID=America/Los_Angeles:20250606T110000
DTEND;TZID=America/Los_Angeles:20250606T153000
DTSTAMP:20260419T060536
CREATED:20250408T201309Z
LAST-MODIFIED:20250527T214737Z
UID:10042614-1749207600-1749223800@chewelah.org
SUMMARY:Chewelah Farmer's Market
DESCRIPTION:
URL:https://chewelah.org/event/chewelah-farmers-market/2025-06-06/
LOCATION:Chewelah City Park\, Chewelah\, WA\, 99109\, United States
CATEGORIES:Community Event,Fall Events,Family Friendly,Spring Events,Summer Events
END:VEVENT
END:VCALENDAR