BEGIN:VCALENDAR
VERSION:2.0
PRODID:-//Chewelah Chamber of Commerce - ECPv6.15.20//NONSGML v1.0//EN
CALSCALE:GREGORIAN
METHOD:PUBLISH
X-ORIGINAL-URL:https://chewelah.org
X-WR-CALDESC:Events for Chewelah Chamber of Commerce
REFRESH-INTERVAL;VALUE=DURATION:PT1H
X-Robots-Tag:noindex
X-PUBLISHED-TTL:PT1H
BEGIN:VTIMEZONE
TZID:America/Los_Angeles
BEGIN:DAYLIGHT
TZOFFSETFROM:-0800
TZOFFSETTO:-0700
TZNAME:PDT
DTSTART:20280312T100000
END:DAYLIGHT
BEGIN:STANDARD
TZOFFSETFROM:-0700
TZOFFSETTO:-0800
TZNAME:PST
DTSTART:20281105T090000
END:STANDARD
BEGIN:DAYLIGHT
TZOFFSETFROM:-0800
TZOFFSETTO:-0700
TZNAME:PDT
DTSTART:20290311T100000
END:DAYLIGHT
BEGIN:STANDARD
TZOFFSETFROM:-0700
TZOFFSETTO:-0800
TZNAME:PST
DTSTART:20291104T090000
END:STANDARD
BEGIN:DAYLIGHT
TZOFFSETFROM:-0800
TZOFFSETTO:-0700
TZNAME:PDT
DTSTART:20300310T100000
END:DAYLIGHT
BEGIN:STANDARD
TZOFFSETFROM:-0700
TZOFFSETTO:-0800
TZNAME:PST
DTSTART:20301103T090000
END:STANDARD
END:VTIMEZONE
BEGIN:VEVENT
DTSTART;TZID=America/Los_Angeles:20290205T103000
DTEND;TZID=America/Los_Angeles:20290205T120000
DTSTAMP:20260423T010831
CREATED:20260109T190814Z
LAST-MODIFIED:20260109T190814Z
UID:10043983-1864981800-1864987200@chewelah.org
SUMMARY:Social Hour
DESCRIPTION:
URL:https://chewelah.org/event/social-hour/2029-02-05/
LOCATION:Chewelah Senior Center
CATEGORIES:Fall Events,Senior Event,Spring Events,Summer Events,Winter Events
END:VEVENT
BEGIN:VEVENT
DTSTART;TZID=America/Los_Angeles:20290206T103000
DTEND;TZID=America/Los_Angeles:20290206T113000
DTSTAMP:20260423T010831
CREATED:20240711T193910Z
LAST-MODIFIED:20240711T193910Z
UID:10041070-1865068200-1865071800@chewelah.org
SUMMARY:Chewelah Library Story Time
DESCRIPTION:
URL:https://chewelah.org/event/chewelah-library-story-time-2/2029-02-06/
LOCATION:Chewelah Public Library\, 311 E Clay\, Chewelah\, WA\, 99109\, United States
CATEGORIES:Family Friendly
END:VEVENT
BEGIN:VEVENT
DTSTART;TZID=America/Los_Angeles:20290207T120000
DTEND;TZID=America/Los_Angeles:20290207T140000
DTSTAMP:20260423T010831
CREATED:20260109T190918Z
LAST-MODIFIED:20260109T190918Z
UID:10044244-1865160000-1865167200@chewelah.org
SUMMARY:Women's Bible Study
DESCRIPTION:
URL:https://chewelah.org/event/womens-bible-study/2029-02-07/
LOCATION:Chewelah Senior Center
CATEGORIES:Fall Events,Senior Event,Spring Events,Summer Events,Winter Events
END:VEVENT
BEGIN:VEVENT
DTSTART;TZID=America/Los_Angeles:20290212T103000
DTEND;TZID=America/Los_Angeles:20290212T120000
DTSTAMP:20260423T010831
CREATED:20260109T190814Z
LAST-MODIFIED:20260109T190814Z
UID:10043984-1865586600-1865592000@chewelah.org
SUMMARY:Social Hour
DESCRIPTION:
URL:https://chewelah.org/event/social-hour/2029-02-12/
LOCATION:Chewelah Senior Center
CATEGORIES:Fall Events,Senior Event,Spring Events,Summer Events,Winter Events
END:VEVENT
BEGIN:VEVENT
DTSTART;TZID=America/Los_Angeles:20290213T103000
DTEND;TZID=America/Los_Angeles:20290213T113000
DTSTAMP:20260423T010831
CREATED:20240711T193910Z
LAST-MODIFIED:20240711T193910Z
UID:10041071-1865673000-1865676600@chewelah.org
SUMMARY:Chewelah Library Story Time
DESCRIPTION:
URL:https://chewelah.org/event/chewelah-library-story-time-2/2029-02-13/
LOCATION:Chewelah Public Library\, 311 E Clay\, Chewelah\, WA\, 99109\, United States
CATEGORIES:Family Friendly
END:VEVENT
BEGIN:VEVENT
DTSTART;TZID=America/Los_Angeles:20290214T120000
DTEND;TZID=America/Los_Angeles:20290214T140000
DTSTAMP:20260423T010831
CREATED:20260109T190918Z
LAST-MODIFIED:20260109T190918Z
UID:10044245-1865764800-1865772000@chewelah.org
SUMMARY:Women's Bible Study
DESCRIPTION:
URL:https://chewelah.org/event/womens-bible-study/2029-02-14/
LOCATION:Chewelah Senior Center
CATEGORIES:Fall Events,Senior Event,Spring Events,Summer Events,Winter Events
END:VEVENT
BEGIN:VEVENT
DTSTART;TZID=America/Los_Angeles:20290215T100000
DTEND;TZID=America/Los_Angeles:20290215T150000
DTSTAMP:20260423T010831
CREATED:20240307T220842Z
LAST-MODIFIED:20240314T164849Z
UID:10039626-1865844000-1865862000@chewelah.org
SUMMARY:Senior Citizens Potluck & Games
DESCRIPTION:Senior Citizens from Chewelah\, Valley\, & Springdale  are invited to join us the \n1st and 3rd Thursday of each month. \nFor games and potluck from 10:00 am to 3:00 pm \nPlace: Valley Fire department building \n 
URL:https://chewelah.org/event/senior-citizens-potluck-games/2029-02-15/
LOCATION:Stevens County Fire Dist. 4\, 3060 3rd Ave.\, Valley\, WA\, 99181\, United States
CATEGORIES:Community Event,Family Friendly
END:VEVENT
BEGIN:VEVENT
DTSTART;TZID=America/Los_Angeles:20290219T103000
DTEND;TZID=America/Los_Angeles:20290219T120000
DTSTAMP:20260423T010831
CREATED:20260109T190814Z
LAST-MODIFIED:20260109T190814Z
UID:10043985-1866191400-1866196800@chewelah.org
SUMMARY:Social Hour
DESCRIPTION:
URL:https://chewelah.org/event/social-hour/2029-02-19/
LOCATION:Chewelah Senior Center
CATEGORIES:Fall Events,Senior Event,Spring Events,Summer Events,Winter Events
END:VEVENT
BEGIN:VEVENT
DTSTART;TZID=America/Los_Angeles:20290220T103000
DTEND;TZID=America/Los_Angeles:20290220T113000
DTSTAMP:20260423T010831
CREATED:20240711T193910Z
LAST-MODIFIED:20240711T193910Z
UID:10041072-1866277800-1866281400@chewelah.org
SUMMARY:Chewelah Library Story Time
DESCRIPTION:
URL:https://chewelah.org/event/chewelah-library-story-time-2/2029-02-20/
LOCATION:Chewelah Public Library\, 311 E Clay\, Chewelah\, WA\, 99109\, United States
CATEGORIES:Family Friendly
END:VEVENT
BEGIN:VEVENT
DTSTART;TZID=America/Los_Angeles:20290221T120000
DTEND;TZID=America/Los_Angeles:20290221T140000
DTSTAMP:20260423T010832
CREATED:20260109T190918Z
LAST-MODIFIED:20260109T190918Z
UID:10044246-1866369600-1866376800@chewelah.org
SUMMARY:Women's Bible Study
DESCRIPTION:
URL:https://chewelah.org/event/womens-bible-study/2029-02-21/
LOCATION:Chewelah Senior Center
CATEGORIES:Fall Events,Senior Event,Spring Events,Summer Events,Winter Events
END:VEVENT
BEGIN:VEVENT
DTSTART;TZID=America/Los_Angeles:20290226T103000
DTEND;TZID=America/Los_Angeles:20290226T120000
DTSTAMP:20260423T010832
CREATED:20260109T190814Z
LAST-MODIFIED:20260109T190814Z
UID:10043986-1866796200-1866801600@chewelah.org
SUMMARY:Social Hour
DESCRIPTION:
URL:https://chewelah.org/event/social-hour/2029-02-26/
LOCATION:Chewelah Senior Center
CATEGORIES:Fall Events,Senior Event,Spring Events,Summer Events,Winter Events
END:VEVENT
BEGIN:VEVENT
DTSTART;TZID=America/Los_Angeles:20290227T103000
DTEND;TZID=America/Los_Angeles:20290227T113000
DTSTAMP:20260423T010832
CREATED:20240711T193910Z
LAST-MODIFIED:20240711T193910Z
UID:10041073-1866882600-1866886200@chewelah.org
SUMMARY:Chewelah Library Story Time
DESCRIPTION:
URL:https://chewelah.org/event/chewelah-library-story-time-2/2029-02-27/
LOCATION:Chewelah Public Library\, 311 E Clay\, Chewelah\, WA\, 99109\, United States
CATEGORIES:Family Friendly
END:VEVENT
BEGIN:VEVENT
DTSTART;TZID=America/Los_Angeles:20290228T120000
DTEND;TZID=America/Los_Angeles:20290228T140000
DTSTAMP:20260423T010832
CREATED:20260109T190918Z
LAST-MODIFIED:20260109T190918Z
UID:10044247-1866974400-1866981600@chewelah.org
SUMMARY:Women's Bible Study
DESCRIPTION:
URL:https://chewelah.org/event/womens-bible-study/2029-02-28/
LOCATION:Chewelah Senior Center
CATEGORIES:Fall Events,Senior Event,Spring Events,Summer Events,Winter Events
END:VEVENT
END:VCALENDAR