BEGIN:VCALENDAR
VERSION:2.0
PRODID:-//Chewelah Chamber of Commerce - ECPv6.15.20//NONSGML v1.0//EN
CALSCALE:GREGORIAN
METHOD:PUBLISH
X-WR-CALNAME:Chewelah Chamber of Commerce
X-ORIGINAL-URL:https://chewelah.org
X-WR-CALDESC:Events for Chewelah Chamber of Commerce
REFRESH-INTERVAL;VALUE=DURATION:PT1H
X-Robots-Tag:noindex
X-PUBLISHED-TTL:PT1H
BEGIN:VTIMEZONE
TZID:America/Los_Angeles
BEGIN:DAYLIGHT
TZOFFSETFROM:-0800
TZOFFSETTO:-0700
TZNAME:PDT
DTSTART:20280312T100000
END:DAYLIGHT
BEGIN:STANDARD
TZOFFSETFROM:-0700
TZOFFSETTO:-0800
TZNAME:PST
DTSTART:20281105T090000
END:STANDARD
BEGIN:DAYLIGHT
TZOFFSETFROM:-0800
TZOFFSETTO:-0700
TZNAME:PDT
DTSTART:20290311T100000
END:DAYLIGHT
BEGIN:STANDARD
TZOFFSETFROM:-0700
TZOFFSETTO:-0800
TZNAME:PST
DTSTART:20291104T090000
END:STANDARD
BEGIN:DAYLIGHT
TZOFFSETFROM:-0800
TZOFFSETTO:-0700
TZNAME:PDT
DTSTART:20300310T100000
END:DAYLIGHT
BEGIN:STANDARD
TZOFFSETFROM:-0700
TZOFFSETTO:-0800
TZNAME:PST
DTSTART:20301103T090000
END:STANDARD
END:VTIMEZONE
BEGIN:VEVENT
DTSTART;TZID=America/Los_Angeles:20290606T120000
DTEND;TZID=America/Los_Angeles:20290606T140000
DTSTAMP:20260424T050717
CREATED:20260109T190918Z
LAST-MODIFIED:20260109T190918Z
UID:10044261-1875441600-1875448800@chewelah.org
SUMMARY:Women's Bible Study
DESCRIPTION:
URL:https://chewelah.org/event/womens-bible-study/2029-06-06/
LOCATION:Chewelah Senior Center
CATEGORIES:Fall Events,Senior Event,Spring Events,Summer Events,Winter Events
END:VEVENT
BEGIN:VEVENT
DTSTART;TZID=America/Los_Angeles:20290611T103000
DTEND;TZID=America/Los_Angeles:20290611T120000
DTSTAMP:20260424T050717
CREATED:20260109T190814Z
LAST-MODIFIED:20260109T190814Z
UID:10044001-1875868200-1875873600@chewelah.org
SUMMARY:Social Hour
DESCRIPTION:
URL:https://chewelah.org/event/social-hour/2029-06-11/
LOCATION:Chewelah Senior Center
CATEGORIES:Fall Events,Senior Event,Spring Events,Summer Events,Winter Events
END:VEVENT
BEGIN:VEVENT
DTSTART;TZID=America/Los_Angeles:20290612T103000
DTEND;TZID=America/Los_Angeles:20290612T113000
DTSTAMP:20260424T050717
CREATED:20240711T193910Z
LAST-MODIFIED:20240711T193910Z
UID:10041088-1875954600-1875958200@chewelah.org
SUMMARY:Chewelah Library Story Time
DESCRIPTION:
URL:https://chewelah.org/event/chewelah-library-story-time-2/2029-06-12/
LOCATION:Chewelah Public Library\, 311 E Clay\, Chewelah\, WA\, 99109\, United States
CATEGORIES:Family Friendly
END:VEVENT
BEGIN:VEVENT
DTSTART;TZID=America/Los_Angeles:20290613T120000
DTEND;TZID=America/Los_Angeles:20290613T140000
DTSTAMP:20260424T050717
CREATED:20260109T190918Z
LAST-MODIFIED:20260109T190918Z
UID:10044262-1876046400-1876053600@chewelah.org
SUMMARY:Women's Bible Study
DESCRIPTION:
URL:https://chewelah.org/event/womens-bible-study/2029-06-13/
LOCATION:Chewelah Senior Center
CATEGORIES:Fall Events,Senior Event,Spring Events,Summer Events,Winter Events
END:VEVENT
BEGIN:VEVENT
DTSTART;TZID=America/Los_Angeles:20290618T103000
DTEND;TZID=America/Los_Angeles:20290618T120000
DTSTAMP:20260424T050717
CREATED:20260109T190814Z
LAST-MODIFIED:20260109T190814Z
UID:10044002-1876473000-1876478400@chewelah.org
SUMMARY:Social Hour
DESCRIPTION:
URL:https://chewelah.org/event/social-hour/2029-06-18/
LOCATION:Chewelah Senior Center
CATEGORIES:Fall Events,Senior Event,Spring Events,Summer Events,Winter Events
END:VEVENT
BEGIN:VEVENT
DTSTART;TZID=America/Los_Angeles:20290619T103000
DTEND;TZID=America/Los_Angeles:20290619T113000
DTSTAMP:20260424T050717
CREATED:20240711T193910Z
LAST-MODIFIED:20240711T193910Z
UID:10041089-1876559400-1876563000@chewelah.org
SUMMARY:Chewelah Library Story Time
DESCRIPTION:
URL:https://chewelah.org/event/chewelah-library-story-time-2/2029-06-19/
LOCATION:Chewelah Public Library\, 311 E Clay\, Chewelah\, WA\, 99109\, United States
CATEGORIES:Family Friendly
END:VEVENT
BEGIN:VEVENT
DTSTART;TZID=America/Los_Angeles:20290620T120000
DTEND;TZID=America/Los_Angeles:20290620T140000
DTSTAMP:20260424T050717
CREATED:20260109T190918Z
LAST-MODIFIED:20260109T190918Z
UID:10044263-1876651200-1876658400@chewelah.org
SUMMARY:Women's Bible Study
DESCRIPTION:
URL:https://chewelah.org/event/womens-bible-study/2029-06-20/
LOCATION:Chewelah Senior Center
CATEGORIES:Fall Events,Senior Event,Spring Events,Summer Events,Winter Events
END:VEVENT
BEGIN:VEVENT
DTSTART;TZID=America/Los_Angeles:20290625T103000
DTEND;TZID=America/Los_Angeles:20290625T120000
DTSTAMP:20260424T050717
CREATED:20260109T190814Z
LAST-MODIFIED:20260109T190814Z
UID:10044003-1877077800-1877083200@chewelah.org
SUMMARY:Social Hour
DESCRIPTION:
URL:https://chewelah.org/event/social-hour/2029-06-25/
LOCATION:Chewelah Senior Center
CATEGORIES:Fall Events,Senior Event,Spring Events,Summer Events,Winter Events
END:VEVENT
BEGIN:VEVENT
DTSTART;TZID=America/Los_Angeles:20290626T103000
DTEND;TZID=America/Los_Angeles:20290626T113000
DTSTAMP:20260424T050717
CREATED:20240711T193910Z
LAST-MODIFIED:20240711T193910Z
UID:10041090-1877164200-1877167800@chewelah.org
SUMMARY:Chewelah Library Story Time
DESCRIPTION:
URL:https://chewelah.org/event/chewelah-library-story-time-2/2029-06-26/
LOCATION:Chewelah Public Library\, 311 E Clay\, Chewelah\, WA\, 99109\, United States
CATEGORIES:Family Friendly
END:VEVENT
BEGIN:VEVENT
DTSTART;TZID=America/Los_Angeles:20290627T120000
DTEND;TZID=America/Los_Angeles:20290627T140000
DTSTAMP:20260424T050717
CREATED:20260109T190918Z
LAST-MODIFIED:20260109T190918Z
UID:10044264-1877256000-1877263200@chewelah.org
SUMMARY:Women's Bible Study
DESCRIPTION:
URL:https://chewelah.org/event/womens-bible-study/2029-06-27/
LOCATION:Chewelah Senior Center
CATEGORIES:Fall Events,Senior Event,Spring Events,Summer Events,Winter Events
END:VEVENT
BEGIN:VEVENT
DTSTART;TZID=America/Los_Angeles:20290702T103000
DTEND;TZID=America/Los_Angeles:20290702T120000
DTSTAMP:20260424T050717
CREATED:20260109T190814Z
LAST-MODIFIED:20260109T190814Z
UID:10044004-1877682600-1877688000@chewelah.org
SUMMARY:Social Hour
DESCRIPTION:
URL:https://chewelah.org/event/social-hour/2029-07-02/
LOCATION:Chewelah Senior Center
CATEGORIES:Fall Events,Senior Event,Spring Events,Summer Events,Winter Events
END:VEVENT
BEGIN:VEVENT
DTSTART;TZID=America/Los_Angeles:20290703T103000
DTEND;TZID=America/Los_Angeles:20290703T113000
DTSTAMP:20260424T050717
CREATED:20240711T193910Z
LAST-MODIFIED:20240711T193910Z
UID:10041091-1877769000-1877772600@chewelah.org
SUMMARY:Chewelah Library Story Time
DESCRIPTION:
URL:https://chewelah.org/event/chewelah-library-story-time-2/2029-07-03/
LOCATION:Chewelah Public Library\, 311 E Clay\, Chewelah\, WA\, 99109\, United States
CATEGORIES:Family Friendly
END:VEVENT
BEGIN:VEVENT
DTSTART;TZID=America/Los_Angeles:20290704T120000
DTEND;TZID=America/Los_Angeles:20290704T140000
DTSTAMP:20260424T050717
CREATED:20260109T190918Z
LAST-MODIFIED:20260109T190918Z
UID:10044265-1877860800-1877868000@chewelah.org
SUMMARY:Women's Bible Study
DESCRIPTION:
URL:https://chewelah.org/event/womens-bible-study/2029-07-04/
LOCATION:Chewelah Senior Center
CATEGORIES:Fall Events,Senior Event,Spring Events,Summer Events,Winter Events
END:VEVENT
BEGIN:VEVENT
DTSTART;TZID=America/Los_Angeles:20290709T103000
DTEND;TZID=America/Los_Angeles:20290709T120000
DTSTAMP:20260424T050718
CREATED:20260109T190814Z
LAST-MODIFIED:20260109T190814Z
UID:10044005-1878287400-1878292800@chewelah.org
SUMMARY:Social Hour
DESCRIPTION:
URL:https://chewelah.org/event/social-hour/2029-07-09/
LOCATION:Chewelah Senior Center
CATEGORIES:Fall Events,Senior Event,Spring Events,Summer Events,Winter Events
END:VEVENT
BEGIN:VEVENT
DTSTART;TZID=America/Los_Angeles:20290710T103000
DTEND;TZID=America/Los_Angeles:20290710T113000
DTSTAMP:20260424T050718
CREATED:20240711T193910Z
LAST-MODIFIED:20240711T193910Z
UID:10041092-1878373800-1878377400@chewelah.org
SUMMARY:Chewelah Library Story Time
DESCRIPTION:
URL:https://chewelah.org/event/chewelah-library-story-time-2/2029-07-10/
LOCATION:Chewelah Public Library\, 311 E Clay\, Chewelah\, WA\, 99109\, United States
CATEGORIES:Family Friendly
END:VEVENT
BEGIN:VEVENT
DTSTART;TZID=America/Los_Angeles:20290711T120000
DTEND;TZID=America/Los_Angeles:20290711T140000
DTSTAMP:20260424T050718
CREATED:20260109T190918Z
LAST-MODIFIED:20260109T190918Z
UID:10044266-1878465600-1878472800@chewelah.org
SUMMARY:Women's Bible Study
DESCRIPTION:
URL:https://chewelah.org/event/womens-bible-study/2029-07-11/
LOCATION:Chewelah Senior Center
CATEGORIES:Fall Events,Senior Event,Spring Events,Summer Events,Winter Events
END:VEVENT
BEGIN:VEVENT
DTSTART;TZID=America/Los_Angeles:20290716T103000
DTEND;TZID=America/Los_Angeles:20290716T120000
DTSTAMP:20260424T050718
CREATED:20260109T190814Z
LAST-MODIFIED:20260109T190814Z
UID:10044006-1878892200-1878897600@chewelah.org
SUMMARY:Social Hour
DESCRIPTION:
URL:https://chewelah.org/event/social-hour/2029-07-16/
LOCATION:Chewelah Senior Center
CATEGORIES:Fall Events,Senior Event,Spring Events,Summer Events,Winter Events
END:VEVENT
BEGIN:VEVENT
DTSTART;TZID=America/Los_Angeles:20290718T120000
DTEND;TZID=America/Los_Angeles:20290718T140000
DTSTAMP:20260424T050718
CREATED:20260109T190918Z
LAST-MODIFIED:20260109T190918Z
UID:10044267-1879070400-1879077600@chewelah.org
SUMMARY:Women's Bible Study
DESCRIPTION:
URL:https://chewelah.org/event/womens-bible-study/2029-07-18/
LOCATION:Chewelah Senior Center
CATEGORIES:Fall Events,Senior Event,Spring Events,Summer Events,Winter Events
END:VEVENT
BEGIN:VEVENT
DTSTART;TZID=America/Los_Angeles:20290723T103000
DTEND;TZID=America/Los_Angeles:20290723T120000
DTSTAMP:20260424T050718
CREATED:20260109T190814Z
LAST-MODIFIED:20260109T190814Z
UID:10044007-1879497000-1879502400@chewelah.org
SUMMARY:Social Hour
DESCRIPTION:
URL:https://chewelah.org/event/social-hour/2029-07-23/
LOCATION:Chewelah Senior Center
CATEGORIES:Fall Events,Senior Event,Spring Events,Summer Events,Winter Events
END:VEVENT
BEGIN:VEVENT
DTSTART;TZID=America/Los_Angeles:20290725T120000
DTEND;TZID=America/Los_Angeles:20290725T140000
DTSTAMP:20260424T050718
CREATED:20260109T190918Z
LAST-MODIFIED:20260109T190918Z
UID:10044268-1879675200-1879682400@chewelah.org
SUMMARY:Women's Bible Study
DESCRIPTION:
URL:https://chewelah.org/event/womens-bible-study/2029-07-25/
LOCATION:Chewelah Senior Center
CATEGORIES:Fall Events,Senior Event,Spring Events,Summer Events,Winter Events
END:VEVENT
BEGIN:VEVENT
DTSTART;TZID=America/Los_Angeles:20290730T103000
DTEND;TZID=America/Los_Angeles:20290730T120000
DTSTAMP:20260424T050718
CREATED:20260109T190814Z
LAST-MODIFIED:20260109T190814Z
UID:10044008-1880101800-1880107200@chewelah.org
SUMMARY:Social Hour
DESCRIPTION:
URL:https://chewelah.org/event/social-hour/2029-07-30/
LOCATION:Chewelah Senior Center
CATEGORIES:Fall Events,Senior Event,Spring Events,Summer Events,Winter Events
END:VEVENT
BEGIN:VEVENT
DTSTART;TZID=America/Los_Angeles:20290801T120000
DTEND;TZID=America/Los_Angeles:20290801T140000
DTSTAMP:20260424T050718
CREATED:20260109T190918Z
LAST-MODIFIED:20260109T190918Z
UID:10044269-1880280000-1880287200@chewelah.org
SUMMARY:Women's Bible Study
DESCRIPTION:
URL:https://chewelah.org/event/womens-bible-study/2029-08-01/
LOCATION:Chewelah Senior Center
CATEGORIES:Fall Events,Senior Event,Spring Events,Summer Events,Winter Events
END:VEVENT
BEGIN:VEVENT
DTSTART;TZID=America/Los_Angeles:20290806T103000
DTEND;TZID=America/Los_Angeles:20290806T120000
DTSTAMP:20260424T050718
CREATED:20260109T190814Z
LAST-MODIFIED:20260109T190814Z
UID:10044009-1880706600-1880712000@chewelah.org
SUMMARY:Social Hour
DESCRIPTION:
URL:https://chewelah.org/event/social-hour/2029-08-06/
LOCATION:Chewelah Senior Center
CATEGORIES:Fall Events,Senior Event,Spring Events,Summer Events,Winter Events
END:VEVENT
BEGIN:VEVENT
DTSTART;TZID=America/Los_Angeles:20290808T120000
DTEND;TZID=America/Los_Angeles:20290808T140000
DTSTAMP:20260424T050718
CREATED:20260109T190918Z
LAST-MODIFIED:20260109T190918Z
UID:10044270-1880884800-1880892000@chewelah.org
SUMMARY:Women's Bible Study
DESCRIPTION:
URL:https://chewelah.org/event/womens-bible-study/2029-08-08/
LOCATION:Chewelah Senior Center
CATEGORIES:Fall Events,Senior Event,Spring Events,Summer Events,Winter Events
END:VEVENT
BEGIN:VEVENT
DTSTART;TZID=America/Los_Angeles:20290813T103000
DTEND;TZID=America/Los_Angeles:20290813T120000
DTSTAMP:20260424T050718
CREATED:20260109T190814Z
LAST-MODIFIED:20260109T190814Z
UID:10044010-1881311400-1881316800@chewelah.org
SUMMARY:Social Hour
DESCRIPTION:
URL:https://chewelah.org/event/social-hour/2029-08-13/
LOCATION:Chewelah Senior Center
CATEGORIES:Fall Events,Senior Event,Spring Events,Summer Events,Winter Events
END:VEVENT
BEGIN:VEVENT
DTSTART;TZID=America/Los_Angeles:20290815T120000
DTEND;TZID=America/Los_Angeles:20290815T140000
DTSTAMP:20260424T050718
CREATED:20260109T190918Z
LAST-MODIFIED:20260109T190918Z
UID:10044271-1881489600-1881496800@chewelah.org
SUMMARY:Women's Bible Study
DESCRIPTION:
URL:https://chewelah.org/event/womens-bible-study/2029-08-15/
LOCATION:Chewelah Senior Center
CATEGORIES:Fall Events,Senior Event,Spring Events,Summer Events,Winter Events
END:VEVENT
BEGIN:VEVENT
DTSTART;TZID=America/Los_Angeles:20290820T103000
DTEND;TZID=America/Los_Angeles:20290820T120000
DTSTAMP:20260424T050718
CREATED:20260109T190814Z
LAST-MODIFIED:20260109T190814Z
UID:10044011-1881916200-1881921600@chewelah.org
SUMMARY:Social Hour
DESCRIPTION:
URL:https://chewelah.org/event/social-hour/2029-08-20/
LOCATION:Chewelah Senior Center
CATEGORIES:Fall Events,Senior Event,Spring Events,Summer Events,Winter Events
END:VEVENT
BEGIN:VEVENT
DTSTART;TZID=America/Los_Angeles:20290822T120000
DTEND;TZID=America/Los_Angeles:20290822T140000
DTSTAMP:20260424T050718
CREATED:20260109T190918Z
LAST-MODIFIED:20260109T190918Z
UID:10044272-1882094400-1882101600@chewelah.org
SUMMARY:Women's Bible Study
DESCRIPTION:
URL:https://chewelah.org/event/womens-bible-study/2029-08-22/
LOCATION:Chewelah Senior Center
CATEGORIES:Fall Events,Senior Event,Spring Events,Summer Events,Winter Events
END:VEVENT
BEGIN:VEVENT
DTSTART;TZID=America/Los_Angeles:20290827T103000
DTEND;TZID=America/Los_Angeles:20290827T120000
DTSTAMP:20260424T050718
CREATED:20260109T190814Z
LAST-MODIFIED:20260109T190814Z
UID:10044012-1882521000-1882526400@chewelah.org
SUMMARY:Social Hour
DESCRIPTION:
URL:https://chewelah.org/event/social-hour/2029-08-27/
LOCATION:Chewelah Senior Center
CATEGORIES:Fall Events,Senior Event,Spring Events,Summer Events,Winter Events
END:VEVENT
BEGIN:VEVENT
DTSTART;TZID=America/Los_Angeles:20290829T120000
DTEND;TZID=America/Los_Angeles:20290829T140000
DTSTAMP:20260424T050718
CREATED:20260109T190918Z
LAST-MODIFIED:20260109T190918Z
UID:10044273-1882699200-1882706400@chewelah.org
SUMMARY:Women's Bible Study
DESCRIPTION:
URL:https://chewelah.org/event/womens-bible-study/2029-08-29/
LOCATION:Chewelah Senior Center
CATEGORIES:Fall Events,Senior Event,Spring Events,Summer Events,Winter Events
END:VEVENT
END:VCALENDAR