BEGIN:VCALENDAR
VERSION:2.0
PRODID:-//Chewelah Chamber of Commerce - ECPv6.15.20//NONSGML v1.0//EN
CALSCALE:GREGORIAN
METHOD:PUBLISH
X-ORIGINAL-URL:https://chewelah.org
X-WR-CALDESC:Events for Chewelah Chamber of Commerce
REFRESH-INTERVAL;VALUE=DURATION:PT1H
X-Robots-Tag:noindex
X-PUBLISHED-TTL:PT1H
BEGIN:VTIMEZONE
TZID:America/Los_Angeles
BEGIN:DAYLIGHT
TZOFFSETFROM:-0800
TZOFFSETTO:-0700
TZNAME:PDT
DTSTART:20280312T100000
END:DAYLIGHT
BEGIN:STANDARD
TZOFFSETFROM:-0700
TZOFFSETTO:-0800
TZNAME:PST
DTSTART:20281105T090000
END:STANDARD
BEGIN:DAYLIGHT
TZOFFSETFROM:-0800
TZOFFSETTO:-0700
TZNAME:PDT
DTSTART:20290311T100000
END:DAYLIGHT
BEGIN:STANDARD
TZOFFSETFROM:-0700
TZOFFSETTO:-0800
TZNAME:PST
DTSTART:20291104T090000
END:STANDARD
BEGIN:DAYLIGHT
TZOFFSETFROM:-0800
TZOFFSETTO:-0700
TZNAME:PDT
DTSTART:20300310T100000
END:DAYLIGHT
BEGIN:STANDARD
TZOFFSETFROM:-0700
TZOFFSETTO:-0800
TZNAME:PST
DTSTART:20301103T090000
END:STANDARD
BEGIN:DAYLIGHT
TZOFFSETFROM:-0800
TZOFFSETTO:-0700
TZNAME:PDT
DTSTART:20310309T100000
END:DAYLIGHT
BEGIN:STANDARD
TZOFFSETFROM:-0700
TZOFFSETTO:-0800
TZNAME:PST
DTSTART:20311102T090000
END:STANDARD
END:VTIMEZONE
BEGIN:VEVENT
DTSTART;TZID=America/Los_Angeles:20291128T120000
DTEND;TZID=America/Los_Angeles:20291128T140000
DTSTAMP:20260425T090425
CREATED:20260109T190918Z
LAST-MODIFIED:20260109T190918Z
UID:10044286-1890561600-1890568800@chewelah.org
SUMMARY:Women's Bible Study
DESCRIPTION:
URL:https://chewelah.org/event/womens-bible-study/2029-11-28/
LOCATION:Chewelah Senior Center
CATEGORIES:Fall Events,Senior Event,Spring Events,Summer Events,Winter Events
END:VEVENT
BEGIN:VEVENT
DTSTART;TZID=America/Los_Angeles:20291203T103000
DTEND;TZID=America/Los_Angeles:20291203T120000
DTSTAMP:20260425T090425
CREATED:20260109T190814Z
LAST-MODIFIED:20260109T190814Z
UID:10044026-1890988200-1890993600@chewelah.org
SUMMARY:Social Hour
DESCRIPTION:
URL:https://chewelah.org/event/social-hour/2029-12-03/
LOCATION:Chewelah Senior Center
CATEGORIES:Fall Events,Senior Event,Spring Events,Summer Events,Winter Events
END:VEVENT
BEGIN:VEVENT
DTSTART;TZID=America/Los_Angeles:20291205T120000
DTEND;TZID=America/Los_Angeles:20291205T140000
DTSTAMP:20260425T090425
CREATED:20260109T190918Z
LAST-MODIFIED:20260109T190918Z
UID:10044287-1891166400-1891173600@chewelah.org
SUMMARY:Women's Bible Study
DESCRIPTION:
URL:https://chewelah.org/event/womens-bible-study/2029-12-05/
LOCATION:Chewelah Senior Center
CATEGORIES:Fall Events,Senior Event,Spring Events,Summer Events,Winter Events
END:VEVENT
BEGIN:VEVENT
DTSTART;TZID=America/Los_Angeles:20291210T103000
DTEND;TZID=America/Los_Angeles:20291210T120000
DTSTAMP:20260425T090425
CREATED:20260109T190814Z
LAST-MODIFIED:20260109T190814Z
UID:10044027-1891593000-1891598400@chewelah.org
SUMMARY:Social Hour
DESCRIPTION:
URL:https://chewelah.org/event/social-hour/2029-12-10/
LOCATION:Chewelah Senior Center
CATEGORIES:Fall Events,Senior Event,Spring Events,Summer Events,Winter Events
END:VEVENT
BEGIN:VEVENT
DTSTART;TZID=America/Los_Angeles:20291212T120000
DTEND;TZID=America/Los_Angeles:20291212T140000
DTSTAMP:20260425T090425
CREATED:20260109T190918Z
LAST-MODIFIED:20260109T190918Z
UID:10044288-1891771200-1891778400@chewelah.org
SUMMARY:Women's Bible Study
DESCRIPTION:
URL:https://chewelah.org/event/womens-bible-study/2029-12-12/
LOCATION:Chewelah Senior Center
CATEGORIES:Fall Events,Senior Event,Spring Events,Summer Events,Winter Events
END:VEVENT
BEGIN:VEVENT
DTSTART;TZID=America/Los_Angeles:20291217T103000
DTEND;TZID=America/Los_Angeles:20291217T120000
DTSTAMP:20260425T090425
CREATED:20260109T190814Z
LAST-MODIFIED:20260109T190814Z
UID:10044028-1892197800-1892203200@chewelah.org
SUMMARY:Social Hour
DESCRIPTION:
URL:https://chewelah.org/event/social-hour/2029-12-17/
LOCATION:Chewelah Senior Center
CATEGORIES:Fall Events,Senior Event,Spring Events,Summer Events,Winter Events
END:VEVENT
BEGIN:VEVENT
DTSTART;TZID=America/Los_Angeles:20291219T120000
DTEND;TZID=America/Los_Angeles:20291219T140000
DTSTAMP:20260425T090425
CREATED:20260109T190918Z
LAST-MODIFIED:20260109T190918Z
UID:10044289-1892376000-1892383200@chewelah.org
SUMMARY:Women's Bible Study
DESCRIPTION:
URL:https://chewelah.org/event/womens-bible-study/2029-12-19/
LOCATION:Chewelah Senior Center
CATEGORIES:Fall Events,Senior Event,Spring Events,Summer Events,Winter Events
END:VEVENT
BEGIN:VEVENT
DTSTART;TZID=America/Los_Angeles:20291224T103000
DTEND;TZID=America/Los_Angeles:20291224T120000
DTSTAMP:20260425T090425
CREATED:20260109T190814Z
LAST-MODIFIED:20260109T190814Z
UID:10044029-1892802600-1892808000@chewelah.org
SUMMARY:Social Hour
DESCRIPTION:
URL:https://chewelah.org/event/social-hour/2029-12-24/
LOCATION:Chewelah Senior Center
CATEGORIES:Fall Events,Senior Event,Spring Events,Summer Events,Winter Events
END:VEVENT
BEGIN:VEVENT
DTSTART;TZID=America/Los_Angeles:20291226T120000
DTEND;TZID=America/Los_Angeles:20291226T140000
DTSTAMP:20260425T090425
CREATED:20260109T190918Z
LAST-MODIFIED:20260109T190918Z
UID:10044290-1892980800-1892988000@chewelah.org
SUMMARY:Women's Bible Study
DESCRIPTION:
URL:https://chewelah.org/event/womens-bible-study/2029-12-26/
LOCATION:Chewelah Senior Center
CATEGORIES:Fall Events,Senior Event,Spring Events,Summer Events,Winter Events
END:VEVENT
BEGIN:VEVENT
DTSTART;TZID=America/Los_Angeles:20291231T103000
DTEND;TZID=America/Los_Angeles:20291231T120000
DTSTAMP:20260425T090425
CREATED:20260109T190814Z
LAST-MODIFIED:20260109T190814Z
UID:10044030-1893407400-1893412800@chewelah.org
SUMMARY:Social Hour
DESCRIPTION:
URL:https://chewelah.org/event/social-hour/2029-12-31/
LOCATION:Chewelah Senior Center
CATEGORIES:Fall Events,Senior Event,Spring Events,Summer Events,Winter Events
END:VEVENT
BEGIN:VEVENT
DTSTART;TZID=America/Los_Angeles:20300102T120000
DTEND;TZID=America/Los_Angeles:20300102T140000
DTSTAMP:20260425T090425
CREATED:20260109T190918Z
LAST-MODIFIED:20260109T190918Z
UID:10044291-1893585600-1893592800@chewelah.org
SUMMARY:Women's Bible Study
DESCRIPTION:
URL:https://chewelah.org/event/womens-bible-study/2030-01-02/
LOCATION:Chewelah Senior Center
CATEGORIES:Fall Events,Senior Event,Spring Events,Summer Events,Winter Events
END:VEVENT
BEGIN:VEVENT
DTSTART;TZID=America/Los_Angeles:20300107T103000
DTEND;TZID=America/Los_Angeles:20300107T120000
DTSTAMP:20260425T090425
CREATED:20260109T190814Z
LAST-MODIFIED:20260109T190814Z
UID:10044031-1894012200-1894017600@chewelah.org
SUMMARY:Social Hour
DESCRIPTION:
URL:https://chewelah.org/event/social-hour/2030-01-07/
LOCATION:Chewelah Senior Center
CATEGORIES:Fall Events,Senior Event,Spring Events,Summer Events,Winter Events
END:VEVENT
BEGIN:VEVENT
DTSTART;TZID=America/Los_Angeles:20300109T120000
DTEND;TZID=America/Los_Angeles:20300109T140000
DTSTAMP:20260425T090425
CREATED:20260109T190918Z
LAST-MODIFIED:20260109T190918Z
UID:10044292-1894190400-1894197600@chewelah.org
SUMMARY:Women's Bible Study
DESCRIPTION:
URL:https://chewelah.org/event/womens-bible-study/2030-01-09/
LOCATION:Chewelah Senior Center
CATEGORIES:Fall Events,Senior Event,Spring Events,Summer Events,Winter Events
END:VEVENT
BEGIN:VEVENT
DTSTART;TZID=America/Los_Angeles:20300114T103000
DTEND;TZID=America/Los_Angeles:20300114T120000
DTSTAMP:20260425T090425
CREATED:20260109T190814Z
LAST-MODIFIED:20260109T190814Z
UID:10044032-1894617000-1894622400@chewelah.org
SUMMARY:Social Hour
DESCRIPTION:
URL:https://chewelah.org/event/social-hour/2030-01-14/
LOCATION:Chewelah Senior Center
CATEGORIES:Fall Events,Senior Event,Spring Events,Summer Events,Winter Events
END:VEVENT
BEGIN:VEVENT
DTSTART;TZID=America/Los_Angeles:20300116T120000
DTEND;TZID=America/Los_Angeles:20300116T140000
DTSTAMP:20260425T090425
CREATED:20260109T190918Z
LAST-MODIFIED:20260109T190918Z
UID:10044293-1894795200-1894802400@chewelah.org
SUMMARY:Women's Bible Study
DESCRIPTION:
URL:https://chewelah.org/event/womens-bible-study/2030-01-16/
LOCATION:Chewelah Senior Center
CATEGORIES:Fall Events,Senior Event,Spring Events,Summer Events,Winter Events
END:VEVENT
BEGIN:VEVENT
DTSTART;TZID=America/Los_Angeles:20300121T103000
DTEND;TZID=America/Los_Angeles:20300121T120000
DTSTAMP:20260425T090425
CREATED:20260109T190814Z
LAST-MODIFIED:20260109T190814Z
UID:10044033-1895221800-1895227200@chewelah.org
SUMMARY:Social Hour
DESCRIPTION:
URL:https://chewelah.org/event/social-hour/2030-01-21/
LOCATION:Chewelah Senior Center
CATEGORIES:Fall Events,Senior Event,Spring Events,Summer Events,Winter Events
END:VEVENT
BEGIN:VEVENT
DTSTART;TZID=America/Los_Angeles:20300123T120000
DTEND;TZID=America/Los_Angeles:20300123T140000
DTSTAMP:20260425T090425
CREATED:20260109T190918Z
LAST-MODIFIED:20260109T190918Z
UID:10044294-1895400000-1895407200@chewelah.org
SUMMARY:Women's Bible Study
DESCRIPTION:
URL:https://chewelah.org/event/womens-bible-study/2030-01-23/
LOCATION:Chewelah Senior Center
CATEGORIES:Fall Events,Senior Event,Spring Events,Summer Events,Winter Events
END:VEVENT
BEGIN:VEVENT
DTSTART;TZID=America/Los_Angeles:20300128T103000
DTEND;TZID=America/Los_Angeles:20300128T120000
DTSTAMP:20260425T090425
CREATED:20260109T190814Z
LAST-MODIFIED:20260109T190814Z
UID:10044034-1895826600-1895832000@chewelah.org
SUMMARY:Social Hour
DESCRIPTION:
URL:https://chewelah.org/event/social-hour/2030-01-28/
LOCATION:Chewelah Senior Center
CATEGORIES:Fall Events,Senior Event,Spring Events,Summer Events,Winter Events
END:VEVENT
BEGIN:VEVENT
DTSTART;TZID=America/Los_Angeles:20300130T120000
DTEND;TZID=America/Los_Angeles:20300130T140000
DTSTAMP:20260425T090425
CREATED:20260109T190918Z
LAST-MODIFIED:20260109T190918Z
UID:10044295-1896004800-1896012000@chewelah.org
SUMMARY:Women's Bible Study
DESCRIPTION:
URL:https://chewelah.org/event/womens-bible-study/2030-01-30/
LOCATION:Chewelah Senior Center
CATEGORIES:Fall Events,Senior Event,Spring Events,Summer Events,Winter Events
END:VEVENT
BEGIN:VEVENT
DTSTART;TZID=America/Los_Angeles:20300204T103000
DTEND;TZID=America/Los_Angeles:20300204T120000
DTSTAMP:20260425T090426
CREATED:20260109T190814Z
LAST-MODIFIED:20260109T190814Z
UID:10044035-1896431400-1896436800@chewelah.org
SUMMARY:Social Hour
DESCRIPTION:
URL:https://chewelah.org/event/social-hour/2030-02-04/
LOCATION:Chewelah Senior Center
CATEGORIES:Fall Events,Senior Event,Spring Events,Summer Events,Winter Events
END:VEVENT
BEGIN:VEVENT
DTSTART;TZID=America/Los_Angeles:20300206T120000
DTEND;TZID=America/Los_Angeles:20300206T140000
DTSTAMP:20260425T090426
CREATED:20260109T190918Z
LAST-MODIFIED:20260109T190918Z
UID:10044296-1896609600-1896616800@chewelah.org
SUMMARY:Women's Bible Study
DESCRIPTION:
URL:https://chewelah.org/event/womens-bible-study/2030-02-06/
LOCATION:Chewelah Senior Center
CATEGORIES:Fall Events,Senior Event,Spring Events,Summer Events,Winter Events
END:VEVENT
BEGIN:VEVENT
DTSTART;TZID=America/Los_Angeles:20300211T103000
DTEND;TZID=America/Los_Angeles:20300211T120000
DTSTAMP:20260425T090426
CREATED:20260109T190814Z
LAST-MODIFIED:20260109T190814Z
UID:10044036-1897036200-1897041600@chewelah.org
SUMMARY:Social Hour
DESCRIPTION:
URL:https://chewelah.org/event/social-hour/2030-02-11/
LOCATION:Chewelah Senior Center
CATEGORIES:Fall Events,Senior Event,Spring Events,Summer Events,Winter Events
END:VEVENT
BEGIN:VEVENT
DTSTART;TZID=America/Los_Angeles:20300213T120000
DTEND;TZID=America/Los_Angeles:20300213T140000
DTSTAMP:20260425T090426
CREATED:20260109T190918Z
LAST-MODIFIED:20260109T190918Z
UID:10044297-1897214400-1897221600@chewelah.org
SUMMARY:Women's Bible Study
DESCRIPTION:
URL:https://chewelah.org/event/womens-bible-study/2030-02-13/
LOCATION:Chewelah Senior Center
CATEGORIES:Fall Events,Senior Event,Spring Events,Summer Events,Winter Events
END:VEVENT
BEGIN:VEVENT
DTSTART;TZID=America/Los_Angeles:20300218T103000
DTEND;TZID=America/Los_Angeles:20300218T120000
DTSTAMP:20260425T090426
CREATED:20260109T190814Z
LAST-MODIFIED:20260109T190814Z
UID:10044037-1897641000-1897646400@chewelah.org
SUMMARY:Social Hour
DESCRIPTION:
URL:https://chewelah.org/event/social-hour/2030-02-18/
LOCATION:Chewelah Senior Center
CATEGORIES:Fall Events,Senior Event,Spring Events,Summer Events,Winter Events
END:VEVENT
BEGIN:VEVENT
DTSTART;TZID=America/Los_Angeles:20300220T120000
DTEND;TZID=America/Los_Angeles:20300220T140000
DTSTAMP:20260425T090426
CREATED:20260109T190918Z
LAST-MODIFIED:20260109T190918Z
UID:10044298-1897819200-1897826400@chewelah.org
SUMMARY:Women's Bible Study
DESCRIPTION:
URL:https://chewelah.org/event/womens-bible-study/2030-02-20/
LOCATION:Chewelah Senior Center
CATEGORIES:Fall Events,Senior Event,Spring Events,Summer Events,Winter Events
END:VEVENT
BEGIN:VEVENT
DTSTART;TZID=America/Los_Angeles:20300225T103000
DTEND;TZID=America/Los_Angeles:20300225T120000
DTSTAMP:20260425T090426
CREATED:20260109T190814Z
LAST-MODIFIED:20260109T190814Z
UID:10044038-1898245800-1898251200@chewelah.org
SUMMARY:Social Hour
DESCRIPTION:
URL:https://chewelah.org/event/social-hour/2030-02-25/
LOCATION:Chewelah Senior Center
CATEGORIES:Fall Events,Senior Event,Spring Events,Summer Events,Winter Events
END:VEVENT
BEGIN:VEVENT
DTSTART;TZID=America/Los_Angeles:20300227T120000
DTEND;TZID=America/Los_Angeles:20300227T140000
DTSTAMP:20260425T090426
CREATED:20260109T190918Z
LAST-MODIFIED:20260109T190918Z
UID:10044299-1898424000-1898431200@chewelah.org
SUMMARY:Women's Bible Study
DESCRIPTION:
URL:https://chewelah.org/event/womens-bible-study/2030-02-27/
LOCATION:Chewelah Senior Center
CATEGORIES:Fall Events,Senior Event,Spring Events,Summer Events,Winter Events
END:VEVENT
BEGIN:VEVENT
DTSTART;TZID=America/Los_Angeles:20300304T103000
DTEND;TZID=America/Los_Angeles:20300304T120000
DTSTAMP:20260425T090426
CREATED:20260109T190814Z
LAST-MODIFIED:20260109T190814Z
UID:10044039-1898850600-1898856000@chewelah.org
SUMMARY:Social Hour
DESCRIPTION:
URL:https://chewelah.org/event/social-hour/2030-03-04/
LOCATION:Chewelah Senior Center
CATEGORIES:Fall Events,Senior Event,Spring Events,Summer Events,Winter Events
END:VEVENT
BEGIN:VEVENT
DTSTART;TZID=America/Los_Angeles:20300306T120000
DTEND;TZID=America/Los_Angeles:20300306T140000
DTSTAMP:20260425T090426
CREATED:20260109T190918Z
LAST-MODIFIED:20260109T190918Z
UID:10044300-1899028800-1899036000@chewelah.org
SUMMARY:Women's Bible Study
DESCRIPTION:
URL:https://chewelah.org/event/womens-bible-study/2030-03-06/
LOCATION:Chewelah Senior Center
CATEGORIES:Fall Events,Senior Event,Spring Events,Summer Events,Winter Events
END:VEVENT
BEGIN:VEVENT
DTSTART;TZID=America/Los_Angeles:20300311T103000
DTEND;TZID=America/Los_Angeles:20300311T120000
DTSTAMP:20260425T090426
CREATED:20260109T190814Z
LAST-MODIFIED:20260109T190814Z
UID:10044040-1899455400-1899460800@chewelah.org
SUMMARY:Social Hour
DESCRIPTION:
URL:https://chewelah.org/event/social-hour/2030-03-11/
LOCATION:Chewelah Senior Center
CATEGORIES:Fall Events,Senior Event,Spring Events,Summer Events,Winter Events
END:VEVENT
END:VCALENDAR