BEGIN:VCALENDAR
VERSION:2.0
PRODID:-//Chewelah Chamber of Commerce - ECPv6.15.20//NONSGML v1.0//EN
CALSCALE:GREGORIAN
METHOD:PUBLISH
X-ORIGINAL-URL:https://chewelah.org
X-WR-CALDESC:Events for Chewelah Chamber of Commerce
REFRESH-INTERVAL;VALUE=DURATION:PT1H
X-Robots-Tag:noindex
X-PUBLISHED-TTL:PT1H
BEGIN:VTIMEZONE
TZID:America/Los_Angeles
BEGIN:DAYLIGHT
TZOFFSETFROM:-0800
TZOFFSETTO:-0700
TZNAME:PDT
DTSTART:20270314T100000
END:DAYLIGHT
BEGIN:STANDARD
TZOFFSETFROM:-0700
TZOFFSETTO:-0800
TZNAME:PST
DTSTART:20271107T090000
END:STANDARD
BEGIN:DAYLIGHT
TZOFFSETFROM:-0800
TZOFFSETTO:-0700
TZNAME:PDT
DTSTART:20280312T100000
END:DAYLIGHT
BEGIN:STANDARD
TZOFFSETFROM:-0700
TZOFFSETTO:-0800
TZNAME:PST
DTSTART:20281105T090000
END:STANDARD
BEGIN:DAYLIGHT
TZOFFSETFROM:-0800
TZOFFSETTO:-0700
TZNAME:PDT
DTSTART:20290311T100000
END:DAYLIGHT
BEGIN:STANDARD
TZOFFSETFROM:-0700
TZOFFSETTO:-0800
TZNAME:PST
DTSTART:20291104T090000
END:STANDARD
END:VTIMEZONE
BEGIN:VEVENT
DTSTART;TZID=America/Los_Angeles:20280725T103000
DTEND;TZID=America/Los_Angeles:20280725T113000
DTSTAMP:20260422T145355
CREATED:20240711T193910Z
LAST-MODIFIED:20240711T193910Z
UID:10038461-1848133800-1848137400@chewelah.org
SUMMARY:Chewelah Library Story Time
DESCRIPTION:
URL:https://chewelah.org/event/chewelah-library-story-time-2/2028-07-25/
LOCATION:Chewelah Public Library\, 311 E Clay\, Chewelah\, WA\, 99109\, United States
CATEGORIES:Family Friendly
END:VEVENT
BEGIN:VEVENT
DTSTART;TZID=America/Los_Angeles:20280726T120000
DTEND;TZID=America/Los_Angeles:20280726T140000
DTSTAMP:20260422T145355
CREATED:20260109T190918Z
LAST-MODIFIED:20260109T190918Z
UID:10044216-1848225600-1848232800@chewelah.org
SUMMARY:Women's Bible Study
DESCRIPTION:
URL:https://chewelah.org/event/womens-bible-study/2028-07-26/
LOCATION:Chewelah Senior Center
CATEGORIES:Fall Events,Senior Event,Spring Events,Summer Events,Winter Events
END:VEVENT
BEGIN:VEVENT
DTSTART;TZID=America/Los_Angeles:20280731T103000
DTEND;TZID=America/Los_Angeles:20280731T120000
DTSTAMP:20260422T145355
CREATED:20260109T190814Z
LAST-MODIFIED:20260109T190814Z
UID:10043956-1848652200-1848657600@chewelah.org
SUMMARY:Social Hour
DESCRIPTION:
URL:https://chewelah.org/event/social-hour/2028-07-31/
LOCATION:Chewelah Senior Center
CATEGORIES:Fall Events,Senior Event,Spring Events,Summer Events,Winter Events
END:VEVENT
BEGIN:VEVENT
DTSTART;TZID=America/Los_Angeles:20280801T103000
DTEND;TZID=America/Los_Angeles:20280801T113000
DTSTAMP:20260422T145355
CREATED:20240711T193910Z
LAST-MODIFIED:20240711T193910Z
UID:10038462-1848738600-1848742200@chewelah.org
SUMMARY:Chewelah Library Story Time
DESCRIPTION:
URL:https://chewelah.org/event/chewelah-library-story-time-2/2028-08-01/
LOCATION:Chewelah Public Library\, 311 E Clay\, Chewelah\, WA\, 99109\, United States
CATEGORIES:Family Friendly
END:VEVENT
BEGIN:VEVENT
DTSTART;TZID=America/Los_Angeles:20280802T120000
DTEND;TZID=America/Los_Angeles:20280802T140000
DTSTAMP:20260422T145355
CREATED:20260109T190918Z
LAST-MODIFIED:20260109T190918Z
UID:10044217-1848830400-1848837600@chewelah.org
SUMMARY:Women's Bible Study
DESCRIPTION:
URL:https://chewelah.org/event/womens-bible-study/2028-08-02/
LOCATION:Chewelah Senior Center
CATEGORIES:Fall Events,Senior Event,Spring Events,Summer Events,Winter Events
END:VEVENT
BEGIN:VEVENT
DTSTART;TZID=America/Los_Angeles:20280807T103000
DTEND;TZID=America/Los_Angeles:20280807T120000
DTSTAMP:20260422T145355
CREATED:20260109T190814Z
LAST-MODIFIED:20260109T190814Z
UID:10043957-1849257000-1849262400@chewelah.org
SUMMARY:Social Hour
DESCRIPTION:
URL:https://chewelah.org/event/social-hour/2028-08-07/
LOCATION:Chewelah Senior Center
CATEGORIES:Fall Events,Senior Event,Spring Events,Summer Events,Winter Events
END:VEVENT
BEGIN:VEVENT
DTSTART;TZID=America/Los_Angeles:20280808T103000
DTEND;TZID=America/Los_Angeles:20280808T113000
DTSTAMP:20260422T145355
CREATED:20240711T193910Z
LAST-MODIFIED:20240711T193910Z
UID:10038463-1849343400-1849347000@chewelah.org
SUMMARY:Chewelah Library Story Time
DESCRIPTION:
URL:https://chewelah.org/event/chewelah-library-story-time-2/2028-08-08/
LOCATION:Chewelah Public Library\, 311 E Clay\, Chewelah\, WA\, 99109\, United States
CATEGORIES:Family Friendly
END:VEVENT
BEGIN:VEVENT
DTSTART;TZID=America/Los_Angeles:20280809T120000
DTEND;TZID=America/Los_Angeles:20280809T140000
DTSTAMP:20260422T145356
CREATED:20260109T190918Z
LAST-MODIFIED:20260109T190918Z
UID:10044218-1849435200-1849442400@chewelah.org
SUMMARY:Women's Bible Study
DESCRIPTION:
URL:https://chewelah.org/event/womens-bible-study/2028-08-09/
LOCATION:Chewelah Senior Center
CATEGORIES:Fall Events,Senior Event,Spring Events,Summer Events,Winter Events
END:VEVENT
BEGIN:VEVENT
DTSTART;TZID=America/Los_Angeles:20280814T103000
DTEND;TZID=America/Los_Angeles:20280814T120000
DTSTAMP:20260422T145356
CREATED:20260109T190814Z
LAST-MODIFIED:20260109T190814Z
UID:10043958-1849861800-1849867200@chewelah.org
SUMMARY:Social Hour
DESCRIPTION:
URL:https://chewelah.org/event/social-hour/2028-08-14/
LOCATION:Chewelah Senior Center
CATEGORIES:Fall Events,Senior Event,Spring Events,Summer Events,Winter Events
END:VEVENT
BEGIN:VEVENT
DTSTART;TZID=America/Los_Angeles:20280815T103000
DTEND;TZID=America/Los_Angeles:20280815T113000
DTSTAMP:20260422T145356
CREATED:20240711T193910Z
LAST-MODIFIED:20240711T193910Z
UID:10038464-1849948200-1849951800@chewelah.org
SUMMARY:Chewelah Library Story Time
DESCRIPTION:
URL:https://chewelah.org/event/chewelah-library-story-time-2/2028-08-15/
LOCATION:Chewelah Public Library\, 311 E Clay\, Chewelah\, WA\, 99109\, United States
CATEGORIES:Family Friendly
END:VEVENT
BEGIN:VEVENT
DTSTART;TZID=America/Los_Angeles:20280816T120000
DTEND;TZID=America/Los_Angeles:20280816T140000
DTSTAMP:20260422T145356
CREATED:20260109T190918Z
LAST-MODIFIED:20260109T190918Z
UID:10044219-1850040000-1850047200@chewelah.org
SUMMARY:Women's Bible Study
DESCRIPTION:
URL:https://chewelah.org/event/womens-bible-study/2028-08-16/
LOCATION:Chewelah Senior Center
CATEGORIES:Fall Events,Senior Event,Spring Events,Summer Events,Winter Events
END:VEVENT
BEGIN:VEVENT
DTSTART;TZID=America/Los_Angeles:20280817T100000
DTEND;TZID=America/Los_Angeles:20280817T150000
DTSTAMP:20260422T145356
CREATED:20240307T220842Z
LAST-MODIFIED:20240314T164849Z
UID:10039620-1850119200-1850137200@chewelah.org
SUMMARY:Senior Citizens Potluck & Games
DESCRIPTION:Senior Citizens from Chewelah\, Valley\, & Springdale  are invited to join us the \n1st and 3rd Thursday of each month. \nFor games and potluck from 10:00 am to 3:00 pm \nPlace: Valley Fire department building \n 
URL:https://chewelah.org/event/senior-citizens-potluck-games/2028-08-17/
LOCATION:Stevens County Fire Dist. 4\, 3060 3rd Ave.\, Valley\, WA\, 99181\, United States
CATEGORIES:Community Event,Family Friendly
END:VEVENT
BEGIN:VEVENT
DTSTART;TZID=America/Los_Angeles:20280821T103000
DTEND;TZID=America/Los_Angeles:20280821T120000
DTSTAMP:20260422T145356
CREATED:20260109T190814Z
LAST-MODIFIED:20260109T190814Z
UID:10043959-1850466600-1850472000@chewelah.org
SUMMARY:Social Hour
DESCRIPTION:
URL:https://chewelah.org/event/social-hour/2028-08-21/
LOCATION:Chewelah Senior Center
CATEGORIES:Fall Events,Senior Event,Spring Events,Summer Events,Winter Events
END:VEVENT
BEGIN:VEVENT
DTSTART;TZID=America/Los_Angeles:20280822T103000
DTEND;TZID=America/Los_Angeles:20280822T113000
DTSTAMP:20260422T145356
CREATED:20240711T193910Z
LAST-MODIFIED:20240711T193910Z
UID:10038465-1850553000-1850556600@chewelah.org
SUMMARY:Chewelah Library Story Time
DESCRIPTION:
URL:https://chewelah.org/event/chewelah-library-story-time-2/2028-08-22/
LOCATION:Chewelah Public Library\, 311 E Clay\, Chewelah\, WA\, 99109\, United States
CATEGORIES:Family Friendly
END:VEVENT
BEGIN:VEVENT
DTSTART;TZID=America/Los_Angeles:20280823T120000
DTEND;TZID=America/Los_Angeles:20280823T140000
DTSTAMP:20260422T145356
CREATED:20260109T190918Z
LAST-MODIFIED:20260109T190918Z
UID:10044220-1850644800-1850652000@chewelah.org
SUMMARY:Women's Bible Study
DESCRIPTION:
URL:https://chewelah.org/event/womens-bible-study/2028-08-23/
LOCATION:Chewelah Senior Center
CATEGORIES:Fall Events,Senior Event,Spring Events,Summer Events,Winter Events
END:VEVENT
BEGIN:VEVENT
DTSTART;TZID=America/Los_Angeles:20280828T103000
DTEND;TZID=America/Los_Angeles:20280828T120000
DTSTAMP:20260422T145356
CREATED:20260109T190814Z
LAST-MODIFIED:20260109T190814Z
UID:10043960-1851071400-1851076800@chewelah.org
SUMMARY:Social Hour
DESCRIPTION:
URL:https://chewelah.org/event/social-hour/2028-08-28/
LOCATION:Chewelah Senior Center
CATEGORIES:Fall Events,Senior Event,Spring Events,Summer Events,Winter Events
END:VEVENT
BEGIN:VEVENT
DTSTART;TZID=America/Los_Angeles:20280829T103000
DTEND;TZID=America/Los_Angeles:20280829T113000
DTSTAMP:20260422T145356
CREATED:20240711T193910Z
LAST-MODIFIED:20240711T193910Z
UID:10038466-1851157800-1851161400@chewelah.org
SUMMARY:Chewelah Library Story Time
DESCRIPTION:
URL:https://chewelah.org/event/chewelah-library-story-time-2/2028-08-29/
LOCATION:Chewelah Public Library\, 311 E Clay\, Chewelah\, WA\, 99109\, United States
CATEGORIES:Family Friendly
END:VEVENT
BEGIN:VEVENT
DTSTART;TZID=America/Los_Angeles:20280830T120000
DTEND;TZID=America/Los_Angeles:20280830T140000
DTSTAMP:20260422T145356
CREATED:20260109T190918Z
LAST-MODIFIED:20260109T190918Z
UID:10044221-1851249600-1851256800@chewelah.org
SUMMARY:Women's Bible Study
DESCRIPTION:
URL:https://chewelah.org/event/womens-bible-study/2028-08-30/
LOCATION:Chewelah Senior Center
CATEGORIES:Fall Events,Senior Event,Spring Events,Summer Events,Winter Events
END:VEVENT
BEGIN:VEVENT
DTSTART;TZID=America/Los_Angeles:20280904T103000
DTEND;TZID=America/Los_Angeles:20280904T120000
DTSTAMP:20260422T145356
CREATED:20260109T190814Z
LAST-MODIFIED:20260109T190814Z
UID:10043961-1851676200-1851681600@chewelah.org
SUMMARY:Social Hour
DESCRIPTION:
URL:https://chewelah.org/event/social-hour/2028-09-04/
LOCATION:Chewelah Senior Center
CATEGORIES:Fall Events,Senior Event,Spring Events,Summer Events,Winter Events
END:VEVENT
BEGIN:VEVENT
DTSTART;TZID=America/Los_Angeles:20280905T103000
DTEND;TZID=America/Los_Angeles:20280905T113000
DTSTAMP:20260422T145356
CREATED:20240711T193910Z
LAST-MODIFIED:20240711T193910Z
UID:10038467-1851762600-1851766200@chewelah.org
SUMMARY:Chewelah Library Story Time
DESCRIPTION:
URL:https://chewelah.org/event/chewelah-library-story-time-2/2028-09-05/
LOCATION:Chewelah Public Library\, 311 E Clay\, Chewelah\, WA\, 99109\, United States
CATEGORIES:Family Friendly
END:VEVENT
BEGIN:VEVENT
DTSTART;TZID=America/Los_Angeles:20280906T120000
DTEND;TZID=America/Los_Angeles:20280906T140000
DTSTAMP:20260422T145356
CREATED:20260109T190918Z
LAST-MODIFIED:20260109T190918Z
UID:10044222-1851854400-1851861600@chewelah.org
SUMMARY:Women's Bible Study
DESCRIPTION:
URL:https://chewelah.org/event/womens-bible-study/2028-09-06/
LOCATION:Chewelah Senior Center
CATEGORIES:Fall Events,Senior Event,Spring Events,Summer Events,Winter Events
END:VEVENT
BEGIN:VEVENT
DTSTART;TZID=America/Los_Angeles:20280911T103000
DTEND;TZID=America/Los_Angeles:20280911T120000
DTSTAMP:20260422T145356
CREATED:20260109T190814Z
LAST-MODIFIED:20260109T190814Z
UID:10043962-1852281000-1852286400@chewelah.org
SUMMARY:Social Hour
DESCRIPTION:
URL:https://chewelah.org/event/social-hour/2028-09-11/
LOCATION:Chewelah Senior Center
CATEGORIES:Fall Events,Senior Event,Spring Events,Summer Events,Winter Events
END:VEVENT
BEGIN:VEVENT
DTSTART;TZID=America/Los_Angeles:20280912T103000
DTEND;TZID=America/Los_Angeles:20280912T113000
DTSTAMP:20260422T145356
CREATED:20240711T193910Z
LAST-MODIFIED:20240711T193910Z
UID:10039094-1852367400-1852371000@chewelah.org
SUMMARY:Chewelah Library Story Time
DESCRIPTION:
URL:https://chewelah.org/event/chewelah-library-story-time-2/2028-09-12/
LOCATION:Chewelah Public Library\, 311 E Clay\, Chewelah\, WA\, 99109\, United States
CATEGORIES:Family Friendly
END:VEVENT
BEGIN:VEVENT
DTSTART;TZID=America/Los_Angeles:20280913T120000
DTEND;TZID=America/Los_Angeles:20280913T140000
DTSTAMP:20260422T145356
CREATED:20260109T190918Z
LAST-MODIFIED:20260109T190918Z
UID:10044223-1852459200-1852466400@chewelah.org
SUMMARY:Women's Bible Study
DESCRIPTION:
URL:https://chewelah.org/event/womens-bible-study/2028-09-13/
LOCATION:Chewelah Senior Center
CATEGORIES:Fall Events,Senior Event,Spring Events,Summer Events,Winter Events
END:VEVENT
BEGIN:VEVENT
DTSTART;TZID=America/Los_Angeles:20280918T103000
DTEND;TZID=America/Los_Angeles:20280918T120000
DTSTAMP:20260422T145356
CREATED:20260109T190814Z
LAST-MODIFIED:20260109T190814Z
UID:10043963-1852885800-1852891200@chewelah.org
SUMMARY:Social Hour
DESCRIPTION:
URL:https://chewelah.org/event/social-hour/2028-09-18/
LOCATION:Chewelah Senior Center
CATEGORIES:Fall Events,Senior Event,Spring Events,Summer Events,Winter Events
END:VEVENT
BEGIN:VEVENT
DTSTART;TZID=America/Los_Angeles:20280919T103000
DTEND;TZID=America/Los_Angeles:20280919T113000
DTSTAMP:20260422T145356
CREATED:20240711T193910Z
LAST-MODIFIED:20240711T193910Z
UID:10039095-1852972200-1852975800@chewelah.org
SUMMARY:Chewelah Library Story Time
DESCRIPTION:
URL:https://chewelah.org/event/chewelah-library-story-time-2/2028-09-19/
LOCATION:Chewelah Public Library\, 311 E Clay\, Chewelah\, WA\, 99109\, United States
CATEGORIES:Family Friendly
END:VEVENT
BEGIN:VEVENT
DTSTART;TZID=America/Los_Angeles:20280920T120000
DTEND;TZID=America/Los_Angeles:20280920T140000
DTSTAMP:20260422T145356
CREATED:20260109T190918Z
LAST-MODIFIED:20260109T190918Z
UID:10044224-1853064000-1853071200@chewelah.org
SUMMARY:Women's Bible Study
DESCRIPTION:
URL:https://chewelah.org/event/womens-bible-study/2028-09-20/
LOCATION:Chewelah Senior Center
CATEGORIES:Fall Events,Senior Event,Spring Events,Summer Events,Winter Events
END:VEVENT
BEGIN:VEVENT
DTSTART;TZID=America/Los_Angeles:20280921T100000
DTEND;TZID=America/Los_Angeles:20280921T150000
DTSTAMP:20260422T145356
CREATED:20240307T220842Z
LAST-MODIFIED:20240314T164849Z
UID:10039621-1853143200-1853161200@chewelah.org
SUMMARY:Senior Citizens Potluck & Games
DESCRIPTION:Senior Citizens from Chewelah\, Valley\, & Springdale  are invited to join us the \n1st and 3rd Thursday of each month. \nFor games and potluck from 10:00 am to 3:00 pm \nPlace: Valley Fire department building \n 
URL:https://chewelah.org/event/senior-citizens-potluck-games/2028-09-21/
LOCATION:Stevens County Fire Dist. 4\, 3060 3rd Ave.\, Valley\, WA\, 99181\, United States
CATEGORIES:Community Event,Family Friendly
END:VEVENT
BEGIN:VEVENT
DTSTART;TZID=America/Los_Angeles:20280925T103000
DTEND;TZID=America/Los_Angeles:20280925T120000
DTSTAMP:20260422T145356
CREATED:20260109T190814Z
LAST-MODIFIED:20260109T190814Z
UID:10043964-1853490600-1853496000@chewelah.org
SUMMARY:Social Hour
DESCRIPTION:
URL:https://chewelah.org/event/social-hour/2028-09-25/
LOCATION:Chewelah Senior Center
CATEGORIES:Fall Events,Senior Event,Spring Events,Summer Events,Winter Events
END:VEVENT
BEGIN:VEVENT
DTSTART;TZID=America/Los_Angeles:20280926T103000
DTEND;TZID=America/Los_Angeles:20280926T113000
DTSTAMP:20260422T145356
CREATED:20240711T193910Z
LAST-MODIFIED:20240711T193910Z
UID:10039096-1853577000-1853580600@chewelah.org
SUMMARY:Chewelah Library Story Time
DESCRIPTION:
URL:https://chewelah.org/event/chewelah-library-story-time-2/2028-09-26/
LOCATION:Chewelah Public Library\, 311 E Clay\, Chewelah\, WA\, 99109\, United States
CATEGORIES:Family Friendly
END:VEVENT
END:VCALENDAR