BEGIN:VCALENDAR
VERSION:2.0
PRODID:-//Chewelah Chamber of Commerce - ECPv6.15.20//NONSGML v1.0//EN
CALSCALE:GREGORIAN
METHOD:PUBLISH
X-ORIGINAL-URL:https://chewelah.org
X-WR-CALDESC:Events for Chewelah Chamber of Commerce
REFRESH-INTERVAL;VALUE=DURATION:PT1H
X-Robots-Tag:noindex
X-PUBLISHED-TTL:PT1H
BEGIN:VTIMEZONE
TZID:America/Los_Angeles
BEGIN:DAYLIGHT
TZOFFSETFROM:-0800
TZOFFSETTO:-0700
TZNAME:PDT
DTSTART:20290311T100000
END:DAYLIGHT
BEGIN:STANDARD
TZOFFSETFROM:-0700
TZOFFSETTO:-0800
TZNAME:PST
DTSTART:20291104T090000
END:STANDARD
BEGIN:DAYLIGHT
TZOFFSETFROM:-0800
TZOFFSETTO:-0700
TZNAME:PDT
DTSTART:20300310T100000
END:DAYLIGHT
BEGIN:STANDARD
TZOFFSETFROM:-0700
TZOFFSETTO:-0800
TZNAME:PST
DTSTART:20301103T090000
END:STANDARD
BEGIN:DAYLIGHT
TZOFFSETFROM:-0800
TZOFFSETTO:-0700
TZNAME:PDT
DTSTART:20310309T100000
END:DAYLIGHT
BEGIN:STANDARD
TZOFFSETFROM:-0700
TZOFFSETTO:-0800
TZNAME:PST
DTSTART:20311102T090000
END:STANDARD
END:VTIMEZONE
BEGIN:VEVENT
DTSTART;TZID=America/Los_Angeles:20300612T120000
DTEND;TZID=America/Los_Angeles:20300612T140000
DTSTAMP:20260425T081915
CREATED:20260109T190918Z
LAST-MODIFIED:20260109T190918Z
UID:10044314-1907496000-1907503200@chewelah.org
SUMMARY:Women's Bible Study
DESCRIPTION:
URL:https://chewelah.org/event/womens-bible-study/2030-06-12/
LOCATION:Chewelah Senior Center
CATEGORIES:Fall Events,Senior Event,Spring Events,Summer Events,Winter Events
END:VEVENT
BEGIN:VEVENT
DTSTART;TZID=America/Los_Angeles:20300617T103000
DTEND;TZID=America/Los_Angeles:20300617T120000
DTSTAMP:20260425T081915
CREATED:20260109T190814Z
LAST-MODIFIED:20260109T190814Z
UID:10044054-1907922600-1907928000@chewelah.org
SUMMARY:Social Hour
DESCRIPTION:
URL:https://chewelah.org/event/social-hour/2030-06-17/
LOCATION:Chewelah Senior Center
CATEGORIES:Fall Events,Senior Event,Spring Events,Summer Events,Winter Events
END:VEVENT
BEGIN:VEVENT
DTSTART;TZID=America/Los_Angeles:20300619T120000
DTEND;TZID=America/Los_Angeles:20300619T140000
DTSTAMP:20260425T081915
CREATED:20260109T190918Z
LAST-MODIFIED:20260109T190918Z
UID:10044315-1908100800-1908108000@chewelah.org
SUMMARY:Women's Bible Study
DESCRIPTION:
URL:https://chewelah.org/event/womens-bible-study/2030-06-19/
LOCATION:Chewelah Senior Center
CATEGORIES:Fall Events,Senior Event,Spring Events,Summer Events,Winter Events
END:VEVENT
BEGIN:VEVENT
DTSTART;TZID=America/Los_Angeles:20300624T103000
DTEND;TZID=America/Los_Angeles:20300624T120000
DTSTAMP:20260425T081915
CREATED:20260109T190814Z
LAST-MODIFIED:20260109T190814Z
UID:10044055-1908527400-1908532800@chewelah.org
SUMMARY:Social Hour
DESCRIPTION:
URL:https://chewelah.org/event/social-hour/2030-06-24/
LOCATION:Chewelah Senior Center
CATEGORIES:Fall Events,Senior Event,Spring Events,Summer Events,Winter Events
END:VEVENT
BEGIN:VEVENT
DTSTART;TZID=America/Los_Angeles:20300626T120000
DTEND;TZID=America/Los_Angeles:20300626T140000
DTSTAMP:20260425T081915
CREATED:20260109T190918Z
LAST-MODIFIED:20260109T190918Z
UID:10044316-1908705600-1908712800@chewelah.org
SUMMARY:Women's Bible Study
DESCRIPTION:
URL:https://chewelah.org/event/womens-bible-study/2030-06-26/
LOCATION:Chewelah Senior Center
CATEGORIES:Fall Events,Senior Event,Spring Events,Summer Events,Winter Events
END:VEVENT
BEGIN:VEVENT
DTSTART;TZID=America/Los_Angeles:20300701T103000
DTEND;TZID=America/Los_Angeles:20300701T120000
DTSTAMP:20260425T081915
CREATED:20260109T190814Z
LAST-MODIFIED:20260109T190814Z
UID:10044056-1909132200-1909137600@chewelah.org
SUMMARY:Social Hour
DESCRIPTION:
URL:https://chewelah.org/event/social-hour/2030-07-01/
LOCATION:Chewelah Senior Center
CATEGORIES:Fall Events,Senior Event,Spring Events,Summer Events,Winter Events
END:VEVENT
BEGIN:VEVENT
DTSTART;TZID=America/Los_Angeles:20300703T120000
DTEND;TZID=America/Los_Angeles:20300703T140000
DTSTAMP:20260425T081916
CREATED:20260109T190918Z
LAST-MODIFIED:20260109T190918Z
UID:10044317-1909310400-1909317600@chewelah.org
SUMMARY:Women's Bible Study
DESCRIPTION:
URL:https://chewelah.org/event/womens-bible-study/2030-07-03/
LOCATION:Chewelah Senior Center
CATEGORIES:Fall Events,Senior Event,Spring Events,Summer Events,Winter Events
END:VEVENT
BEGIN:VEVENT
DTSTART;TZID=America/Los_Angeles:20300708T103000
DTEND;TZID=America/Los_Angeles:20300708T120000
DTSTAMP:20260425T081916
CREATED:20260109T190814Z
LAST-MODIFIED:20260109T190814Z
UID:10044057-1909737000-1909742400@chewelah.org
SUMMARY:Social Hour
DESCRIPTION:
URL:https://chewelah.org/event/social-hour/2030-07-08/
LOCATION:Chewelah Senior Center
CATEGORIES:Fall Events,Senior Event,Spring Events,Summer Events,Winter Events
END:VEVENT
BEGIN:VEVENT
DTSTART;TZID=America/Los_Angeles:20300710T120000
DTEND;TZID=America/Los_Angeles:20300710T140000
DTSTAMP:20260425T081916
CREATED:20260109T190918Z
LAST-MODIFIED:20260109T190918Z
UID:10044318-1909915200-1909922400@chewelah.org
SUMMARY:Women's Bible Study
DESCRIPTION:
URL:https://chewelah.org/event/womens-bible-study/2030-07-10/
LOCATION:Chewelah Senior Center
CATEGORIES:Fall Events,Senior Event,Spring Events,Summer Events,Winter Events
END:VEVENT
BEGIN:VEVENT
DTSTART;TZID=America/Los_Angeles:20300715T103000
DTEND;TZID=America/Los_Angeles:20300715T120000
DTSTAMP:20260425T081916
CREATED:20260109T190814Z
LAST-MODIFIED:20260109T190814Z
UID:10044058-1910341800-1910347200@chewelah.org
SUMMARY:Social Hour
DESCRIPTION:
URL:https://chewelah.org/event/social-hour/2030-07-15/
LOCATION:Chewelah Senior Center
CATEGORIES:Fall Events,Senior Event,Spring Events,Summer Events,Winter Events
END:VEVENT
BEGIN:VEVENT
DTSTART;TZID=America/Los_Angeles:20300717T120000
DTEND;TZID=America/Los_Angeles:20300717T140000
DTSTAMP:20260425T081916
CREATED:20260109T190918Z
LAST-MODIFIED:20260109T190918Z
UID:10044319-1910520000-1910527200@chewelah.org
SUMMARY:Women's Bible Study
DESCRIPTION:
URL:https://chewelah.org/event/womens-bible-study/2030-07-17/
LOCATION:Chewelah Senior Center
CATEGORIES:Fall Events,Senior Event,Spring Events,Summer Events,Winter Events
END:VEVENT
BEGIN:VEVENT
DTSTART;TZID=America/Los_Angeles:20300722T103000
DTEND;TZID=America/Los_Angeles:20300722T120000
DTSTAMP:20260425T081916
CREATED:20260109T190814Z
LAST-MODIFIED:20260109T190814Z
UID:10044059-1910946600-1910952000@chewelah.org
SUMMARY:Social Hour
DESCRIPTION:
URL:https://chewelah.org/event/social-hour/2030-07-22/
LOCATION:Chewelah Senior Center
CATEGORIES:Fall Events,Senior Event,Spring Events,Summer Events,Winter Events
END:VEVENT
BEGIN:VEVENT
DTSTART;TZID=America/Los_Angeles:20300724T120000
DTEND;TZID=America/Los_Angeles:20300724T140000
DTSTAMP:20260425T081916
CREATED:20260109T190918Z
LAST-MODIFIED:20260109T190918Z
UID:10044320-1911124800-1911132000@chewelah.org
SUMMARY:Women's Bible Study
DESCRIPTION:
URL:https://chewelah.org/event/womens-bible-study/2030-07-24/
LOCATION:Chewelah Senior Center
CATEGORIES:Fall Events,Senior Event,Spring Events,Summer Events,Winter Events
END:VEVENT
BEGIN:VEVENT
DTSTART;TZID=America/Los_Angeles:20300729T103000
DTEND;TZID=America/Los_Angeles:20300729T120000
DTSTAMP:20260425T081916
CREATED:20260109T190814Z
LAST-MODIFIED:20260109T190814Z
UID:10044060-1911551400-1911556800@chewelah.org
SUMMARY:Social Hour
DESCRIPTION:
URL:https://chewelah.org/event/social-hour/2030-07-29/
LOCATION:Chewelah Senior Center
CATEGORIES:Fall Events,Senior Event,Spring Events,Summer Events,Winter Events
END:VEVENT
BEGIN:VEVENT
DTSTART;TZID=America/Los_Angeles:20300731T120000
DTEND;TZID=America/Los_Angeles:20300731T140000
DTSTAMP:20260425T081916
CREATED:20260109T190918Z
LAST-MODIFIED:20260109T190918Z
UID:10044321-1911729600-1911736800@chewelah.org
SUMMARY:Women's Bible Study
DESCRIPTION:
URL:https://chewelah.org/event/womens-bible-study/2030-07-31/
LOCATION:Chewelah Senior Center
CATEGORIES:Fall Events,Senior Event,Spring Events,Summer Events,Winter Events
END:VEVENT
BEGIN:VEVENT
DTSTART;TZID=America/Los_Angeles:20300805T103000
DTEND;TZID=America/Los_Angeles:20300805T120000
DTSTAMP:20260425T081916
CREATED:20260109T190814Z
LAST-MODIFIED:20260109T190814Z
UID:10044061-1912156200-1912161600@chewelah.org
SUMMARY:Social Hour
DESCRIPTION:
URL:https://chewelah.org/event/social-hour/2030-08-05/
LOCATION:Chewelah Senior Center
CATEGORIES:Fall Events,Senior Event,Spring Events,Summer Events,Winter Events
END:VEVENT
BEGIN:VEVENT
DTSTART;TZID=America/Los_Angeles:20300807T120000
DTEND;TZID=America/Los_Angeles:20300807T140000
DTSTAMP:20260425T081916
CREATED:20260109T190918Z
LAST-MODIFIED:20260109T190918Z
UID:10044322-1912334400-1912341600@chewelah.org
SUMMARY:Women's Bible Study
DESCRIPTION:
URL:https://chewelah.org/event/womens-bible-study/2030-08-07/
LOCATION:Chewelah Senior Center
CATEGORIES:Fall Events,Senior Event,Spring Events,Summer Events,Winter Events
END:VEVENT
BEGIN:VEVENT
DTSTART;TZID=America/Los_Angeles:20300812T103000
DTEND;TZID=America/Los_Angeles:20300812T120000
DTSTAMP:20260425T081916
CREATED:20260109T190814Z
LAST-MODIFIED:20260109T190814Z
UID:10044062-1912761000-1912766400@chewelah.org
SUMMARY:Social Hour
DESCRIPTION:
URL:https://chewelah.org/event/social-hour/2030-08-12/
LOCATION:Chewelah Senior Center
CATEGORIES:Fall Events,Senior Event,Spring Events,Summer Events,Winter Events
END:VEVENT
BEGIN:VEVENT
DTSTART;TZID=America/Los_Angeles:20300814T120000
DTEND;TZID=America/Los_Angeles:20300814T140000
DTSTAMP:20260425T081916
CREATED:20260109T190918Z
LAST-MODIFIED:20260109T190918Z
UID:10044323-1912939200-1912946400@chewelah.org
SUMMARY:Women's Bible Study
DESCRIPTION:
URL:https://chewelah.org/event/womens-bible-study/2030-08-14/
LOCATION:Chewelah Senior Center
CATEGORIES:Fall Events,Senior Event,Spring Events,Summer Events,Winter Events
END:VEVENT
BEGIN:VEVENT
DTSTART;TZID=America/Los_Angeles:20300819T103000
DTEND;TZID=America/Los_Angeles:20300819T120000
DTSTAMP:20260425T081916
CREATED:20260109T190814Z
LAST-MODIFIED:20260109T190814Z
UID:10044063-1913365800-1913371200@chewelah.org
SUMMARY:Social Hour
DESCRIPTION:
URL:https://chewelah.org/event/social-hour/2030-08-19/
LOCATION:Chewelah Senior Center
CATEGORIES:Fall Events,Senior Event,Spring Events,Summer Events,Winter Events
END:VEVENT
BEGIN:VEVENT
DTSTART;TZID=America/Los_Angeles:20300821T120000
DTEND;TZID=America/Los_Angeles:20300821T140000
DTSTAMP:20260425T081916
CREATED:20260109T190918Z
LAST-MODIFIED:20260109T190918Z
UID:10044324-1913544000-1913551200@chewelah.org
SUMMARY:Women's Bible Study
DESCRIPTION:
URL:https://chewelah.org/event/womens-bible-study/2030-08-21/
LOCATION:Chewelah Senior Center
CATEGORIES:Fall Events,Senior Event,Spring Events,Summer Events,Winter Events
END:VEVENT
BEGIN:VEVENT
DTSTART;TZID=America/Los_Angeles:20300826T103000
DTEND;TZID=America/Los_Angeles:20300826T120000
DTSTAMP:20260425T081916
CREATED:20260109T190814Z
LAST-MODIFIED:20260109T190814Z
UID:10044064-1913970600-1913976000@chewelah.org
SUMMARY:Social Hour
DESCRIPTION:
URL:https://chewelah.org/event/social-hour/2030-08-26/
LOCATION:Chewelah Senior Center
CATEGORIES:Fall Events,Senior Event,Spring Events,Summer Events,Winter Events
END:VEVENT
BEGIN:VEVENT
DTSTART;TZID=America/Los_Angeles:20300828T120000
DTEND;TZID=America/Los_Angeles:20300828T140000
DTSTAMP:20260425T081916
CREATED:20260109T190918Z
LAST-MODIFIED:20260109T190918Z
UID:10044325-1914148800-1914156000@chewelah.org
SUMMARY:Women's Bible Study
DESCRIPTION:
URL:https://chewelah.org/event/womens-bible-study/2030-08-28/
LOCATION:Chewelah Senior Center
CATEGORIES:Fall Events,Senior Event,Spring Events,Summer Events,Winter Events
END:VEVENT
BEGIN:VEVENT
DTSTART;TZID=America/Los_Angeles:20300902T103000
DTEND;TZID=America/Los_Angeles:20300902T120000
DTSTAMP:20260425T081916
CREATED:20260109T190814Z
LAST-MODIFIED:20260109T190814Z
UID:10044065-1914575400-1914580800@chewelah.org
SUMMARY:Social Hour
DESCRIPTION:
URL:https://chewelah.org/event/social-hour/2030-09-02/
LOCATION:Chewelah Senior Center
CATEGORIES:Fall Events,Senior Event,Spring Events,Summer Events,Winter Events
END:VEVENT
BEGIN:VEVENT
DTSTART;TZID=America/Los_Angeles:20300904T120000
DTEND;TZID=America/Los_Angeles:20300904T140000
DTSTAMP:20260425T081916
CREATED:20260109T190918Z
LAST-MODIFIED:20260109T190918Z
UID:10044326-1914753600-1914760800@chewelah.org
SUMMARY:Women's Bible Study
DESCRIPTION:
URL:https://chewelah.org/event/womens-bible-study/2030-09-04/
LOCATION:Chewelah Senior Center
CATEGORIES:Fall Events,Senior Event,Spring Events,Summer Events,Winter Events
END:VEVENT
BEGIN:VEVENT
DTSTART;TZID=America/Los_Angeles:20300909T103000
DTEND;TZID=America/Los_Angeles:20300909T120000
DTSTAMP:20260425T081916
CREATED:20260109T190814Z
LAST-MODIFIED:20260109T190814Z
UID:10044066-1915180200-1915185600@chewelah.org
SUMMARY:Social Hour
DESCRIPTION:
URL:https://chewelah.org/event/social-hour/2030-09-09/
LOCATION:Chewelah Senior Center
CATEGORIES:Fall Events,Senior Event,Spring Events,Summer Events,Winter Events
END:VEVENT
BEGIN:VEVENT
DTSTART;TZID=America/Los_Angeles:20300911T120000
DTEND;TZID=America/Los_Angeles:20300911T140000
DTSTAMP:20260425T081916
CREATED:20260109T190918Z
LAST-MODIFIED:20260109T190918Z
UID:10044327-1915358400-1915365600@chewelah.org
SUMMARY:Women's Bible Study
DESCRIPTION:
URL:https://chewelah.org/event/womens-bible-study/2030-09-11/
LOCATION:Chewelah Senior Center
CATEGORIES:Fall Events,Senior Event,Spring Events,Summer Events,Winter Events
END:VEVENT
BEGIN:VEVENT
DTSTART;TZID=America/Los_Angeles:20300916T103000
DTEND;TZID=America/Los_Angeles:20300916T120000
DTSTAMP:20260425T081916
CREATED:20260109T190814Z
LAST-MODIFIED:20260109T190814Z
UID:10044067-1915785000-1915790400@chewelah.org
SUMMARY:Social Hour
DESCRIPTION:
URL:https://chewelah.org/event/social-hour/2030-09-16/
LOCATION:Chewelah Senior Center
CATEGORIES:Fall Events,Senior Event,Spring Events,Summer Events,Winter Events
END:VEVENT
BEGIN:VEVENT
DTSTART;TZID=America/Los_Angeles:20300918T120000
DTEND;TZID=America/Los_Angeles:20300918T140000
DTSTAMP:20260425T081916
CREATED:20260109T190918Z
LAST-MODIFIED:20260109T190918Z
UID:10044328-1915963200-1915970400@chewelah.org
SUMMARY:Women's Bible Study
DESCRIPTION:
URL:https://chewelah.org/event/womens-bible-study/2030-09-18/
LOCATION:Chewelah Senior Center
CATEGORIES:Fall Events,Senior Event,Spring Events,Summer Events,Winter Events
END:VEVENT
BEGIN:VEVENT
DTSTART;TZID=America/Los_Angeles:20300923T103000
DTEND;TZID=America/Los_Angeles:20300923T120000
DTSTAMP:20260425T081916
CREATED:20260109T190814Z
LAST-MODIFIED:20260109T190814Z
UID:10044068-1916389800-1916395200@chewelah.org
SUMMARY:Social Hour
DESCRIPTION:
URL:https://chewelah.org/event/social-hour/2030-09-23/
LOCATION:Chewelah Senior Center
CATEGORIES:Fall Events,Senior Event,Spring Events,Summer Events,Winter Events
END:VEVENT
END:VCALENDAR