BEGIN:VCALENDAR
VERSION:2.0
PRODID:-//Chewelah Chamber of Commerce - ECPv6.15.20//NONSGML v1.0//EN
CALSCALE:GREGORIAN
METHOD:PUBLISH
X-ORIGINAL-URL:https://chewelah.org
X-WR-CALDESC:Events for Chewelah Chamber of Commerce
REFRESH-INTERVAL;VALUE=DURATION:PT1H
X-Robots-Tag:noindex
X-PUBLISHED-TTL:PT1H
BEGIN:VTIMEZONE
TZID:America/Los_Angeles
BEGIN:DAYLIGHT
TZOFFSETFROM:-0800
TZOFFSETTO:-0700
TZNAME:PDT
DTSTART:20270314T100000
END:DAYLIGHT
BEGIN:STANDARD
TZOFFSETFROM:-0700
TZOFFSETTO:-0800
TZNAME:PST
DTSTART:20271107T090000
END:STANDARD
BEGIN:DAYLIGHT
TZOFFSETFROM:-0800
TZOFFSETTO:-0700
TZNAME:PDT
DTSTART:20280312T100000
END:DAYLIGHT
BEGIN:STANDARD
TZOFFSETFROM:-0700
TZOFFSETTO:-0800
TZNAME:PST
DTSTART:20281105T090000
END:STANDARD
BEGIN:DAYLIGHT
TZOFFSETFROM:-0800
TZOFFSETTO:-0700
TZNAME:PDT
DTSTART:20290311T100000
END:DAYLIGHT
BEGIN:STANDARD
TZOFFSETFROM:-0700
TZOFFSETTO:-0800
TZNAME:PST
DTSTART:20291104T090000
END:STANDARD
END:VTIMEZONE
BEGIN:VEVENT
DTSTART;TZID=America/Los_Angeles:20280530T103000
DTEND;TZID=America/Los_Angeles:20280530T113000
DTSTAMP:20260422T144940
CREATED:20240711T193910Z
LAST-MODIFIED:20240711T193910Z
UID:10038453-1843295400-1843299000@chewelah.org
SUMMARY:Chewelah Library Story Time
DESCRIPTION:
URL:https://chewelah.org/event/chewelah-library-story-time-2/2028-05-30/
LOCATION:Chewelah Public Library\, 311 E Clay\, Chewelah\, WA\, 99109\, United States
CATEGORIES:Family Friendly
END:VEVENT
BEGIN:VEVENT
DTSTART;TZID=America/Los_Angeles:20280531T120000
DTEND;TZID=America/Los_Angeles:20280531T140000
DTSTAMP:20260422T144940
CREATED:20260109T190918Z
LAST-MODIFIED:20260109T190918Z
UID:10044208-1843387200-1843394400@chewelah.org
SUMMARY:Women's Bible Study
DESCRIPTION:
URL:https://chewelah.org/event/womens-bible-study/2028-05-31/
LOCATION:Chewelah Senior Center
CATEGORIES:Fall Events,Senior Event,Spring Events,Summer Events,Winter Events
END:VEVENT
BEGIN:VEVENT
DTSTART;TZID=America/Los_Angeles:20280605T103000
DTEND;TZID=America/Los_Angeles:20280605T120000
DTSTAMP:20260422T144940
CREATED:20260109T190814Z
LAST-MODIFIED:20260109T190814Z
UID:10043948-1843813800-1843819200@chewelah.org
SUMMARY:Social Hour
DESCRIPTION:
URL:https://chewelah.org/event/social-hour/2028-06-05/
LOCATION:Chewelah Senior Center
CATEGORIES:Fall Events,Senior Event,Spring Events,Summer Events,Winter Events
END:VEVENT
BEGIN:VEVENT
DTSTART;TZID=America/Los_Angeles:20280606T103000
DTEND;TZID=America/Los_Angeles:20280606T113000
DTSTAMP:20260422T144940
CREATED:20240711T193910Z
LAST-MODIFIED:20240711T193910Z
UID:10038454-1843900200-1843903800@chewelah.org
SUMMARY:Chewelah Library Story Time
DESCRIPTION:
URL:https://chewelah.org/event/chewelah-library-story-time-2/2028-06-06/
LOCATION:Chewelah Public Library\, 311 E Clay\, Chewelah\, WA\, 99109\, United States
CATEGORIES:Family Friendly
END:VEVENT
BEGIN:VEVENT
DTSTART;TZID=America/Los_Angeles:20280607T120000
DTEND;TZID=America/Los_Angeles:20280607T140000
DTSTAMP:20260422T144940
CREATED:20260109T190918Z
LAST-MODIFIED:20260109T190918Z
UID:10044209-1843992000-1843999200@chewelah.org
SUMMARY:Women's Bible Study
DESCRIPTION:
URL:https://chewelah.org/event/womens-bible-study/2028-06-07/
LOCATION:Chewelah Senior Center
CATEGORIES:Fall Events,Senior Event,Spring Events,Summer Events,Winter Events
END:VEVENT
BEGIN:VEVENT
DTSTART;TZID=America/Los_Angeles:20280612T103000
DTEND;TZID=America/Los_Angeles:20280612T120000
DTSTAMP:20260422T144940
CREATED:20260109T190814Z
LAST-MODIFIED:20260109T190814Z
UID:10043949-1844418600-1844424000@chewelah.org
SUMMARY:Social Hour
DESCRIPTION:
URL:https://chewelah.org/event/social-hour/2028-06-12/
LOCATION:Chewelah Senior Center
CATEGORIES:Fall Events,Senior Event,Spring Events,Summer Events,Winter Events
END:VEVENT
BEGIN:VEVENT
DTSTART;TZID=America/Los_Angeles:20280613T103000
DTEND;TZID=America/Los_Angeles:20280613T113000
DTSTAMP:20260422T144940
CREATED:20240711T193910Z
LAST-MODIFIED:20240711T193910Z
UID:10038455-1844505000-1844508600@chewelah.org
SUMMARY:Chewelah Library Story Time
DESCRIPTION:
URL:https://chewelah.org/event/chewelah-library-story-time-2/2028-06-13/
LOCATION:Chewelah Public Library\, 311 E Clay\, Chewelah\, WA\, 99109\, United States
CATEGORIES:Family Friendly
END:VEVENT
BEGIN:VEVENT
DTSTART;TZID=America/Los_Angeles:20280614T120000
DTEND;TZID=America/Los_Angeles:20280614T140000
DTSTAMP:20260422T144940
CREATED:20260109T190918Z
LAST-MODIFIED:20260109T190918Z
UID:10044210-1844596800-1844604000@chewelah.org
SUMMARY:Women's Bible Study
DESCRIPTION:
URL:https://chewelah.org/event/womens-bible-study/2028-06-14/
LOCATION:Chewelah Senior Center
CATEGORIES:Fall Events,Senior Event,Spring Events,Summer Events,Winter Events
END:VEVENT
BEGIN:VEVENT
DTSTART;TZID=America/Los_Angeles:20280615T100000
DTEND;TZID=America/Los_Angeles:20280615T150000
DTSTAMP:20260422T144940
CREATED:20240307T220842Z
LAST-MODIFIED:20240314T164849Z
UID:10039618-1844676000-1844694000@chewelah.org
SUMMARY:Senior Citizens Potluck & Games
DESCRIPTION:Senior Citizens from Chewelah\, Valley\, & Springdale  are invited to join us the \n1st and 3rd Thursday of each month. \nFor games and potluck from 10:00 am to 3:00 pm \nPlace: Valley Fire department building \n 
URL:https://chewelah.org/event/senior-citizens-potluck-games/2028-06-15/
LOCATION:Stevens County Fire Dist. 4\, 3060 3rd Ave.\, Valley\, WA\, 99181\, United States
CATEGORIES:Community Event,Family Friendly
END:VEVENT
BEGIN:VEVENT
DTSTART;TZID=America/Los_Angeles:20280619T103000
DTEND;TZID=America/Los_Angeles:20280619T120000
DTSTAMP:20260422T144940
CREATED:20260109T190814Z
LAST-MODIFIED:20260109T190814Z
UID:10043950-1845023400-1845028800@chewelah.org
SUMMARY:Social Hour
DESCRIPTION:
URL:https://chewelah.org/event/social-hour/2028-06-19/
LOCATION:Chewelah Senior Center
CATEGORIES:Fall Events,Senior Event,Spring Events,Summer Events,Winter Events
END:VEVENT
BEGIN:VEVENT
DTSTART;TZID=America/Los_Angeles:20280620T103000
DTEND;TZID=America/Los_Angeles:20280620T113000
DTSTAMP:20260422T144940
CREATED:20240711T193910Z
LAST-MODIFIED:20240711T193910Z
UID:10038456-1845109800-1845113400@chewelah.org
SUMMARY:Chewelah Library Story Time
DESCRIPTION:
URL:https://chewelah.org/event/chewelah-library-story-time-2/2028-06-20/
LOCATION:Chewelah Public Library\, 311 E Clay\, Chewelah\, WA\, 99109\, United States
CATEGORIES:Family Friendly
END:VEVENT
BEGIN:VEVENT
DTSTART;TZID=America/Los_Angeles:20280621T120000
DTEND;TZID=America/Los_Angeles:20280621T140000
DTSTAMP:20260422T144940
CREATED:20260109T190918Z
LAST-MODIFIED:20260109T190918Z
UID:10044211-1845201600-1845208800@chewelah.org
SUMMARY:Women's Bible Study
DESCRIPTION:
URL:https://chewelah.org/event/womens-bible-study/2028-06-21/
LOCATION:Chewelah Senior Center
CATEGORIES:Fall Events,Senior Event,Spring Events,Summer Events,Winter Events
END:VEVENT
BEGIN:VEVENT
DTSTART;TZID=America/Los_Angeles:20280626T103000
DTEND;TZID=America/Los_Angeles:20280626T120000
DTSTAMP:20260422T144941
CREATED:20260109T190814Z
LAST-MODIFIED:20260109T190814Z
UID:10043951-1845628200-1845633600@chewelah.org
SUMMARY:Social Hour
DESCRIPTION:
URL:https://chewelah.org/event/social-hour/2028-06-26/
LOCATION:Chewelah Senior Center
CATEGORIES:Fall Events,Senior Event,Spring Events,Summer Events,Winter Events
END:VEVENT
BEGIN:VEVENT
DTSTART;TZID=America/Los_Angeles:20280627T103000
DTEND;TZID=America/Los_Angeles:20280627T113000
DTSTAMP:20260422T144941
CREATED:20240711T193910Z
LAST-MODIFIED:20240711T193910Z
UID:10038457-1845714600-1845718200@chewelah.org
SUMMARY:Chewelah Library Story Time
DESCRIPTION:
URL:https://chewelah.org/event/chewelah-library-story-time-2/2028-06-27/
LOCATION:Chewelah Public Library\, 311 E Clay\, Chewelah\, WA\, 99109\, United States
CATEGORIES:Family Friendly
END:VEVENT
BEGIN:VEVENT
DTSTART;TZID=America/Los_Angeles:20280628T120000
DTEND;TZID=America/Los_Angeles:20280628T140000
DTSTAMP:20260422T144941
CREATED:20260109T190918Z
LAST-MODIFIED:20260109T190918Z
UID:10044212-1845806400-1845813600@chewelah.org
SUMMARY:Women's Bible Study
DESCRIPTION:
URL:https://chewelah.org/event/womens-bible-study/2028-06-28/
LOCATION:Chewelah Senior Center
CATEGORIES:Fall Events,Senior Event,Spring Events,Summer Events,Winter Events
END:VEVENT
BEGIN:VEVENT
DTSTART;TZID=America/Los_Angeles:20280703T103000
DTEND;TZID=America/Los_Angeles:20280703T120000
DTSTAMP:20260422T144941
CREATED:20260109T190814Z
LAST-MODIFIED:20260109T190814Z
UID:10043952-1846233000-1846238400@chewelah.org
SUMMARY:Social Hour
DESCRIPTION:
URL:https://chewelah.org/event/social-hour/2028-07-03/
LOCATION:Chewelah Senior Center
CATEGORIES:Fall Events,Senior Event,Spring Events,Summer Events,Winter Events
END:VEVENT
BEGIN:VEVENT
DTSTART;TZID=America/Los_Angeles:20280704T103000
DTEND;TZID=America/Los_Angeles:20280704T113000
DTSTAMP:20260422T144941
CREATED:20240711T193910Z
LAST-MODIFIED:20240711T193910Z
UID:10038458-1846319400-1846323000@chewelah.org
SUMMARY:Chewelah Library Story Time
DESCRIPTION:
URL:https://chewelah.org/event/chewelah-library-story-time-2/2028-07-04/
LOCATION:Chewelah Public Library\, 311 E Clay\, Chewelah\, WA\, 99109\, United States
CATEGORIES:Family Friendly
END:VEVENT
BEGIN:VEVENT
DTSTART;TZID=America/Los_Angeles:20280705T120000
DTEND;TZID=America/Los_Angeles:20280705T140000
DTSTAMP:20260422T144941
CREATED:20260109T190918Z
LAST-MODIFIED:20260109T190918Z
UID:10044213-1846411200-1846418400@chewelah.org
SUMMARY:Women's Bible Study
DESCRIPTION:
URL:https://chewelah.org/event/womens-bible-study/2028-07-05/
LOCATION:Chewelah Senior Center
CATEGORIES:Fall Events,Senior Event,Spring Events,Summer Events,Winter Events
END:VEVENT
BEGIN:VEVENT
DTSTART;TZID=America/Los_Angeles:20280710T103000
DTEND;TZID=America/Los_Angeles:20280710T120000
DTSTAMP:20260422T144941
CREATED:20260109T190814Z
LAST-MODIFIED:20260109T190814Z
UID:10043953-1846837800-1846843200@chewelah.org
SUMMARY:Social Hour
DESCRIPTION:
URL:https://chewelah.org/event/social-hour/2028-07-10/
LOCATION:Chewelah Senior Center
CATEGORIES:Fall Events,Senior Event,Spring Events,Summer Events,Winter Events
END:VEVENT
BEGIN:VEVENT
DTSTART;TZID=America/Los_Angeles:20280711T103000
DTEND;TZID=America/Los_Angeles:20280711T113000
DTSTAMP:20260422T144941
CREATED:20240711T193910Z
LAST-MODIFIED:20240711T193910Z
UID:10038459-1846924200-1846927800@chewelah.org
SUMMARY:Chewelah Library Story Time
DESCRIPTION:
URL:https://chewelah.org/event/chewelah-library-story-time-2/2028-07-11/
LOCATION:Chewelah Public Library\, 311 E Clay\, Chewelah\, WA\, 99109\, United States
CATEGORIES:Family Friendly
END:VEVENT
BEGIN:VEVENT
DTSTART;TZID=America/Los_Angeles:20280712T120000
DTEND;TZID=America/Los_Angeles:20280712T140000
DTSTAMP:20260422T144941
CREATED:20260109T190918Z
LAST-MODIFIED:20260109T190918Z
UID:10044214-1847016000-1847023200@chewelah.org
SUMMARY:Women's Bible Study
DESCRIPTION:
URL:https://chewelah.org/event/womens-bible-study/2028-07-12/
LOCATION:Chewelah Senior Center
CATEGORIES:Fall Events,Senior Event,Spring Events,Summer Events,Winter Events
END:VEVENT
BEGIN:VEVENT
DTSTART;TZID=America/Los_Angeles:20280717T103000
DTEND;TZID=America/Los_Angeles:20280717T120000
DTSTAMP:20260422T144941
CREATED:20260109T190814Z
LAST-MODIFIED:20260109T190814Z
UID:10043954-1847442600-1847448000@chewelah.org
SUMMARY:Social Hour
DESCRIPTION:
URL:https://chewelah.org/event/social-hour/2028-07-17/
LOCATION:Chewelah Senior Center
CATEGORIES:Fall Events,Senior Event,Spring Events,Summer Events,Winter Events
END:VEVENT
BEGIN:VEVENT
DTSTART;TZID=America/Los_Angeles:20280718T103000
DTEND;TZID=America/Los_Angeles:20280718T113000
DTSTAMP:20260422T144941
CREATED:20240711T193910Z
LAST-MODIFIED:20240711T193910Z
UID:10038460-1847529000-1847532600@chewelah.org
SUMMARY:Chewelah Library Story Time
DESCRIPTION:
URL:https://chewelah.org/event/chewelah-library-story-time-2/2028-07-18/
LOCATION:Chewelah Public Library\, 311 E Clay\, Chewelah\, WA\, 99109\, United States
CATEGORIES:Family Friendly
END:VEVENT
BEGIN:VEVENT
DTSTART;TZID=America/Los_Angeles:20280719T120000
DTEND;TZID=America/Los_Angeles:20280719T140000
DTSTAMP:20260422T144941
CREATED:20260109T190918Z
LAST-MODIFIED:20260109T190918Z
UID:10044215-1847620800-1847628000@chewelah.org
SUMMARY:Women's Bible Study
DESCRIPTION:
URL:https://chewelah.org/event/womens-bible-study/2028-07-19/
LOCATION:Chewelah Senior Center
CATEGORIES:Fall Events,Senior Event,Spring Events,Summer Events,Winter Events
END:VEVENT
BEGIN:VEVENT
DTSTART;TZID=America/Los_Angeles:20280720T100000
DTEND;TZID=America/Los_Angeles:20280720T150000
DTSTAMP:20260422T144941
CREATED:20240307T220842Z
LAST-MODIFIED:20240314T164849Z
UID:10039619-1847700000-1847718000@chewelah.org
SUMMARY:Senior Citizens Potluck & Games
DESCRIPTION:Senior Citizens from Chewelah\, Valley\, & Springdale  are invited to join us the \n1st and 3rd Thursday of each month. \nFor games and potluck from 10:00 am to 3:00 pm \nPlace: Valley Fire department building \n 
URL:https://chewelah.org/event/senior-citizens-potluck-games/2028-07-20/
LOCATION:Stevens County Fire Dist. 4\, 3060 3rd Ave.\, Valley\, WA\, 99181\, United States
CATEGORIES:Community Event,Family Friendly
END:VEVENT
BEGIN:VEVENT
DTSTART;TZID=America/Los_Angeles:20280724T103000
DTEND;TZID=America/Los_Angeles:20280724T120000
DTSTAMP:20260422T144941
CREATED:20260109T190814Z
LAST-MODIFIED:20260109T190814Z
UID:10043955-1848047400-1848052800@chewelah.org
SUMMARY:Social Hour
DESCRIPTION:
URL:https://chewelah.org/event/social-hour/2028-07-24/
LOCATION:Chewelah Senior Center
CATEGORIES:Fall Events,Senior Event,Spring Events,Summer Events,Winter Events
END:VEVENT
BEGIN:VEVENT
DTSTART;TZID=America/Los_Angeles:20280725T103000
DTEND;TZID=America/Los_Angeles:20280725T113000
DTSTAMP:20260422T144941
CREATED:20240711T193910Z
LAST-MODIFIED:20240711T193910Z
UID:10038461-1848133800-1848137400@chewelah.org
SUMMARY:Chewelah Library Story Time
DESCRIPTION:
URL:https://chewelah.org/event/chewelah-library-story-time-2/2028-07-25/
LOCATION:Chewelah Public Library\, 311 E Clay\, Chewelah\, WA\, 99109\, United States
CATEGORIES:Family Friendly
END:VEVENT
BEGIN:VEVENT
DTSTART;TZID=America/Los_Angeles:20280726T120000
DTEND;TZID=America/Los_Angeles:20280726T140000
DTSTAMP:20260422T144941
CREATED:20260109T190918Z
LAST-MODIFIED:20260109T190918Z
UID:10044216-1848225600-1848232800@chewelah.org
SUMMARY:Women's Bible Study
DESCRIPTION:
URL:https://chewelah.org/event/womens-bible-study/2028-07-26/
LOCATION:Chewelah Senior Center
CATEGORIES:Fall Events,Senior Event,Spring Events,Summer Events,Winter Events
END:VEVENT
BEGIN:VEVENT
DTSTART;TZID=America/Los_Angeles:20280731T103000
DTEND;TZID=America/Los_Angeles:20280731T120000
DTSTAMP:20260422T144941
CREATED:20260109T190814Z
LAST-MODIFIED:20260109T190814Z
UID:10043956-1848652200-1848657600@chewelah.org
SUMMARY:Social Hour
DESCRIPTION:
URL:https://chewelah.org/event/social-hour/2028-07-31/
LOCATION:Chewelah Senior Center
CATEGORIES:Fall Events,Senior Event,Spring Events,Summer Events,Winter Events
END:VEVENT
BEGIN:VEVENT
DTSTART;TZID=America/Los_Angeles:20280801T103000
DTEND;TZID=America/Los_Angeles:20280801T113000
DTSTAMP:20260422T144941
CREATED:20240711T193910Z
LAST-MODIFIED:20240711T193910Z
UID:10038462-1848738600-1848742200@chewelah.org
SUMMARY:Chewelah Library Story Time
DESCRIPTION:
URL:https://chewelah.org/event/chewelah-library-story-time-2/2028-08-01/
LOCATION:Chewelah Public Library\, 311 E Clay\, Chewelah\, WA\, 99109\, United States
CATEGORIES:Family Friendly
END:VEVENT
END:VCALENDAR