BEGIN:VCALENDAR
VERSION:2.0
PRODID:-//Chewelah Chamber of Commerce - ECPv6.15.17//NONSGML v1.0//EN
CALSCALE:GREGORIAN
METHOD:PUBLISH
X-WR-CALNAME:Chewelah Chamber of Commerce
X-ORIGINAL-URL:https://chewelah.org
X-WR-CALDESC:Events for Chewelah Chamber of Commerce
REFRESH-INTERVAL;VALUE=DURATION:PT1H
X-Robots-Tag:noindex
X-PUBLISHED-TTL:PT1H
BEGIN:VTIMEZONE
TZID:America/Los_Angeles
BEGIN:DAYLIGHT
TZOFFSETFROM:-0800
TZOFFSETTO:-0700
TZNAME:PDT
DTSTART:20270314T100000
END:DAYLIGHT
BEGIN:STANDARD
TZOFFSETFROM:-0700
TZOFFSETTO:-0800
TZNAME:PST
DTSTART:20271107T090000
END:STANDARD
BEGIN:DAYLIGHT
TZOFFSETFROM:-0800
TZOFFSETTO:-0700
TZNAME:PDT
DTSTART:20280312T100000
END:DAYLIGHT
BEGIN:STANDARD
TZOFFSETFROM:-0700
TZOFFSETTO:-0800
TZNAME:PST
DTSTART:20281105T090000
END:STANDARD
BEGIN:DAYLIGHT
TZOFFSETFROM:-0800
TZOFFSETTO:-0700
TZNAME:PDT
DTSTART:20290311T100000
END:DAYLIGHT
BEGIN:STANDARD
TZOFFSETFROM:-0700
TZOFFSETTO:-0800
TZNAME:PST
DTSTART:20291104T090000
END:STANDARD
END:VTIMEZONE
BEGIN:VEVENT
DTSTART;TZID=America/Los_Angeles:20280112T120000
DTEND;TZID=America/Los_Angeles:20280112T140000
DTSTAMP:20260421T181315
CREATED:20260109T190918Z
LAST-MODIFIED:20260109T190918Z
UID:10044188-1831291200-1831298400@chewelah.org
SUMMARY:Women's Bible Study
DESCRIPTION:
URL:https://chewelah.org/event/womens-bible-study/2028-01-12/
LOCATION:Chewelah Senior Center
CATEGORIES:Fall Events,Senior Event,Spring Events,Summer Events,Winter Events
END:VEVENT
BEGIN:VEVENT
DTSTART;TZID=America/Los_Angeles:20280117T103000
DTEND;TZID=America/Los_Angeles:20280117T120000
DTSTAMP:20260421T181315
CREATED:20260109T190814Z
LAST-MODIFIED:20260109T190814Z
UID:10043928-1831717800-1831723200@chewelah.org
SUMMARY:Social Hour
DESCRIPTION:
URL:https://chewelah.org/event/social-hour/2028-01-17/
LOCATION:Chewelah Senior Center
CATEGORIES:Fall Events,Senior Event,Spring Events,Summer Events,Winter Events
END:VEVENT
BEGIN:VEVENT
DTSTART;TZID=America/Los_Angeles:20280119T120000
DTEND;TZID=America/Los_Angeles:20280119T140000
DTSTAMP:20260421T181315
CREATED:20260109T190918Z
LAST-MODIFIED:20260109T190918Z
UID:10044189-1831896000-1831903200@chewelah.org
SUMMARY:Women's Bible Study
DESCRIPTION:
URL:https://chewelah.org/event/womens-bible-study/2028-01-19/
LOCATION:Chewelah Senior Center
CATEGORIES:Fall Events,Senior Event,Spring Events,Summer Events,Winter Events
END:VEVENT
BEGIN:VEVENT
DTSTART;TZID=America/Los_Angeles:20280124T103000
DTEND;TZID=America/Los_Angeles:20280124T120000
DTSTAMP:20260421T181315
CREATED:20260109T190814Z
LAST-MODIFIED:20260109T190814Z
UID:10043929-1832322600-1832328000@chewelah.org
SUMMARY:Social Hour
DESCRIPTION:
URL:https://chewelah.org/event/social-hour/2028-01-24/
LOCATION:Chewelah Senior Center
CATEGORIES:Fall Events,Senior Event,Spring Events,Summer Events,Winter Events
END:VEVENT
BEGIN:VEVENT
DTSTART;TZID=America/Los_Angeles:20280126T120000
DTEND;TZID=America/Los_Angeles:20280126T140000
DTSTAMP:20260421T181315
CREATED:20260109T190918Z
LAST-MODIFIED:20260109T190918Z
UID:10044190-1832500800-1832508000@chewelah.org
SUMMARY:Women's Bible Study
DESCRIPTION:
URL:https://chewelah.org/event/womens-bible-study/2028-01-26/
LOCATION:Chewelah Senior Center
CATEGORIES:Fall Events,Senior Event,Spring Events,Summer Events,Winter Events
END:VEVENT
BEGIN:VEVENT
DTSTART;TZID=America/Los_Angeles:20280131T103000
DTEND;TZID=America/Los_Angeles:20280131T120000
DTSTAMP:20260421T181315
CREATED:20260109T190814Z
LAST-MODIFIED:20260109T190814Z
UID:10043930-1832927400-1832932800@chewelah.org
SUMMARY:Social Hour
DESCRIPTION:
URL:https://chewelah.org/event/social-hour/2028-01-31/
LOCATION:Chewelah Senior Center
CATEGORIES:Fall Events,Senior Event,Spring Events,Summer Events,Winter Events
END:VEVENT
BEGIN:VEVENT
DTSTART;TZID=America/Los_Angeles:20280202T120000
DTEND;TZID=America/Los_Angeles:20280202T140000
DTSTAMP:20260421T181315
CREATED:20260109T190918Z
LAST-MODIFIED:20260109T190918Z
UID:10044191-1833105600-1833112800@chewelah.org
SUMMARY:Women's Bible Study
DESCRIPTION:
URL:https://chewelah.org/event/womens-bible-study/2028-02-02/
LOCATION:Chewelah Senior Center
CATEGORIES:Fall Events,Senior Event,Spring Events,Summer Events,Winter Events
END:VEVENT
BEGIN:VEVENT
DTSTART;TZID=America/Los_Angeles:20280207T103000
DTEND;TZID=America/Los_Angeles:20280207T120000
DTSTAMP:20260421T181315
CREATED:20260109T190814Z
LAST-MODIFIED:20260109T190814Z
UID:10043931-1833532200-1833537600@chewelah.org
SUMMARY:Social Hour
DESCRIPTION:
URL:https://chewelah.org/event/social-hour/2028-02-07/
LOCATION:Chewelah Senior Center
CATEGORIES:Fall Events,Senior Event,Spring Events,Summer Events,Winter Events
END:VEVENT
BEGIN:VEVENT
DTSTART;TZID=America/Los_Angeles:20280209T120000
DTEND;TZID=America/Los_Angeles:20280209T140000
DTSTAMP:20260421T181315
CREATED:20260109T190918Z
LAST-MODIFIED:20260109T190918Z
UID:10044192-1833710400-1833717600@chewelah.org
SUMMARY:Women's Bible Study
DESCRIPTION:
URL:https://chewelah.org/event/womens-bible-study/2028-02-09/
LOCATION:Chewelah Senior Center
CATEGORIES:Fall Events,Senior Event,Spring Events,Summer Events,Winter Events
END:VEVENT
BEGIN:VEVENT
DTSTART;TZID=America/Los_Angeles:20280214T103000
DTEND;TZID=America/Los_Angeles:20280214T120000
DTSTAMP:20260421T181315
CREATED:20260109T190814Z
LAST-MODIFIED:20260109T190814Z
UID:10043932-1834137000-1834142400@chewelah.org
SUMMARY:Social Hour
DESCRIPTION:
URL:https://chewelah.org/event/social-hour/2028-02-14/
LOCATION:Chewelah Senior Center
CATEGORIES:Fall Events,Senior Event,Spring Events,Summer Events,Winter Events
END:VEVENT
BEGIN:VEVENT
DTSTART;TZID=America/Los_Angeles:20280216T120000
DTEND;TZID=America/Los_Angeles:20280216T140000
DTSTAMP:20260421T181315
CREATED:20260109T190918Z
LAST-MODIFIED:20260109T190918Z
UID:10044193-1834315200-1834322400@chewelah.org
SUMMARY:Women's Bible Study
DESCRIPTION:
URL:https://chewelah.org/event/womens-bible-study/2028-02-16/
LOCATION:Chewelah Senior Center
CATEGORIES:Fall Events,Senior Event,Spring Events,Summer Events,Winter Events
END:VEVENT
BEGIN:VEVENT
DTSTART;TZID=America/Los_Angeles:20280221T103000
DTEND;TZID=America/Los_Angeles:20280221T120000
DTSTAMP:20260421T181315
CREATED:20260109T190814Z
LAST-MODIFIED:20260109T190814Z
UID:10043933-1834741800-1834747200@chewelah.org
SUMMARY:Social Hour
DESCRIPTION:
URL:https://chewelah.org/event/social-hour/2028-02-21/
LOCATION:Chewelah Senior Center
CATEGORIES:Fall Events,Senior Event,Spring Events,Summer Events,Winter Events
END:VEVENT
BEGIN:VEVENT
DTSTART;TZID=America/Los_Angeles:20280223T120000
DTEND;TZID=America/Los_Angeles:20280223T140000
DTSTAMP:20260421T181315
CREATED:20260109T190918Z
LAST-MODIFIED:20260109T190918Z
UID:10044194-1834920000-1834927200@chewelah.org
SUMMARY:Women's Bible Study
DESCRIPTION:
URL:https://chewelah.org/event/womens-bible-study/2028-02-23/
LOCATION:Chewelah Senior Center
CATEGORIES:Fall Events,Senior Event,Spring Events,Summer Events,Winter Events
END:VEVENT
BEGIN:VEVENT
DTSTART;TZID=America/Los_Angeles:20280228T103000
DTEND;TZID=America/Los_Angeles:20280228T120000
DTSTAMP:20260421T181315
CREATED:20260109T190814Z
LAST-MODIFIED:20260109T190814Z
UID:10043934-1835346600-1835352000@chewelah.org
SUMMARY:Social Hour
DESCRIPTION:
URL:https://chewelah.org/event/social-hour/2028-02-28/
LOCATION:Chewelah Senior Center
CATEGORIES:Fall Events,Senior Event,Spring Events,Summer Events,Winter Events
END:VEVENT
BEGIN:VEVENT
DTSTART;TZID=America/Los_Angeles:20280301T120000
DTEND;TZID=America/Los_Angeles:20280301T140000
DTSTAMP:20260421T181315
CREATED:20260109T190918Z
LAST-MODIFIED:20260109T190918Z
UID:10044195-1835524800-1835532000@chewelah.org
SUMMARY:Women's Bible Study
DESCRIPTION:
URL:https://chewelah.org/event/womens-bible-study/2028-03-01/
LOCATION:Chewelah Senior Center
CATEGORIES:Fall Events,Senior Event,Spring Events,Summer Events,Winter Events
END:VEVENT
BEGIN:VEVENT
DTSTART;TZID=America/Los_Angeles:20280306T103000
DTEND;TZID=America/Los_Angeles:20280306T120000
DTSTAMP:20260421T181315
CREATED:20260109T190814Z
LAST-MODIFIED:20260109T190814Z
UID:10043935-1835951400-1835956800@chewelah.org
SUMMARY:Social Hour
DESCRIPTION:
URL:https://chewelah.org/event/social-hour/2028-03-06/
LOCATION:Chewelah Senior Center
CATEGORIES:Fall Events,Senior Event,Spring Events,Summer Events,Winter Events
END:VEVENT
BEGIN:VEVENT
DTSTART;TZID=America/Los_Angeles:20280308T120000
DTEND;TZID=America/Los_Angeles:20280308T140000
DTSTAMP:20260421T181315
CREATED:20260109T190918Z
LAST-MODIFIED:20260109T190918Z
UID:10044196-1836129600-1836136800@chewelah.org
SUMMARY:Women's Bible Study
DESCRIPTION:
URL:https://chewelah.org/event/womens-bible-study/2028-03-08/
LOCATION:Chewelah Senior Center
CATEGORIES:Fall Events,Senior Event,Spring Events,Summer Events,Winter Events
END:VEVENT
BEGIN:VEVENT
DTSTART;TZID=America/Los_Angeles:20280313T103000
DTEND;TZID=America/Los_Angeles:20280313T120000
DTSTAMP:20260421T181315
CREATED:20260109T190814Z
LAST-MODIFIED:20260109T190814Z
UID:10043936-1836556200-1836561600@chewelah.org
SUMMARY:Social Hour
DESCRIPTION:
URL:https://chewelah.org/event/social-hour/2028-03-13/
LOCATION:Chewelah Senior Center
CATEGORIES:Fall Events,Senior Event,Spring Events,Summer Events,Winter Events
END:VEVENT
BEGIN:VEVENT
DTSTART;TZID=America/Los_Angeles:20280315T120000
DTEND;TZID=America/Los_Angeles:20280315T140000
DTSTAMP:20260421T181315
CREATED:20260109T190918Z
LAST-MODIFIED:20260109T190918Z
UID:10044197-1836734400-1836741600@chewelah.org
SUMMARY:Women's Bible Study
DESCRIPTION:
URL:https://chewelah.org/event/womens-bible-study/2028-03-15/
LOCATION:Chewelah Senior Center
CATEGORIES:Fall Events,Senior Event,Spring Events,Summer Events,Winter Events
END:VEVENT
BEGIN:VEVENT
DTSTART;TZID=America/Los_Angeles:20280320T103000
DTEND;TZID=America/Los_Angeles:20280320T120000
DTSTAMP:20260421T181315
CREATED:20260109T190814Z
LAST-MODIFIED:20260109T190814Z
UID:10043937-1837161000-1837166400@chewelah.org
SUMMARY:Social Hour
DESCRIPTION:
URL:https://chewelah.org/event/social-hour/2028-03-20/
LOCATION:Chewelah Senior Center
CATEGORIES:Fall Events,Senior Event,Spring Events,Summer Events,Winter Events
END:VEVENT
BEGIN:VEVENT
DTSTART;TZID=America/Los_Angeles:20280322T120000
DTEND;TZID=America/Los_Angeles:20280322T140000
DTSTAMP:20260421T181315
CREATED:20260109T190918Z
LAST-MODIFIED:20260109T190918Z
UID:10044198-1837339200-1837346400@chewelah.org
SUMMARY:Women's Bible Study
DESCRIPTION:
URL:https://chewelah.org/event/womens-bible-study/2028-03-22/
LOCATION:Chewelah Senior Center
CATEGORIES:Fall Events,Senior Event,Spring Events,Summer Events,Winter Events
END:VEVENT
BEGIN:VEVENT
DTSTART;TZID=America/Los_Angeles:20280327T103000
DTEND;TZID=America/Los_Angeles:20280327T120000
DTSTAMP:20260421T181315
CREATED:20260109T190814Z
LAST-MODIFIED:20260109T190814Z
UID:10043938-1837765800-1837771200@chewelah.org
SUMMARY:Social Hour
DESCRIPTION:
URL:https://chewelah.org/event/social-hour/2028-03-27/
LOCATION:Chewelah Senior Center
CATEGORIES:Fall Events,Senior Event,Spring Events,Summer Events,Winter Events
END:VEVENT
BEGIN:VEVENT
DTSTART;TZID=America/Los_Angeles:20280329T120000
DTEND;TZID=America/Los_Angeles:20280329T140000
DTSTAMP:20260421T181315
CREATED:20260109T190918Z
LAST-MODIFIED:20260109T190918Z
UID:10044199-1837944000-1837951200@chewelah.org
SUMMARY:Women's Bible Study
DESCRIPTION:
URL:https://chewelah.org/event/womens-bible-study/2028-03-29/
LOCATION:Chewelah Senior Center
CATEGORIES:Fall Events,Senior Event,Spring Events,Summer Events,Winter Events
END:VEVENT
BEGIN:VEVENT
DTSTART;TZID=America/Los_Angeles:20280403T103000
DTEND;TZID=America/Los_Angeles:20280403T120000
DTSTAMP:20260421T181315
CREATED:20260109T190814Z
LAST-MODIFIED:20260109T190814Z
UID:10043939-1838370600-1838376000@chewelah.org
SUMMARY:Social Hour
DESCRIPTION:
URL:https://chewelah.org/event/social-hour/2028-04-03/
LOCATION:Chewelah Senior Center
CATEGORIES:Fall Events,Senior Event,Spring Events,Summer Events,Winter Events
END:VEVENT
BEGIN:VEVENT
DTSTART;TZID=America/Los_Angeles:20280405T120000
DTEND;TZID=America/Los_Angeles:20280405T140000
DTSTAMP:20260421T181315
CREATED:20260109T190918Z
LAST-MODIFIED:20260109T190918Z
UID:10044200-1838548800-1838556000@chewelah.org
SUMMARY:Women's Bible Study
DESCRIPTION:
URL:https://chewelah.org/event/womens-bible-study/2028-04-05/
LOCATION:Chewelah Senior Center
CATEGORIES:Fall Events,Senior Event,Spring Events,Summer Events,Winter Events
END:VEVENT
BEGIN:VEVENT
DTSTART;TZID=America/Los_Angeles:20280410T103000
DTEND;TZID=America/Los_Angeles:20280410T120000
DTSTAMP:20260421T181315
CREATED:20260109T190814Z
LAST-MODIFIED:20260109T190814Z
UID:10043940-1838975400-1838980800@chewelah.org
SUMMARY:Social Hour
DESCRIPTION:
URL:https://chewelah.org/event/social-hour/2028-04-10/
LOCATION:Chewelah Senior Center
CATEGORIES:Fall Events,Senior Event,Spring Events,Summer Events,Winter Events
END:VEVENT
BEGIN:VEVENT
DTSTART;TZID=America/Los_Angeles:20280412T120000
DTEND;TZID=America/Los_Angeles:20280412T140000
DTSTAMP:20260421T181315
CREATED:20260109T190918Z
LAST-MODIFIED:20260109T190918Z
UID:10044201-1839153600-1839160800@chewelah.org
SUMMARY:Women's Bible Study
DESCRIPTION:
URL:https://chewelah.org/event/womens-bible-study/2028-04-12/
LOCATION:Chewelah Senior Center
CATEGORIES:Fall Events,Senior Event,Spring Events,Summer Events,Winter Events
END:VEVENT
BEGIN:VEVENT
DTSTART;TZID=America/Los_Angeles:20280417T103000
DTEND;TZID=America/Los_Angeles:20280417T120000
DTSTAMP:20260421T181315
CREATED:20260109T190814Z
LAST-MODIFIED:20260109T190814Z
UID:10043941-1839580200-1839585600@chewelah.org
SUMMARY:Social Hour
DESCRIPTION:
URL:https://chewelah.org/event/social-hour/2028-04-17/
LOCATION:Chewelah Senior Center
CATEGORIES:Fall Events,Senior Event,Spring Events,Summer Events,Winter Events
END:VEVENT
BEGIN:VEVENT
DTSTART;TZID=America/Los_Angeles:20280419T120000
DTEND;TZID=America/Los_Angeles:20280419T140000
DTSTAMP:20260421T181315
CREATED:20260109T190918Z
LAST-MODIFIED:20260109T190918Z
UID:10044202-1839758400-1839765600@chewelah.org
SUMMARY:Women's Bible Study
DESCRIPTION:
URL:https://chewelah.org/event/womens-bible-study/2028-04-19/
LOCATION:Chewelah Senior Center
CATEGORIES:Fall Events,Senior Event,Spring Events,Summer Events,Winter Events
END:VEVENT
BEGIN:VEVENT
DTSTART;TZID=America/Los_Angeles:20280424T103000
DTEND;TZID=America/Los_Angeles:20280424T120000
DTSTAMP:20260421T181315
CREATED:20260109T190814Z
LAST-MODIFIED:20260109T190814Z
UID:10043942-1840185000-1840190400@chewelah.org
SUMMARY:Social Hour
DESCRIPTION:
URL:https://chewelah.org/event/social-hour/2028-04-24/
LOCATION:Chewelah Senior Center
CATEGORIES:Fall Events,Senior Event,Spring Events,Summer Events,Winter Events
END:VEVENT
END:VCALENDAR