BEGIN:VCALENDAR
VERSION:2.0
PRODID:-//Chewelah Chamber of Commerce - ECPv6.15.17//NONSGML v1.0//EN
CALSCALE:GREGORIAN
METHOD:PUBLISH
X-WR-CALNAME:Chewelah Chamber of Commerce
X-ORIGINAL-URL:https://chewelah.org
X-WR-CALDESC:Events for Chewelah Chamber of Commerce
REFRESH-INTERVAL;VALUE=DURATION:PT1H
X-Robots-Tag:noindex
X-PUBLISHED-TTL:PT1H
BEGIN:VTIMEZONE
TZID:America/Los_Angeles
BEGIN:DAYLIGHT
TZOFFSETFROM:-0800
TZOFFSETTO:-0700
TZNAME:PDT
DTSTART:20260308T100000
END:DAYLIGHT
BEGIN:STANDARD
TZOFFSETFROM:-0700
TZOFFSETTO:-0800
TZNAME:PST
DTSTART:20261101T090000
END:STANDARD
BEGIN:DAYLIGHT
TZOFFSETFROM:-0800
TZOFFSETTO:-0700
TZNAME:PDT
DTSTART:20270314T100000
END:DAYLIGHT
BEGIN:STANDARD
TZOFFSETFROM:-0700
TZOFFSETTO:-0800
TZNAME:PST
DTSTART:20271107T090000
END:STANDARD
BEGIN:DAYLIGHT
TZOFFSETFROM:-0800
TZOFFSETTO:-0700
TZNAME:PDT
DTSTART:20280312T100000
END:DAYLIGHT
BEGIN:STANDARD
TZOFFSETFROM:-0700
TZOFFSETTO:-0800
TZNAME:PST
DTSTART:20281105T090000
END:STANDARD
END:VTIMEZONE
BEGIN:VEVENT
DTSTART;TZID=America/Los_Angeles:20270616T120000
DTEND;TZID=America/Los_Angeles:20270616T140000
DTSTAMP:20260420T140232
CREATED:20260109T190918Z
LAST-MODIFIED:20260109T190918Z
UID:10044158-1813147200-1813154400@chewelah.org
SUMMARY:Women's Bible Study
DESCRIPTION:
URL:https://chewelah.org/event/womens-bible-study/2027-06-16/
LOCATION:Chewelah Senior Center
CATEGORIES:Fall Events,Senior Event,Spring Events,Summer Events,Winter Events
END:VEVENT
BEGIN:VEVENT
DTSTART;TZID=America/Los_Angeles:20270621T103000
DTEND;TZID=America/Los_Angeles:20270621T120000
DTSTAMP:20260420T140232
CREATED:20260109T190814Z
LAST-MODIFIED:20260109T190814Z
UID:10043898-1813573800-1813579200@chewelah.org
SUMMARY:Social Hour
DESCRIPTION:
URL:https://chewelah.org/event/social-hour/2027-06-21/
LOCATION:Chewelah Senior Center
CATEGORIES:Fall Events,Senior Event,Spring Events,Summer Events,Winter Events
END:VEVENT
BEGIN:VEVENT
DTSTART;TZID=America/Los_Angeles:20270623T120000
DTEND;TZID=America/Los_Angeles:20270623T140000
DTSTAMP:20260420T140232
CREATED:20260109T190918Z
LAST-MODIFIED:20260109T190918Z
UID:10044159-1813752000-1813759200@chewelah.org
SUMMARY:Women's Bible Study
DESCRIPTION:
URL:https://chewelah.org/event/womens-bible-study/2027-06-23/
LOCATION:Chewelah Senior Center
CATEGORIES:Fall Events,Senior Event,Spring Events,Summer Events,Winter Events
END:VEVENT
BEGIN:VEVENT
DTSTART;TZID=America/Los_Angeles:20270628T103000
DTEND;TZID=America/Los_Angeles:20270628T120000
DTSTAMP:20260420T140232
CREATED:20260109T190814Z
LAST-MODIFIED:20260109T190814Z
UID:10043899-1814178600-1814184000@chewelah.org
SUMMARY:Social Hour
DESCRIPTION:
URL:https://chewelah.org/event/social-hour/2027-06-28/
LOCATION:Chewelah Senior Center
CATEGORIES:Fall Events,Senior Event,Spring Events,Summer Events,Winter Events
END:VEVENT
BEGIN:VEVENT
DTSTART;TZID=America/Los_Angeles:20270630T120000
DTEND;TZID=America/Los_Angeles:20270630T140000
DTSTAMP:20260420T140232
CREATED:20260109T190918Z
LAST-MODIFIED:20260109T190918Z
UID:10044160-1814356800-1814364000@chewelah.org
SUMMARY:Women's Bible Study
DESCRIPTION:
URL:https://chewelah.org/event/womens-bible-study/2027-06-30/
LOCATION:Chewelah Senior Center
CATEGORIES:Fall Events,Senior Event,Spring Events,Summer Events,Winter Events
END:VEVENT
BEGIN:VEVENT
DTSTART;TZID=America/Los_Angeles:20270705T103000
DTEND;TZID=America/Los_Angeles:20270705T120000
DTSTAMP:20260420T140232
CREATED:20260109T190814Z
LAST-MODIFIED:20260109T190814Z
UID:10043900-1814783400-1814788800@chewelah.org
SUMMARY:Social Hour
DESCRIPTION:
URL:https://chewelah.org/event/social-hour/2027-07-05/
LOCATION:Chewelah Senior Center
CATEGORIES:Fall Events,Senior Event,Spring Events,Summer Events,Winter Events
END:VEVENT
BEGIN:VEVENT
DTSTART;TZID=America/Los_Angeles:20270707T120000
DTEND;TZID=America/Los_Angeles:20270707T140000
DTSTAMP:20260420T140232
CREATED:20260109T190918Z
LAST-MODIFIED:20260109T190918Z
UID:10044161-1814961600-1814968800@chewelah.org
SUMMARY:Women's Bible Study
DESCRIPTION:
URL:https://chewelah.org/event/womens-bible-study/2027-07-07/
LOCATION:Chewelah Senior Center
CATEGORIES:Fall Events,Senior Event,Spring Events,Summer Events,Winter Events
END:VEVENT
BEGIN:VEVENT
DTSTART;TZID=America/Los_Angeles:20270712T103000
DTEND;TZID=America/Los_Angeles:20270712T120000
DTSTAMP:20260420T140232
CREATED:20260109T190814Z
LAST-MODIFIED:20260109T190814Z
UID:10043901-1815388200-1815393600@chewelah.org
SUMMARY:Social Hour
DESCRIPTION:
URL:https://chewelah.org/event/social-hour/2027-07-12/
LOCATION:Chewelah Senior Center
CATEGORIES:Fall Events,Senior Event,Spring Events,Summer Events,Winter Events
END:VEVENT
BEGIN:VEVENT
DTSTART;TZID=America/Los_Angeles:20270714T120000
DTEND;TZID=America/Los_Angeles:20270714T140000
DTSTAMP:20260420T140232
CREATED:20260109T190918Z
LAST-MODIFIED:20260109T190918Z
UID:10044162-1815566400-1815573600@chewelah.org
SUMMARY:Women's Bible Study
DESCRIPTION:
URL:https://chewelah.org/event/womens-bible-study/2027-07-14/
LOCATION:Chewelah Senior Center
CATEGORIES:Fall Events,Senior Event,Spring Events,Summer Events,Winter Events
END:VEVENT
BEGIN:VEVENT
DTSTART;TZID=America/Los_Angeles:20270719T103000
DTEND;TZID=America/Los_Angeles:20270719T120000
DTSTAMP:20260420T140232
CREATED:20260109T190814Z
LAST-MODIFIED:20260109T190814Z
UID:10043902-1815993000-1815998400@chewelah.org
SUMMARY:Social Hour
DESCRIPTION:
URL:https://chewelah.org/event/social-hour/2027-07-19/
LOCATION:Chewelah Senior Center
CATEGORIES:Fall Events,Senior Event,Spring Events,Summer Events,Winter Events
END:VEVENT
BEGIN:VEVENT
DTSTART;TZID=America/Los_Angeles:20270721T120000
DTEND;TZID=America/Los_Angeles:20270721T140000
DTSTAMP:20260420T140232
CREATED:20260109T190918Z
LAST-MODIFIED:20260109T190918Z
UID:10044163-1816171200-1816178400@chewelah.org
SUMMARY:Women's Bible Study
DESCRIPTION:
URL:https://chewelah.org/event/womens-bible-study/2027-07-21/
LOCATION:Chewelah Senior Center
CATEGORIES:Fall Events,Senior Event,Spring Events,Summer Events,Winter Events
END:VEVENT
BEGIN:VEVENT
DTSTART;TZID=America/Los_Angeles:20270726T103000
DTEND;TZID=America/Los_Angeles:20270726T120000
DTSTAMP:20260420T140232
CREATED:20260109T190814Z
LAST-MODIFIED:20260109T190814Z
UID:10043903-1816597800-1816603200@chewelah.org
SUMMARY:Social Hour
DESCRIPTION:
URL:https://chewelah.org/event/social-hour/2027-07-26/
LOCATION:Chewelah Senior Center
CATEGORIES:Fall Events,Senior Event,Spring Events,Summer Events,Winter Events
END:VEVENT
BEGIN:VEVENT
DTSTART;TZID=America/Los_Angeles:20270728T120000
DTEND;TZID=America/Los_Angeles:20270728T140000
DTSTAMP:20260420T140232
CREATED:20260109T190918Z
LAST-MODIFIED:20260109T190918Z
UID:10044164-1816776000-1816783200@chewelah.org
SUMMARY:Women's Bible Study
DESCRIPTION:
URL:https://chewelah.org/event/womens-bible-study/2027-07-28/
LOCATION:Chewelah Senior Center
CATEGORIES:Fall Events,Senior Event,Spring Events,Summer Events,Winter Events
END:VEVENT
BEGIN:VEVENT
DTSTART;TZID=America/Los_Angeles:20270802T103000
DTEND;TZID=America/Los_Angeles:20270802T120000
DTSTAMP:20260420T140232
CREATED:20260109T190814Z
LAST-MODIFIED:20260109T190814Z
UID:10043904-1817202600-1817208000@chewelah.org
SUMMARY:Social Hour
DESCRIPTION:
URL:https://chewelah.org/event/social-hour/2027-08-02/
LOCATION:Chewelah Senior Center
CATEGORIES:Fall Events,Senior Event,Spring Events,Summer Events,Winter Events
END:VEVENT
BEGIN:VEVENT
DTSTART;TZID=America/Los_Angeles:20270804T120000
DTEND;TZID=America/Los_Angeles:20270804T140000
DTSTAMP:20260420T140232
CREATED:20260109T190918Z
LAST-MODIFIED:20260109T190918Z
UID:10044165-1817380800-1817388000@chewelah.org
SUMMARY:Women's Bible Study
DESCRIPTION:
URL:https://chewelah.org/event/womens-bible-study/2027-08-04/
LOCATION:Chewelah Senior Center
CATEGORIES:Fall Events,Senior Event,Spring Events,Summer Events,Winter Events
END:VEVENT
BEGIN:VEVENT
DTSTART;TZID=America/Los_Angeles:20270809T103000
DTEND;TZID=America/Los_Angeles:20270809T120000
DTSTAMP:20260420T140232
CREATED:20260109T190814Z
LAST-MODIFIED:20260109T190814Z
UID:10043905-1817807400-1817812800@chewelah.org
SUMMARY:Social Hour
DESCRIPTION:
URL:https://chewelah.org/event/social-hour/2027-08-09/
LOCATION:Chewelah Senior Center
CATEGORIES:Fall Events,Senior Event,Spring Events,Summer Events,Winter Events
END:VEVENT
BEGIN:VEVENT
DTSTART;TZID=America/Los_Angeles:20270811T120000
DTEND;TZID=America/Los_Angeles:20270811T140000
DTSTAMP:20260420T140232
CREATED:20260109T190918Z
LAST-MODIFIED:20260109T190918Z
UID:10044166-1817985600-1817992800@chewelah.org
SUMMARY:Women's Bible Study
DESCRIPTION:
URL:https://chewelah.org/event/womens-bible-study/2027-08-11/
LOCATION:Chewelah Senior Center
CATEGORIES:Fall Events,Senior Event,Spring Events,Summer Events,Winter Events
END:VEVENT
BEGIN:VEVENT
DTSTART;TZID=America/Los_Angeles:20270816T103000
DTEND;TZID=America/Los_Angeles:20270816T120000
DTSTAMP:20260420T140232
CREATED:20260109T190814Z
LAST-MODIFIED:20260109T190814Z
UID:10043906-1818412200-1818417600@chewelah.org
SUMMARY:Social Hour
DESCRIPTION:
URL:https://chewelah.org/event/social-hour/2027-08-16/
LOCATION:Chewelah Senior Center
CATEGORIES:Fall Events,Senior Event,Spring Events,Summer Events,Winter Events
END:VEVENT
BEGIN:VEVENT
DTSTART;TZID=America/Los_Angeles:20270818T120000
DTEND;TZID=America/Los_Angeles:20270818T140000
DTSTAMP:20260420T140232
CREATED:20260109T190918Z
LAST-MODIFIED:20260109T190918Z
UID:10044167-1818590400-1818597600@chewelah.org
SUMMARY:Women's Bible Study
DESCRIPTION:
URL:https://chewelah.org/event/womens-bible-study/2027-08-18/
LOCATION:Chewelah Senior Center
CATEGORIES:Fall Events,Senior Event,Spring Events,Summer Events,Winter Events
END:VEVENT
BEGIN:VEVENT
DTSTART;TZID=America/Los_Angeles:20270823T103000
DTEND;TZID=America/Los_Angeles:20270823T120000
DTSTAMP:20260420T140232
CREATED:20260109T190814Z
LAST-MODIFIED:20260109T190814Z
UID:10043907-1819017000-1819022400@chewelah.org
SUMMARY:Social Hour
DESCRIPTION:
URL:https://chewelah.org/event/social-hour/2027-08-23/
LOCATION:Chewelah Senior Center
CATEGORIES:Fall Events,Senior Event,Spring Events,Summer Events,Winter Events
END:VEVENT
BEGIN:VEVENT
DTSTART;TZID=America/Los_Angeles:20270825T120000
DTEND;TZID=America/Los_Angeles:20270825T140000
DTSTAMP:20260420T140232
CREATED:20260109T190918Z
LAST-MODIFIED:20260109T190918Z
UID:10044168-1819195200-1819202400@chewelah.org
SUMMARY:Women's Bible Study
DESCRIPTION:
URL:https://chewelah.org/event/womens-bible-study/2027-08-25/
LOCATION:Chewelah Senior Center
CATEGORIES:Fall Events,Senior Event,Spring Events,Summer Events,Winter Events
END:VEVENT
BEGIN:VEVENT
DTSTART;TZID=America/Los_Angeles:20270830T103000
DTEND;TZID=America/Los_Angeles:20270830T120000
DTSTAMP:20260420T140232
CREATED:20260109T190814Z
LAST-MODIFIED:20260109T190814Z
UID:10043908-1819621800-1819627200@chewelah.org
SUMMARY:Social Hour
DESCRIPTION:
URL:https://chewelah.org/event/social-hour/2027-08-30/
LOCATION:Chewelah Senior Center
CATEGORIES:Fall Events,Senior Event,Spring Events,Summer Events,Winter Events
END:VEVENT
BEGIN:VEVENT
DTSTART;TZID=America/Los_Angeles:20270901T120000
DTEND;TZID=America/Los_Angeles:20270901T140000
DTSTAMP:20260420T140232
CREATED:20260109T190918Z
LAST-MODIFIED:20260109T190918Z
UID:10044169-1819800000-1819807200@chewelah.org
SUMMARY:Women's Bible Study
DESCRIPTION:
URL:https://chewelah.org/event/womens-bible-study/2027-09-01/
LOCATION:Chewelah Senior Center
CATEGORIES:Fall Events,Senior Event,Spring Events,Summer Events,Winter Events
END:VEVENT
BEGIN:VEVENT
DTSTART;TZID=America/Los_Angeles:20270906T103000
DTEND;TZID=America/Los_Angeles:20270906T120000
DTSTAMP:20260420T140232
CREATED:20260109T190814Z
LAST-MODIFIED:20260109T190814Z
UID:10043909-1820226600-1820232000@chewelah.org
SUMMARY:Social Hour
DESCRIPTION:
URL:https://chewelah.org/event/social-hour/2027-09-06/
LOCATION:Chewelah Senior Center
CATEGORIES:Fall Events,Senior Event,Spring Events,Summer Events,Winter Events
END:VEVENT
BEGIN:VEVENT
DTSTART;TZID=America/Los_Angeles:20270908T120000
DTEND;TZID=America/Los_Angeles:20270908T140000
DTSTAMP:20260420T140232
CREATED:20260109T190918Z
LAST-MODIFIED:20260109T190918Z
UID:10044170-1820404800-1820412000@chewelah.org
SUMMARY:Women's Bible Study
DESCRIPTION:
URL:https://chewelah.org/event/womens-bible-study/2027-09-08/
LOCATION:Chewelah Senior Center
CATEGORIES:Fall Events,Senior Event,Spring Events,Summer Events,Winter Events
END:VEVENT
BEGIN:VEVENT
DTSTART;TZID=America/Los_Angeles:20270913T103000
DTEND;TZID=America/Los_Angeles:20270913T120000
DTSTAMP:20260420T140232
CREATED:20260109T190814Z
LAST-MODIFIED:20260109T190814Z
UID:10043910-1820831400-1820836800@chewelah.org
SUMMARY:Social Hour
DESCRIPTION:
URL:https://chewelah.org/event/social-hour/2027-09-13/
LOCATION:Chewelah Senior Center
CATEGORIES:Fall Events,Senior Event,Spring Events,Summer Events,Winter Events
END:VEVENT
BEGIN:VEVENT
DTSTART;TZID=America/Los_Angeles:20270915T120000
DTEND;TZID=America/Los_Angeles:20270915T140000
DTSTAMP:20260420T140232
CREATED:20260109T190918Z
LAST-MODIFIED:20260109T190918Z
UID:10044171-1821009600-1821016800@chewelah.org
SUMMARY:Women's Bible Study
DESCRIPTION:
URL:https://chewelah.org/event/womens-bible-study/2027-09-15/
LOCATION:Chewelah Senior Center
CATEGORIES:Fall Events,Senior Event,Spring Events,Summer Events,Winter Events
END:VEVENT
BEGIN:VEVENT
DTSTART;TZID=America/Los_Angeles:20270920T103000
DTEND;TZID=America/Los_Angeles:20270920T120000
DTSTAMP:20260420T140232
CREATED:20260109T190814Z
LAST-MODIFIED:20260109T190814Z
UID:10043911-1821436200-1821441600@chewelah.org
SUMMARY:Social Hour
DESCRIPTION:
URL:https://chewelah.org/event/social-hour/2027-09-20/
LOCATION:Chewelah Senior Center
CATEGORIES:Fall Events,Senior Event,Spring Events,Summer Events,Winter Events
END:VEVENT
BEGIN:VEVENT
DTSTART;TZID=America/Los_Angeles:20270922T120000
DTEND;TZID=America/Los_Angeles:20270922T140000
DTSTAMP:20260420T140232
CREATED:20260109T190918Z
LAST-MODIFIED:20260109T190918Z
UID:10044172-1821614400-1821621600@chewelah.org
SUMMARY:Women's Bible Study
DESCRIPTION:
URL:https://chewelah.org/event/womens-bible-study/2027-09-22/
LOCATION:Chewelah Senior Center
CATEGORIES:Fall Events,Senior Event,Spring Events,Summer Events,Winter Events
END:VEVENT
BEGIN:VEVENT
DTSTART;TZID=America/Los_Angeles:20270927T103000
DTEND;TZID=America/Los_Angeles:20270927T120000
DTSTAMP:20260420T140232
CREATED:20260109T190814Z
LAST-MODIFIED:20260109T190814Z
UID:10043912-1822041000-1822046400@chewelah.org
SUMMARY:Social Hour
DESCRIPTION:
URL:https://chewelah.org/event/social-hour/2027-09-27/
LOCATION:Chewelah Senior Center
CATEGORIES:Fall Events,Senior Event,Spring Events,Summer Events,Winter Events
END:VEVENT
END:VCALENDAR