BEGIN:VCALENDAR
VERSION:2.0
PRODID:-//Chewelah Chamber of Commerce - ECPv6.15.17//NONSGML v1.0//EN
CALSCALE:GREGORIAN
METHOD:PUBLISH
X-ORIGINAL-URL:https://chewelah.org
X-WR-CALDESC:Events for Chewelah Chamber of Commerce
REFRESH-INTERVAL;VALUE=DURATION:PT1H
X-Robots-Tag:noindex
X-PUBLISHED-TTL:PT1H
BEGIN:VTIMEZONE
TZID:America/Los_Angeles
BEGIN:DAYLIGHT
TZOFFSETFROM:-0800
TZOFFSETTO:-0700
TZNAME:PDT
DTSTART:20240310T100000
END:DAYLIGHT
BEGIN:STANDARD
TZOFFSETFROM:-0700
TZOFFSETTO:-0800
TZNAME:PST
DTSTART:20241103T090000
END:STANDARD
BEGIN:DAYLIGHT
TZOFFSETFROM:-0800
TZOFFSETTO:-0700
TZNAME:PDT
DTSTART:20250309T100000
END:DAYLIGHT
BEGIN:STANDARD
TZOFFSETFROM:-0700
TZOFFSETTO:-0800
TZNAME:PST
DTSTART:20251102T090000
END:STANDARD
BEGIN:DAYLIGHT
TZOFFSETFROM:-0800
TZOFFSETTO:-0700
TZNAME:PDT
DTSTART:20260308T100000
END:DAYLIGHT
BEGIN:STANDARD
TZOFFSETFROM:-0700
TZOFFSETTO:-0800
TZNAME:PST
DTSTART:20261101T090000
END:STANDARD
END:VTIMEZONE
BEGIN:VEVENT
DTSTART;TZID=America/Los_Angeles:20250223T100000
DTEND;TZID=America/Los_Angeles:20250223T140000
DTSTAMP:20260421T051351
CREATED:20250217T185520Z
LAST-MODIFIED:20250217T185520Z
UID:10042470-1740304800-1740319200@chewelah.org
SUMMARY:Cross Country Ski Lesson at 49 Degrees North
DESCRIPTION:
URL:https://chewelah.org/event/cross-country-ski-lesson-at-49-degrees-north/
LOCATION:49°North\, 3311 Flowery Trail Rd\, Chewelah\, 99109\, United States
CATEGORIES:Family Friendly,Winter Events
END:VEVENT
BEGIN:VEVENT
DTSTART;TZID=America/Los_Angeles:20250223T160000
DTEND;TZID=America/Los_Angeles:20250223T190000
DTSTAMP:20260421T051351
CREATED:20240501T183302Z
LAST-MODIFIED:20240611T211725Z
UID:10040020-1740326400-1740337200@chewelah.org
SUMMARY:Fired Up Pizza Blues Jam
DESCRIPTION:
URL:https://chewelah.org/event/fired-up-pizza-blues-jam/2025-02-23/
LOCATION:Fired Up Pizza\, 206 E Main Ave\, Chewelah\, WA\, 99109\, United States
CATEGORIES:Community Event,Family Friendly
END:VEVENT
BEGIN:VEVENT
DTSTART;TZID=America/Los_Angeles:20250225T103000
DTEND;TZID=America/Los_Angeles:20250225T113000
DTSTAMP:20260421T051351
CREATED:20240711T193910Z
LAST-MODIFIED:20240711T193910Z
UID:10038283-1740479400-1740483000@chewelah.org
SUMMARY:Chewelah Library Story Time
DESCRIPTION:
URL:https://chewelah.org/event/chewelah-library-story-time-2/2025-02-25/
LOCATION:Chewelah Public Library\, 311 E Clay\, Chewelah\, WA\, 99109\, United States
CATEGORIES:Family Friendly
END:VEVENT
BEGIN:VEVENT
DTSTART;TZID=America/Los_Angeles:20250226T090000
DTEND;TZID=America/Los_Angeles:20250226T233000
DTSTAMP:20260421T051351
CREATED:20240122T235359Z
LAST-MODIFIED:20240507T181626Z
UID:10039084-1740560400-1740612600@chewelah.org
SUMMARY:Adult Pickleball
DESCRIPTION:Adult Pickleball \nWednesday from 9:00 am to 11:30 am \n243 Par Place by the Chewelah Golf course
URL:https://chewelah.org/event/soft-pickleball/2025-02-26/
LOCATION:Chewelah Golf & Country Club\, 2537 Sand Canyon Rd\, Chewelah\, WA\, 99109\, United States
CATEGORIES:Family Friendly
END:VEVENT
BEGIN:VEVENT
DTSTART;TZID=America/Los_Angeles:20250228T130000
DTEND;TZID=America/Los_Angeles:20250228T170000
DTSTAMP:20260421T051351
CREATED:20250227T213021Z
LAST-MODIFIED:20250227T213021Z
UID:10042482-1740747600-1740762000@chewelah.org
SUMMARY:Community Art Show
DESCRIPTION:
URL:https://chewelah.org/event/community-art-show-2/2025-02-28/
LOCATION:Chewelah Center for the Arts
CATEGORIES:Arts & Cultural Events,Family Friendly,Winter Events
ORGANIZER;CN="Chewelah Arts Guild":MAILTO:info@chewelahartsguild.org
END:VEVENT
BEGIN:VEVENT
DTSTART;TZID=America/Los_Angeles:20250301T130000
DTEND;TZID=America/Los_Angeles:20250301T170000
DTSTAMP:20260421T051351
CREATED:20250227T213021Z
LAST-MODIFIED:20250227T213021Z
UID:10042483-1740834000-1740848400@chewelah.org
SUMMARY:Community Art Show
DESCRIPTION:
URL:https://chewelah.org/event/community-art-show-2/2025-03-01/
LOCATION:Chewelah Center for the Arts
CATEGORIES:Arts & Cultural Events,Family Friendly,Winter Events
ORGANIZER;CN="Chewelah Arts Guild":MAILTO:info@chewelahartsguild.org
END:VEVENT
END:VCALENDAR