BEGIN:VCALENDAR
VERSION:2.0
PRODID:-//Chewelah Chamber of Commerce - ECPv6.15.17//NONSGML v1.0//EN
CALSCALE:GREGORIAN
METHOD:PUBLISH
X-ORIGINAL-URL:https://chewelah.org
X-WR-CALDESC:Events for Chewelah Chamber of Commerce
REFRESH-INTERVAL;VALUE=DURATION:PT1H
X-Robots-Tag:noindex
X-PUBLISHED-TTL:PT1H
BEGIN:VTIMEZONE
TZID:America/Los_Angeles
BEGIN:DAYLIGHT
TZOFFSETFROM:-0800
TZOFFSETTO:-0700
TZNAME:PDT
DTSTART:20270314T100000
END:DAYLIGHT
BEGIN:STANDARD
TZOFFSETFROM:-0700
TZOFFSETTO:-0800
TZNAME:PST
DTSTART:20271107T090000
END:STANDARD
BEGIN:DAYLIGHT
TZOFFSETFROM:-0800
TZOFFSETTO:-0700
TZNAME:PDT
DTSTART:20280312T100000
END:DAYLIGHT
BEGIN:STANDARD
TZOFFSETFROM:-0700
TZOFFSETTO:-0800
TZNAME:PST
DTSTART:20281105T090000
END:STANDARD
BEGIN:DAYLIGHT
TZOFFSETFROM:-0800
TZOFFSETTO:-0700
TZNAME:PDT
DTSTART:20290311T100000
END:DAYLIGHT
BEGIN:STANDARD
TZOFFSETFROM:-0700
TZOFFSETTO:-0800
TZNAME:PST
DTSTART:20291104T090000
END:STANDARD
END:VTIMEZONE
BEGIN:VEVENT
DTSTART;TZID=America/Los_Angeles:20280718T103000
DTEND;TZID=America/Los_Angeles:20280718T113000
DTSTAMP:20260420T110216
CREATED:20240711T193910Z
LAST-MODIFIED:20240711T193910Z
UID:10038460-1847529000-1847532600@chewelah.org
SUMMARY:Chewelah Library Story Time
DESCRIPTION:
URL:https://chewelah.org/event/chewelah-library-story-time-2/2028-07-18/
LOCATION:Chewelah Public Library\, 311 E Clay\, Chewelah\, WA\, 99109\, United States
CATEGORIES:Family Friendly
END:VEVENT
BEGIN:VEVENT
DTSTART;TZID=America/Los_Angeles:20280720T100000
DTEND;TZID=America/Los_Angeles:20280720T150000
DTSTAMP:20260420T110216
CREATED:20240307T220842Z
LAST-MODIFIED:20240314T164849Z
UID:10039619-1847700000-1847718000@chewelah.org
SUMMARY:Senior Citizens Potluck & Games
DESCRIPTION:Senior Citizens from Chewelah\, Valley\, & Springdale  are invited to join us the \n1st and 3rd Thursday of each month. \nFor games and potluck from 10:00 am to 3:00 pm \nPlace: Valley Fire department building \n 
URL:https://chewelah.org/event/senior-citizens-potluck-games/2028-07-20/
LOCATION:Stevens County Fire Dist. 4\, 3060 3rd Ave.\, Valley\, WA\, 99181\, United States
CATEGORIES:Community Event,Family Friendly
END:VEVENT
BEGIN:VEVENT
DTSTART;TZID=America/Los_Angeles:20280725T103000
DTEND;TZID=America/Los_Angeles:20280725T113000
DTSTAMP:20260420T110216
CREATED:20240711T193910Z
LAST-MODIFIED:20240711T193910Z
UID:10038461-1848133800-1848137400@chewelah.org
SUMMARY:Chewelah Library Story Time
DESCRIPTION:
URL:https://chewelah.org/event/chewelah-library-story-time-2/2028-07-25/
LOCATION:Chewelah Public Library\, 311 E Clay\, Chewelah\, WA\, 99109\, United States
CATEGORIES:Family Friendly
END:VEVENT
BEGIN:VEVENT
DTSTART;TZID=America/Los_Angeles:20280801T103000
DTEND;TZID=America/Los_Angeles:20280801T113000
DTSTAMP:20260420T110216
CREATED:20240711T193910Z
LAST-MODIFIED:20240711T193910Z
UID:10038462-1848738600-1848742200@chewelah.org
SUMMARY:Chewelah Library Story Time
DESCRIPTION:
URL:https://chewelah.org/event/chewelah-library-story-time-2/2028-08-01/
LOCATION:Chewelah Public Library\, 311 E Clay\, Chewelah\, WA\, 99109\, United States
CATEGORIES:Family Friendly
END:VEVENT
BEGIN:VEVENT
DTSTART;TZID=America/Los_Angeles:20280808T103000
DTEND;TZID=America/Los_Angeles:20280808T113000
DTSTAMP:20260420T110216
CREATED:20240711T193910Z
LAST-MODIFIED:20240711T193910Z
UID:10038463-1849343400-1849347000@chewelah.org
SUMMARY:Chewelah Library Story Time
DESCRIPTION:
URL:https://chewelah.org/event/chewelah-library-story-time-2/2028-08-08/
LOCATION:Chewelah Public Library\, 311 E Clay\, Chewelah\, WA\, 99109\, United States
CATEGORIES:Family Friendly
END:VEVENT
BEGIN:VEVENT
DTSTART;TZID=America/Los_Angeles:20280815T103000
DTEND;TZID=America/Los_Angeles:20280815T113000
DTSTAMP:20260420T110216
CREATED:20240711T193910Z
LAST-MODIFIED:20240711T193910Z
UID:10038464-1849948200-1849951800@chewelah.org
SUMMARY:Chewelah Library Story Time
DESCRIPTION:
URL:https://chewelah.org/event/chewelah-library-story-time-2/2028-08-15/
LOCATION:Chewelah Public Library\, 311 E Clay\, Chewelah\, WA\, 99109\, United States
CATEGORIES:Family Friendly
END:VEVENT
BEGIN:VEVENT
DTSTART;TZID=America/Los_Angeles:20280817T100000
DTEND;TZID=America/Los_Angeles:20280817T150000
DTSTAMP:20260420T110216
CREATED:20240307T220842Z
LAST-MODIFIED:20240314T164849Z
UID:10039620-1850119200-1850137200@chewelah.org
SUMMARY:Senior Citizens Potluck & Games
DESCRIPTION:Senior Citizens from Chewelah\, Valley\, & Springdale  are invited to join us the \n1st and 3rd Thursday of each month. \nFor games and potluck from 10:00 am to 3:00 pm \nPlace: Valley Fire department building \n 
URL:https://chewelah.org/event/senior-citizens-potluck-games/2028-08-17/
LOCATION:Stevens County Fire Dist. 4\, 3060 3rd Ave.\, Valley\, WA\, 99181\, United States
CATEGORIES:Community Event,Family Friendly
END:VEVENT
BEGIN:VEVENT
DTSTART;TZID=America/Los_Angeles:20280822T103000
DTEND;TZID=America/Los_Angeles:20280822T113000
DTSTAMP:20260420T110217
CREATED:20240711T193910Z
LAST-MODIFIED:20240711T193910Z
UID:10038465-1850553000-1850556600@chewelah.org
SUMMARY:Chewelah Library Story Time
DESCRIPTION:
URL:https://chewelah.org/event/chewelah-library-story-time-2/2028-08-22/
LOCATION:Chewelah Public Library\, 311 E Clay\, Chewelah\, WA\, 99109\, United States
CATEGORIES:Family Friendly
END:VEVENT
BEGIN:VEVENT
DTSTART;TZID=America/Los_Angeles:20280829T103000
DTEND;TZID=America/Los_Angeles:20280829T113000
DTSTAMP:20260420T110217
CREATED:20240711T193910Z
LAST-MODIFIED:20240711T193910Z
UID:10038466-1851157800-1851161400@chewelah.org
SUMMARY:Chewelah Library Story Time
DESCRIPTION:
URL:https://chewelah.org/event/chewelah-library-story-time-2/2028-08-29/
LOCATION:Chewelah Public Library\, 311 E Clay\, Chewelah\, WA\, 99109\, United States
CATEGORIES:Family Friendly
END:VEVENT
BEGIN:VEVENT
DTSTART;TZID=America/Los_Angeles:20280905T103000
DTEND;TZID=America/Los_Angeles:20280905T113000
DTSTAMP:20260420T110217
CREATED:20240711T193910Z
LAST-MODIFIED:20240711T193910Z
UID:10038467-1851762600-1851766200@chewelah.org
SUMMARY:Chewelah Library Story Time
DESCRIPTION:
URL:https://chewelah.org/event/chewelah-library-story-time-2/2028-09-05/
LOCATION:Chewelah Public Library\, 311 E Clay\, Chewelah\, WA\, 99109\, United States
CATEGORIES:Family Friendly
END:VEVENT
BEGIN:VEVENT
DTSTART;TZID=America/Los_Angeles:20280912T103000
DTEND;TZID=America/Los_Angeles:20280912T113000
DTSTAMP:20260420T110217
CREATED:20240711T193910Z
LAST-MODIFIED:20240711T193910Z
UID:10039094-1852367400-1852371000@chewelah.org
SUMMARY:Chewelah Library Story Time
DESCRIPTION:
URL:https://chewelah.org/event/chewelah-library-story-time-2/2028-09-12/
LOCATION:Chewelah Public Library\, 311 E Clay\, Chewelah\, WA\, 99109\, United States
CATEGORIES:Family Friendly
END:VEVENT
BEGIN:VEVENT
DTSTART;TZID=America/Los_Angeles:20280919T103000
DTEND;TZID=America/Los_Angeles:20280919T113000
DTSTAMP:20260420T110217
CREATED:20240711T193910Z
LAST-MODIFIED:20240711T193910Z
UID:10039095-1852972200-1852975800@chewelah.org
SUMMARY:Chewelah Library Story Time
DESCRIPTION:
URL:https://chewelah.org/event/chewelah-library-story-time-2/2028-09-19/
LOCATION:Chewelah Public Library\, 311 E Clay\, Chewelah\, WA\, 99109\, United States
CATEGORIES:Family Friendly
END:VEVENT
BEGIN:VEVENT
DTSTART;TZID=America/Los_Angeles:20280921T100000
DTEND;TZID=America/Los_Angeles:20280921T150000
DTSTAMP:20260420T110217
CREATED:20240307T220842Z
LAST-MODIFIED:20240314T164849Z
UID:10039621-1853143200-1853161200@chewelah.org
SUMMARY:Senior Citizens Potluck & Games
DESCRIPTION:Senior Citizens from Chewelah\, Valley\, & Springdale  are invited to join us the \n1st and 3rd Thursday of each month. \nFor games and potluck from 10:00 am to 3:00 pm \nPlace: Valley Fire department building \n 
URL:https://chewelah.org/event/senior-citizens-potluck-games/2028-09-21/
LOCATION:Stevens County Fire Dist. 4\, 3060 3rd Ave.\, Valley\, WA\, 99181\, United States
CATEGORIES:Community Event,Family Friendly
END:VEVENT
BEGIN:VEVENT
DTSTART;TZID=America/Los_Angeles:20280926T103000
DTEND;TZID=America/Los_Angeles:20280926T113000
DTSTAMP:20260420T110217
CREATED:20240711T193910Z
LAST-MODIFIED:20240711T193910Z
UID:10039096-1853577000-1853580600@chewelah.org
SUMMARY:Chewelah Library Story Time
DESCRIPTION:
URL:https://chewelah.org/event/chewelah-library-story-time-2/2028-09-26/
LOCATION:Chewelah Public Library\, 311 E Clay\, Chewelah\, WA\, 99109\, United States
CATEGORIES:Family Friendly
END:VEVENT
BEGIN:VEVENT
DTSTART;TZID=America/Los_Angeles:20281003T103000
DTEND;TZID=America/Los_Angeles:20281003T113000
DTSTAMP:20260420T110217
CREATED:20240711T193910Z
LAST-MODIFIED:20240711T193910Z
UID:10039097-1854181800-1854185400@chewelah.org
SUMMARY:Chewelah Library Story Time
DESCRIPTION:
URL:https://chewelah.org/event/chewelah-library-story-time-2/2028-10-03/
LOCATION:Chewelah Public Library\, 311 E Clay\, Chewelah\, WA\, 99109\, United States
CATEGORIES:Family Friendly
END:VEVENT
BEGIN:VEVENT
DTSTART;TZID=America/Los_Angeles:20281010T103000
DTEND;TZID=America/Los_Angeles:20281010T113000
DTSTAMP:20260420T110217
CREATED:20240711T193910Z
LAST-MODIFIED:20240711T193910Z
UID:10039098-1854786600-1854790200@chewelah.org
SUMMARY:Chewelah Library Story Time
DESCRIPTION:
URL:https://chewelah.org/event/chewelah-library-story-time-2/2028-10-10/
LOCATION:Chewelah Public Library\, 311 E Clay\, Chewelah\, WA\, 99109\, United States
CATEGORIES:Family Friendly
END:VEVENT
BEGIN:VEVENT
DTSTART;TZID=America/Los_Angeles:20281017T103000
DTEND;TZID=America/Los_Angeles:20281017T113000
DTSTAMP:20260420T110217
CREATED:20240711T193910Z
LAST-MODIFIED:20240711T193910Z
UID:10039099-1855391400-1855395000@chewelah.org
SUMMARY:Chewelah Library Story Time
DESCRIPTION:
URL:https://chewelah.org/event/chewelah-library-story-time-2/2028-10-17/
LOCATION:Chewelah Public Library\, 311 E Clay\, Chewelah\, WA\, 99109\, United States
CATEGORIES:Family Friendly
END:VEVENT
BEGIN:VEVENT
DTSTART;TZID=America/Los_Angeles:20281019T100000
DTEND;TZID=America/Los_Angeles:20281019T150000
DTSTAMP:20260420T110217
CREATED:20240307T220842Z
LAST-MODIFIED:20240314T164849Z
UID:10039622-1855562400-1855580400@chewelah.org
SUMMARY:Senior Citizens Potluck & Games
DESCRIPTION:Senior Citizens from Chewelah\, Valley\, & Springdale  are invited to join us the \n1st and 3rd Thursday of each month. \nFor games and potluck from 10:00 am to 3:00 pm \nPlace: Valley Fire department building \n 
URL:https://chewelah.org/event/senior-citizens-potluck-games/2028-10-19/
LOCATION:Stevens County Fire Dist. 4\, 3060 3rd Ave.\, Valley\, WA\, 99181\, United States
CATEGORIES:Community Event,Family Friendly
END:VEVENT
BEGIN:VEVENT
DTSTART;TZID=America/Los_Angeles:20281024T103000
DTEND;TZID=America/Los_Angeles:20281024T113000
DTSTAMP:20260420T110217
CREATED:20240711T193910Z
LAST-MODIFIED:20240711T193910Z
UID:10039100-1855996200-1855999800@chewelah.org
SUMMARY:Chewelah Library Story Time
DESCRIPTION:
URL:https://chewelah.org/event/chewelah-library-story-time-2/2028-10-24/
LOCATION:Chewelah Public Library\, 311 E Clay\, Chewelah\, WA\, 99109\, United States
CATEGORIES:Family Friendly
END:VEVENT
BEGIN:VEVENT
DTSTART;TZID=America/Los_Angeles:20281031T103000
DTEND;TZID=America/Los_Angeles:20281031T113000
DTSTAMP:20260420T110217
CREATED:20240711T193910Z
LAST-MODIFIED:20240711T193910Z
UID:10039101-1856601000-1856604600@chewelah.org
SUMMARY:Chewelah Library Story Time
DESCRIPTION:
URL:https://chewelah.org/event/chewelah-library-story-time-2/2028-10-31/
LOCATION:Chewelah Public Library\, 311 E Clay\, Chewelah\, WA\, 99109\, United States
CATEGORIES:Family Friendly
END:VEVENT
BEGIN:VEVENT
DTSTART;TZID=America/Los_Angeles:20281107T103000
DTEND;TZID=America/Los_Angeles:20281107T113000
DTSTAMP:20260420T110217
CREATED:20240711T193910Z
LAST-MODIFIED:20240711T193910Z
UID:10039102-1857205800-1857209400@chewelah.org
SUMMARY:Chewelah Library Story Time
DESCRIPTION:
URL:https://chewelah.org/event/chewelah-library-story-time-2/2028-11-07/
LOCATION:Chewelah Public Library\, 311 E Clay\, Chewelah\, WA\, 99109\, United States
CATEGORIES:Family Friendly
END:VEVENT
BEGIN:VEVENT
DTSTART;TZID=America/Los_Angeles:20281114T103000
DTEND;TZID=America/Los_Angeles:20281114T113000
DTSTAMP:20260420T110217
CREATED:20240711T193910Z
LAST-MODIFIED:20240711T193910Z
UID:10039103-1857810600-1857814200@chewelah.org
SUMMARY:Chewelah Library Story Time
DESCRIPTION:
URL:https://chewelah.org/event/chewelah-library-story-time-2/2028-11-14/
LOCATION:Chewelah Public Library\, 311 E Clay\, Chewelah\, WA\, 99109\, United States
CATEGORIES:Family Friendly
END:VEVENT
BEGIN:VEVENT
DTSTART;TZID=America/Los_Angeles:20281116T100000
DTEND;TZID=America/Los_Angeles:20281116T150000
DTSTAMP:20260420T110217
CREATED:20240307T220842Z
LAST-MODIFIED:20240314T164849Z
UID:10039623-1857981600-1857999600@chewelah.org
SUMMARY:Senior Citizens Potluck & Games
DESCRIPTION:Senior Citizens from Chewelah\, Valley\, & Springdale  are invited to join us the \n1st and 3rd Thursday of each month. \nFor games and potluck from 10:00 am to 3:00 pm \nPlace: Valley Fire department building \n 
URL:https://chewelah.org/event/senior-citizens-potluck-games/2028-11-16/
LOCATION:Stevens County Fire Dist. 4\, 3060 3rd Ave.\, Valley\, WA\, 99181\, United States
CATEGORIES:Community Event,Family Friendly
END:VEVENT
BEGIN:VEVENT
DTSTART;TZID=America/Los_Angeles:20281121T103000
DTEND;TZID=America/Los_Angeles:20281121T113000
DTSTAMP:20260420T110217
CREATED:20240711T193910Z
LAST-MODIFIED:20240711T193910Z
UID:10039104-1858415400-1858419000@chewelah.org
SUMMARY:Chewelah Library Story Time
DESCRIPTION:
URL:https://chewelah.org/event/chewelah-library-story-time-2/2028-11-21/
LOCATION:Chewelah Public Library\, 311 E Clay\, Chewelah\, WA\, 99109\, United States
CATEGORIES:Family Friendly
END:VEVENT
BEGIN:VEVENT
DTSTART;TZID=America/Los_Angeles:20281128T103000
DTEND;TZID=America/Los_Angeles:20281128T113000
DTSTAMP:20260420T110217
CREATED:20240711T193910Z
LAST-MODIFIED:20240711T193910Z
UID:10039105-1859020200-1859023800@chewelah.org
SUMMARY:Chewelah Library Story Time
DESCRIPTION:
URL:https://chewelah.org/event/chewelah-library-story-time-2/2028-11-28/
LOCATION:Chewelah Public Library\, 311 E Clay\, Chewelah\, WA\, 99109\, United States
CATEGORIES:Family Friendly
END:VEVENT
BEGIN:VEVENT
DTSTART;TZID=America/Los_Angeles:20281205T103000
DTEND;TZID=America/Los_Angeles:20281205T113000
DTSTAMP:20260420T110217
CREATED:20240711T193910Z
LAST-MODIFIED:20240711T193910Z
UID:10039106-1859625000-1859628600@chewelah.org
SUMMARY:Chewelah Library Story Time
DESCRIPTION:
URL:https://chewelah.org/event/chewelah-library-story-time-2/2028-12-05/
LOCATION:Chewelah Public Library\, 311 E Clay\, Chewelah\, WA\, 99109\, United States
CATEGORIES:Family Friendly
END:VEVENT
BEGIN:VEVENT
DTSTART;TZID=America/Los_Angeles:20281212T103000
DTEND;TZID=America/Los_Angeles:20281212T113000
DTSTAMP:20260420T110217
CREATED:20240711T193910Z
LAST-MODIFIED:20240711T193910Z
UID:10039107-1860229800-1860233400@chewelah.org
SUMMARY:Chewelah Library Story Time
DESCRIPTION:
URL:https://chewelah.org/event/chewelah-library-story-time-2/2028-12-12/
LOCATION:Chewelah Public Library\, 311 E Clay\, Chewelah\, WA\, 99109\, United States
CATEGORIES:Family Friendly
END:VEVENT
BEGIN:VEVENT
DTSTART;TZID=America/Los_Angeles:20281219T103000
DTEND;TZID=America/Los_Angeles:20281219T113000
DTSTAMP:20260420T110217
CREATED:20240711T193910Z
LAST-MODIFIED:20240711T193910Z
UID:10039108-1860834600-1860838200@chewelah.org
SUMMARY:Chewelah Library Story Time
DESCRIPTION:
URL:https://chewelah.org/event/chewelah-library-story-time-2/2028-12-19/
LOCATION:Chewelah Public Library\, 311 E Clay\, Chewelah\, WA\, 99109\, United States
CATEGORIES:Family Friendly
END:VEVENT
BEGIN:VEVENT
DTSTART;TZID=America/Los_Angeles:20281221T100000
DTEND;TZID=America/Los_Angeles:20281221T150000
DTSTAMP:20260420T110217
CREATED:20240307T220842Z
LAST-MODIFIED:20240314T164849Z
UID:10039624-1861005600-1861023600@chewelah.org
SUMMARY:Senior Citizens Potluck & Games
DESCRIPTION:Senior Citizens from Chewelah\, Valley\, & Springdale  are invited to join us the \n1st and 3rd Thursday of each month. \nFor games and potluck from 10:00 am to 3:00 pm \nPlace: Valley Fire department building \n 
URL:https://chewelah.org/event/senior-citizens-potluck-games/2028-12-21/
LOCATION:Stevens County Fire Dist. 4\, 3060 3rd Ave.\, Valley\, WA\, 99181\, United States
CATEGORIES:Community Event,Family Friendly
END:VEVENT
BEGIN:VEVENT
DTSTART;TZID=America/Los_Angeles:20281226T103000
DTEND;TZID=America/Los_Angeles:20281226T113000
DTSTAMP:20260420T110217
CREATED:20240711T193910Z
LAST-MODIFIED:20240711T193910Z
UID:10039109-1861439400-1861443000@chewelah.org
SUMMARY:Chewelah Library Story Time
DESCRIPTION:
URL:https://chewelah.org/event/chewelah-library-story-time-2/2028-12-26/
LOCATION:Chewelah Public Library\, 311 E Clay\, Chewelah\, WA\, 99109\, United States
CATEGORIES:Family Friendly
END:VEVENT
END:VCALENDAR