BEGIN:VCALENDAR
VERSION:2.0
PRODID:-//Chewelah Chamber of Commerce - ECPv6.15.17//NONSGML v1.0//EN
CALSCALE:GREGORIAN
METHOD:PUBLISH
X-ORIGINAL-URL:https://chewelah.org
X-WR-CALDESC:Events for Chewelah Chamber of Commerce
REFRESH-INTERVAL;VALUE=DURATION:PT1H
X-Robots-Tag:noindex
X-PUBLISHED-TTL:PT1H
BEGIN:VTIMEZONE
TZID:America/Los_Angeles
BEGIN:DAYLIGHT
TZOFFSETFROM:-0800
TZOFFSETTO:-0700
TZNAME:PDT
DTSTART:20280312T100000
END:DAYLIGHT
BEGIN:STANDARD
TZOFFSETFROM:-0700
TZOFFSETTO:-0800
TZNAME:PST
DTSTART:20281105T090000
END:STANDARD
BEGIN:DAYLIGHT
TZOFFSETFROM:-0800
TZOFFSETTO:-0700
TZNAME:PDT
DTSTART:20290311T100000
END:DAYLIGHT
BEGIN:STANDARD
TZOFFSETFROM:-0700
TZOFFSETTO:-0800
TZNAME:PST
DTSTART:20291104T090000
END:STANDARD
BEGIN:DAYLIGHT
TZOFFSETFROM:-0800
TZOFFSETTO:-0700
TZNAME:PDT
DTSTART:20300310T100000
END:DAYLIGHT
BEGIN:STANDARD
TZOFFSETFROM:-0700
TZOFFSETTO:-0800
TZNAME:PST
DTSTART:20301103T090000
END:STANDARD
END:VTIMEZONE
BEGIN:VEVENT
DTSTART;TZID=America/Los_Angeles:20290215T100000
DTEND;TZID=America/Los_Angeles:20290215T150000
DTSTAMP:20260421T125441
CREATED:20240307T220842Z
LAST-MODIFIED:20240314T164849Z
UID:10039626-1865844000-1865862000@chewelah.org
SUMMARY:Senior Citizens Potluck & Games
DESCRIPTION:Senior Citizens from Chewelah\, Valley\, & Springdale  are invited to join us the \n1st and 3rd Thursday of each month. \nFor games and potluck from 10:00 am to 3:00 pm \nPlace: Valley Fire department building \n 
URL:https://chewelah.org/event/senior-citizens-potluck-games/2029-02-15/
LOCATION:Stevens County Fire Dist. 4\, 3060 3rd Ave.\, Valley\, WA\, 99181\, United States
CATEGORIES:Community Event,Family Friendly
END:VEVENT
BEGIN:VEVENT
DTSTART;TZID=America/Los_Angeles:20290220T103000
DTEND;TZID=America/Los_Angeles:20290220T113000
DTSTAMP:20260421T125441
CREATED:20240711T193910Z
LAST-MODIFIED:20240711T193910Z
UID:10041072-1866277800-1866281400@chewelah.org
SUMMARY:Chewelah Library Story Time
DESCRIPTION:
URL:https://chewelah.org/event/chewelah-library-story-time-2/2029-02-20/
LOCATION:Chewelah Public Library\, 311 E Clay\, Chewelah\, WA\, 99109\, United States
CATEGORIES:Family Friendly
END:VEVENT
BEGIN:VEVENT
DTSTART;TZID=America/Los_Angeles:20290227T103000
DTEND;TZID=America/Los_Angeles:20290227T113000
DTSTAMP:20260421T125441
CREATED:20240711T193910Z
LAST-MODIFIED:20240711T193910Z
UID:10041073-1866882600-1866886200@chewelah.org
SUMMARY:Chewelah Library Story Time
DESCRIPTION:
URL:https://chewelah.org/event/chewelah-library-story-time-2/2029-02-27/
LOCATION:Chewelah Public Library\, 311 E Clay\, Chewelah\, WA\, 99109\, United States
CATEGORIES:Family Friendly
END:VEVENT
BEGIN:VEVENT
DTSTART;TZID=America/Los_Angeles:20290306T103000
DTEND;TZID=America/Los_Angeles:20290306T113000
DTSTAMP:20260421T125441
CREATED:20240711T193910Z
LAST-MODIFIED:20240711T193910Z
UID:10041074-1867487400-1867491000@chewelah.org
SUMMARY:Chewelah Library Story Time
DESCRIPTION:
URL:https://chewelah.org/event/chewelah-library-story-time-2/2029-03-06/
LOCATION:Chewelah Public Library\, 311 E Clay\, Chewelah\, WA\, 99109\, United States
CATEGORIES:Family Friendly
END:VEVENT
BEGIN:VEVENT
DTSTART;TZID=America/Los_Angeles:20290313T103000
DTEND;TZID=America/Los_Angeles:20290313T113000
DTSTAMP:20260421T125441
CREATED:20240711T193910Z
LAST-MODIFIED:20240711T193910Z
UID:10041075-1868092200-1868095800@chewelah.org
SUMMARY:Chewelah Library Story Time
DESCRIPTION:
URL:https://chewelah.org/event/chewelah-library-story-time-2/2029-03-13/
LOCATION:Chewelah Public Library\, 311 E Clay\, Chewelah\, WA\, 99109\, United States
CATEGORIES:Family Friendly
END:VEVENT
BEGIN:VEVENT
DTSTART;TZID=America/Los_Angeles:20290320T103000
DTEND;TZID=America/Los_Angeles:20290320T113000
DTSTAMP:20260421T125441
CREATED:20240711T193910Z
LAST-MODIFIED:20240711T193910Z
UID:10041076-1868697000-1868700600@chewelah.org
SUMMARY:Chewelah Library Story Time
DESCRIPTION:
URL:https://chewelah.org/event/chewelah-library-story-time-2/2029-03-20/
LOCATION:Chewelah Public Library\, 311 E Clay\, Chewelah\, WA\, 99109\, United States
CATEGORIES:Family Friendly
END:VEVENT
BEGIN:VEVENT
DTSTART;TZID=America/Los_Angeles:20290327T103000
DTEND;TZID=America/Los_Angeles:20290327T113000
DTSTAMP:20260421T125441
CREATED:20240711T193910Z
LAST-MODIFIED:20240711T193910Z
UID:10041077-1869301800-1869305400@chewelah.org
SUMMARY:Chewelah Library Story Time
DESCRIPTION:
URL:https://chewelah.org/event/chewelah-library-story-time-2/2029-03-27/
LOCATION:Chewelah Public Library\, 311 E Clay\, Chewelah\, WA\, 99109\, United States
CATEGORIES:Family Friendly
END:VEVENT
BEGIN:VEVENT
DTSTART;TZID=America/Los_Angeles:20290403T103000
DTEND;TZID=America/Los_Angeles:20290403T113000
DTSTAMP:20260421T125441
CREATED:20240711T193910Z
LAST-MODIFIED:20240711T193910Z
UID:10041078-1869906600-1869910200@chewelah.org
SUMMARY:Chewelah Library Story Time
DESCRIPTION:
URL:https://chewelah.org/event/chewelah-library-story-time-2/2029-04-03/
LOCATION:Chewelah Public Library\, 311 E Clay\, Chewelah\, WA\, 99109\, United States
CATEGORIES:Family Friendly
END:VEVENT
BEGIN:VEVENT
DTSTART;TZID=America/Los_Angeles:20290410T103000
DTEND;TZID=America/Los_Angeles:20290410T113000
DTSTAMP:20260421T125441
CREATED:20240711T193910Z
LAST-MODIFIED:20240711T193910Z
UID:10041079-1870511400-1870515000@chewelah.org
SUMMARY:Chewelah Library Story Time
DESCRIPTION:
URL:https://chewelah.org/event/chewelah-library-story-time-2/2029-04-10/
LOCATION:Chewelah Public Library\, 311 E Clay\, Chewelah\, WA\, 99109\, United States
CATEGORIES:Family Friendly
END:VEVENT
BEGIN:VEVENT
DTSTART;TZID=America/Los_Angeles:20290417T103000
DTEND;TZID=America/Los_Angeles:20290417T113000
DTSTAMP:20260421T125441
CREATED:20240711T193910Z
LAST-MODIFIED:20240711T193910Z
UID:10041080-1871116200-1871119800@chewelah.org
SUMMARY:Chewelah Library Story Time
DESCRIPTION:
URL:https://chewelah.org/event/chewelah-library-story-time-2/2029-04-17/
LOCATION:Chewelah Public Library\, 311 E Clay\, Chewelah\, WA\, 99109\, United States
CATEGORIES:Family Friendly
END:VEVENT
BEGIN:VEVENT
DTSTART;TZID=America/Los_Angeles:20290424T103000
DTEND;TZID=America/Los_Angeles:20290424T113000
DTSTAMP:20260421T125441
CREATED:20240711T193910Z
LAST-MODIFIED:20240711T193910Z
UID:10041081-1871721000-1871724600@chewelah.org
SUMMARY:Chewelah Library Story Time
DESCRIPTION:
URL:https://chewelah.org/event/chewelah-library-story-time-2/2029-04-24/
LOCATION:Chewelah Public Library\, 311 E Clay\, Chewelah\, WA\, 99109\, United States
CATEGORIES:Family Friendly
END:VEVENT
BEGIN:VEVENT
DTSTART;TZID=America/Los_Angeles:20290501T103000
DTEND;TZID=America/Los_Angeles:20290501T113000
DTSTAMP:20260421T125441
CREATED:20240711T193910Z
LAST-MODIFIED:20240711T193910Z
UID:10041082-1872325800-1872329400@chewelah.org
SUMMARY:Chewelah Library Story Time
DESCRIPTION:
URL:https://chewelah.org/event/chewelah-library-story-time-2/2029-05-01/
LOCATION:Chewelah Public Library\, 311 E Clay\, Chewelah\, WA\, 99109\, United States
CATEGORIES:Family Friendly
END:VEVENT
BEGIN:VEVENT
DTSTART;TZID=America/Los_Angeles:20290508T103000
DTEND;TZID=America/Los_Angeles:20290508T113000
DTSTAMP:20260421T125441
CREATED:20240711T193910Z
LAST-MODIFIED:20240711T193910Z
UID:10041083-1872930600-1872934200@chewelah.org
SUMMARY:Chewelah Library Story Time
DESCRIPTION:
URL:https://chewelah.org/event/chewelah-library-story-time-2/2029-05-08/
LOCATION:Chewelah Public Library\, 311 E Clay\, Chewelah\, WA\, 99109\, United States
CATEGORIES:Family Friendly
END:VEVENT
BEGIN:VEVENT
DTSTART;TZID=America/Los_Angeles:20290515T103000
DTEND;TZID=America/Los_Angeles:20290515T113000
DTSTAMP:20260421T125441
CREATED:20240711T193910Z
LAST-MODIFIED:20240711T193910Z
UID:10041084-1873535400-1873539000@chewelah.org
SUMMARY:Chewelah Library Story Time
DESCRIPTION:
URL:https://chewelah.org/event/chewelah-library-story-time-2/2029-05-15/
LOCATION:Chewelah Public Library\, 311 E Clay\, Chewelah\, WA\, 99109\, United States
CATEGORIES:Family Friendly
END:VEVENT
BEGIN:VEVENT
DTSTART;TZID=America/Los_Angeles:20290522T103000
DTEND;TZID=America/Los_Angeles:20290522T113000
DTSTAMP:20260421T125441
CREATED:20240711T193910Z
LAST-MODIFIED:20240711T193910Z
UID:10041085-1874140200-1874143800@chewelah.org
SUMMARY:Chewelah Library Story Time
DESCRIPTION:
URL:https://chewelah.org/event/chewelah-library-story-time-2/2029-05-22/
LOCATION:Chewelah Public Library\, 311 E Clay\, Chewelah\, WA\, 99109\, United States
CATEGORIES:Family Friendly
END:VEVENT
BEGIN:VEVENT
DTSTART;TZID=America/Los_Angeles:20290529T103000
DTEND;TZID=America/Los_Angeles:20290529T113000
DTSTAMP:20260421T125441
CREATED:20240711T193910Z
LAST-MODIFIED:20240711T193910Z
UID:10041086-1874745000-1874748600@chewelah.org
SUMMARY:Chewelah Library Story Time
DESCRIPTION:
URL:https://chewelah.org/event/chewelah-library-story-time-2/2029-05-29/
LOCATION:Chewelah Public Library\, 311 E Clay\, Chewelah\, WA\, 99109\, United States
CATEGORIES:Family Friendly
END:VEVENT
BEGIN:VEVENT
DTSTART;TZID=America/Los_Angeles:20290605T103000
DTEND;TZID=America/Los_Angeles:20290605T113000
DTSTAMP:20260421T125441
CREATED:20240711T193910Z
LAST-MODIFIED:20240711T193910Z
UID:10041087-1875349800-1875353400@chewelah.org
SUMMARY:Chewelah Library Story Time
DESCRIPTION:
URL:https://chewelah.org/event/chewelah-library-story-time-2/2029-06-05/
LOCATION:Chewelah Public Library\, 311 E Clay\, Chewelah\, WA\, 99109\, United States
CATEGORIES:Family Friendly
END:VEVENT
BEGIN:VEVENT
DTSTART;TZID=America/Los_Angeles:20290612T103000
DTEND;TZID=America/Los_Angeles:20290612T113000
DTSTAMP:20260421T125441
CREATED:20240711T193910Z
LAST-MODIFIED:20240711T193910Z
UID:10041088-1875954600-1875958200@chewelah.org
SUMMARY:Chewelah Library Story Time
DESCRIPTION:
URL:https://chewelah.org/event/chewelah-library-story-time-2/2029-06-12/
LOCATION:Chewelah Public Library\, 311 E Clay\, Chewelah\, WA\, 99109\, United States
CATEGORIES:Family Friendly
END:VEVENT
BEGIN:VEVENT
DTSTART;TZID=America/Los_Angeles:20290619T103000
DTEND;TZID=America/Los_Angeles:20290619T113000
DTSTAMP:20260421T125441
CREATED:20240711T193910Z
LAST-MODIFIED:20240711T193910Z
UID:10041089-1876559400-1876563000@chewelah.org
SUMMARY:Chewelah Library Story Time
DESCRIPTION:
URL:https://chewelah.org/event/chewelah-library-story-time-2/2029-06-19/
LOCATION:Chewelah Public Library\, 311 E Clay\, Chewelah\, WA\, 99109\, United States
CATEGORIES:Family Friendly
END:VEVENT
BEGIN:VEVENT
DTSTART;TZID=America/Los_Angeles:20290626T103000
DTEND;TZID=America/Los_Angeles:20290626T113000
DTSTAMP:20260421T125441
CREATED:20240711T193910Z
LAST-MODIFIED:20240711T193910Z
UID:10041090-1877164200-1877167800@chewelah.org
SUMMARY:Chewelah Library Story Time
DESCRIPTION:
URL:https://chewelah.org/event/chewelah-library-story-time-2/2029-06-26/
LOCATION:Chewelah Public Library\, 311 E Clay\, Chewelah\, WA\, 99109\, United States
CATEGORIES:Family Friendly
END:VEVENT
BEGIN:VEVENT
DTSTART;TZID=America/Los_Angeles:20290703T103000
DTEND;TZID=America/Los_Angeles:20290703T113000
DTSTAMP:20260421T125441
CREATED:20240711T193910Z
LAST-MODIFIED:20240711T193910Z
UID:10041091-1877769000-1877772600@chewelah.org
SUMMARY:Chewelah Library Story Time
DESCRIPTION:
URL:https://chewelah.org/event/chewelah-library-story-time-2/2029-07-03/
LOCATION:Chewelah Public Library\, 311 E Clay\, Chewelah\, WA\, 99109\, United States
CATEGORIES:Family Friendly
END:VEVENT
BEGIN:VEVENT
DTSTART;TZID=America/Los_Angeles:20290710T103000
DTEND;TZID=America/Los_Angeles:20290710T113000
DTSTAMP:20260421T125441
CREATED:20240711T193910Z
LAST-MODIFIED:20240711T193910Z
UID:10041092-1878373800-1878377400@chewelah.org
SUMMARY:Chewelah Library Story Time
DESCRIPTION:
URL:https://chewelah.org/event/chewelah-library-story-time-2/2029-07-10/
LOCATION:Chewelah Public Library\, 311 E Clay\, Chewelah\, WA\, 99109\, United States
CATEGORIES:Family Friendly
END:VEVENT
END:VCALENDAR