BEGIN:VCALENDAR
VERSION:2.0
PRODID:-//Chewelah Chamber of Commerce - ECPv6.15.17//NONSGML v1.0//EN
CALSCALE:GREGORIAN
METHOD:PUBLISH
X-ORIGINAL-URL:https://chewelah.org
X-WR-CALDESC:Events for Chewelah Chamber of Commerce
REFRESH-INTERVAL;VALUE=DURATION:PT1H
X-Robots-Tag:noindex
X-PUBLISHED-TTL:PT1H
BEGIN:VTIMEZONE
TZID:America/Los_Angeles
BEGIN:DAYLIGHT
TZOFFSETFROM:-0800
TZOFFSETTO:-0700
TZNAME:PDT
DTSTART:20240310T100000
END:DAYLIGHT
BEGIN:STANDARD
TZOFFSETFROM:-0700
TZOFFSETTO:-0800
TZNAME:PST
DTSTART:20241103T090000
END:STANDARD
BEGIN:DAYLIGHT
TZOFFSETFROM:-0800
TZOFFSETTO:-0700
TZNAME:PDT
DTSTART:20250309T100000
END:DAYLIGHT
BEGIN:STANDARD
TZOFFSETFROM:-0700
TZOFFSETTO:-0800
TZNAME:PST
DTSTART:20251102T090000
END:STANDARD
BEGIN:DAYLIGHT
TZOFFSETFROM:-0800
TZOFFSETTO:-0700
TZNAME:PDT
DTSTART:20260308T100000
END:DAYLIGHT
BEGIN:STANDARD
TZOFFSETFROM:-0700
TZOFFSETTO:-0800
TZNAME:PST
DTSTART:20261101T090000
END:STANDARD
END:VTIMEZONE
BEGIN:VEVENT
DTSTART;TZID=America/Los_Angeles:20250922T110000
DTEND;TZID=America/Los_Angeles:20250922T130000
DTSTAMP:20260421T050126
CREATED:20240711T195234Z
LAST-MODIFIED:20240821T163840Z
UID:10041109-1758538800-1758546000@chewelah.org
SUMMARY:Potluck at Chewelah Senior Center
DESCRIPTION:
URL:https://chewelah.org/event/potluck-at-chewelah-senior-center-2/2025-09-22/
LOCATION:Chewelah Senior Center
CATEGORIES:Community Event,Senior Event,Summer Events
END:VEVENT
BEGIN:VEVENT
DTSTART;TZID=America/Los_Angeles:20250925T163000
DTEND;TZID=America/Los_Angeles:20250925T193000
DTSTAMP:20260421T050126
CREATED:20250911T153417Z
LAST-MODIFIED:20250911T153417Z
UID:10043597-1758817800-1758828600@chewelah.org
SUMMARY:Spokane Salish Cultural Event
DESCRIPTION:
URL:https://chewelah.org/event/spokane-salish-cultural-event/
LOCATION:Chewelah Center for the Arts
CATEGORIES:Arts & Cultural Events,Family Friendly,Summer Events
END:VEVENT
BEGIN:VEVENT
DTSTART;TZID=America/Los_Angeles:20250926T110000
DTEND;TZID=America/Los_Angeles:20250926T153000
DTSTAMP:20260421T050126
CREATED:20250408T201309Z
LAST-MODIFIED:20250527T214737Z
UID:10042630-1758884400-1758900600@chewelah.org
SUMMARY:Chewelah Farmer's Market
DESCRIPTION:
URL:https://chewelah.org/event/chewelah-farmers-market/2025-09-26/
LOCATION:Chewelah City Park\, Chewelah\, WA\, 99109\, United States
CATEGORIES:Community Event,Fall Events,Family Friendly,Spring Events,Summer Events
END:VEVENT
BEGIN:VEVENT
DTSTART;TZID=America/Los_Angeles:20250927T100000
DTEND;TZID=America/Los_Angeles:20250927T220000
DTSTAMP:20260421T050126
CREATED:20250904T155118Z
LAST-MODIFIED:20250904T155153Z
UID:10043595-1758967200-1759010400@chewelah.org
SUMMARY:Chewelah Fallfest
DESCRIPTION:
URL:https://chewelah.org/event/chewelah-fallfest/
LOCATION:Downtown Chewelah\, Main Ave & 2nd Street\, Chewelah\, WA\, 99109\, United States
CATEGORIES:Fall Events
END:VEVENT
BEGIN:VEVENT
DTSTART;TZID=America/Los_Angeles:20250927T130000
DTEND;TZID=America/Los_Angeles:20250927T150000
DTSTAMP:20260421T050126
CREATED:20250922T183437Z
LAST-MODIFIED:20250922T183438Z
UID:10043598-1758978000-1758985200@chewelah.org
SUMMARY:CVAS Open House
DESCRIPTION:
URL:https://chewelah.org/event/cvas-open-house-2/
LOCATION:Colville Valley Animal Sanctuary\, 501 Old Arden HWY\, Colville\, 99114\, United States
CATEGORIES:Arts & Cultural Events,Community Event,Fall Events
END:VEVENT
END:VCALENDAR