BEGIN:VCALENDAR
VERSION:2.0
PRODID:-//Chewelah Chamber of Commerce - ECPv6.15.17//NONSGML v1.0//EN
CALSCALE:GREGORIAN
METHOD:PUBLISH
X-ORIGINAL-URL:https://chewelah.org
X-WR-CALDESC:Events for Chewelah Chamber of Commerce
REFRESH-INTERVAL;VALUE=DURATION:PT1H
X-Robots-Tag:noindex
X-PUBLISHED-TTL:PT1H
BEGIN:VTIMEZONE
TZID:America/Los_Angeles
BEGIN:DAYLIGHT
TZOFFSETFROM:-0800
TZOFFSETTO:-0700
TZNAME:PDT
DTSTART:20240310T100000
END:DAYLIGHT
BEGIN:STANDARD
TZOFFSETFROM:-0700
TZOFFSETTO:-0800
TZNAME:PST
DTSTART:20241103T090000
END:STANDARD
BEGIN:DAYLIGHT
TZOFFSETFROM:-0800
TZOFFSETTO:-0700
TZNAME:PDT
DTSTART:20250309T100000
END:DAYLIGHT
BEGIN:STANDARD
TZOFFSETFROM:-0700
TZOFFSETTO:-0800
TZNAME:PST
DTSTART:20251102T090000
END:STANDARD
BEGIN:DAYLIGHT
TZOFFSETFROM:-0800
TZOFFSETTO:-0700
TZNAME:PDT
DTSTART:20260308T100000
END:DAYLIGHT
BEGIN:STANDARD
TZOFFSETFROM:-0700
TZOFFSETTO:-0800
TZNAME:PST
DTSTART:20261101T090000
END:STANDARD
END:VTIMEZONE
BEGIN:VEVENT
DTSTART;TZID=America/Los_Angeles:20250526T110000
DTEND;TZID=America/Los_Angeles:20250526T130000
DTSTAMP:20260420T170829
CREATED:20240711T195234Z
LAST-MODIFIED:20240821T163840Z
UID:10041105-1748257200-1748264400@chewelah.org
SUMMARY:Potluck at Chewelah Senior Center
DESCRIPTION:
URL:https://chewelah.org/event/potluck-at-chewelah-senior-center-2/2025-05-26/
LOCATION:Chewelah Senior Center
CATEGORIES:Community Event,Senior Event,Summer Events
END:VEVENT
BEGIN:VEVENT
DTSTART;TZID=America/Los_Angeles:20250530T110000
DTEND;TZID=America/Los_Angeles:20250530T153000
DTSTAMP:20260420T170829
CREATED:20250408T201309Z
LAST-MODIFIED:20250527T214737Z
UID:10042613-1748602800-1748619000@chewelah.org
SUMMARY:Chewelah Farmer's Market
DESCRIPTION:
URL:https://chewelah.org/event/chewelah-farmers-market/2025-05-30/
LOCATION:Chewelah City Park\, Chewelah\, WA\, 99109\, United States
CATEGORIES:Community Event,Fall Events,Family Friendly,Spring Events,Summer Events
END:VEVENT
BEGIN:VEVENT
DTSTART;TZID=America/Los_Angeles:20250531T100000
DTEND;TZID=America/Los_Angeles:20250531T150000
DTSTAMP:20260420T170829
CREATED:20250520T204546Z
LAST-MODIFIED:20250520T204547Z
UID:10042774-1748685600-1748703600@chewelah.org
SUMMARY:Business Expo!
DESCRIPTION:
URL:https://chewelah.org/event/business-expo/
LOCATION:Gess Elementary\, 405 E Lincoln\, Chewelah\, WA\, 99109\, United States
CATEGORIES:Arts & Cultural Events,Business Events,Family Friendly,Spring Events
ORGANIZER;CN="Chewelah Chamber of Commerce":MAILTO:info@chewelah.org
END:VEVENT
END:VCALENDAR