BEGIN:VCALENDAR
VERSION:2.0
PRODID:-//Chewelah Chamber of Commerce - ECPv6.15.17//NONSGML v1.0//EN
CALSCALE:GREGORIAN
METHOD:PUBLISH
X-ORIGINAL-URL:https://chewelah.org
X-WR-CALDESC:Events for Chewelah Chamber of Commerce
REFRESH-INTERVAL;VALUE=DURATION:PT1H
X-Robots-Tag:noindex
X-PUBLISHED-TTL:PT1H
BEGIN:VTIMEZONE
TZID:America/Los_Angeles
BEGIN:DAYLIGHT
TZOFFSETFROM:-0800
TZOFFSETTO:-0700
TZNAME:PDT
DTSTART:20240310T100000
END:DAYLIGHT
BEGIN:STANDARD
TZOFFSETFROM:-0700
TZOFFSETTO:-0800
TZNAME:PST
DTSTART:20241103T090000
END:STANDARD
BEGIN:DAYLIGHT
TZOFFSETFROM:-0800
TZOFFSETTO:-0700
TZNAME:PDT
DTSTART:20250309T100000
END:DAYLIGHT
BEGIN:STANDARD
TZOFFSETFROM:-0700
TZOFFSETTO:-0800
TZNAME:PST
DTSTART:20251102T090000
END:STANDARD
BEGIN:DAYLIGHT
TZOFFSETFROM:-0800
TZOFFSETTO:-0700
TZNAME:PDT
DTSTART:20260308T100000
END:DAYLIGHT
BEGIN:STANDARD
TZOFFSETFROM:-0700
TZOFFSETTO:-0800
TZNAME:PST
DTSTART:20261101T090000
END:STANDARD
END:VTIMEZONE
BEGIN:VEVENT
DTSTART;TZID=America/Los_Angeles:20250518T100000
DTEND;TZID=America/Los_Angeles:20250518T130000
DTSTAMP:20260420T140743
CREATED:20250505T170423Z
LAST-MODIFIED:20250505T170423Z
UID:10042769-1747562400-1747573200@chewelah.org
SUMMARY:VWAC Annual Car Show
DESCRIPTION:
URL:https://chewelah.org/event/vwac-annual-car-show/
LOCATION:Dawns’ Memorial Park\, Valley\, WA
CATEGORIES:Arts & Cultural Events,Community Event,Family Friendly,Spring Events
END:VEVENT
BEGIN:VEVENT
DTSTART;TZID=America/Los_Angeles:20250520T163000
DTEND;TZID=America/Los_Angeles:20250520T180000
DTSTAMP:20260420T140743
CREATED:20250520T210350Z
LAST-MODIFIED:20250520T210350Z
UID:10042775-1747758600-1747764000@chewelah.org
SUMMARY:Student Showcase at the Park
DESCRIPTION:
URL:https://chewelah.org/event/student-showcase-at-the-park/
LOCATION:Chewelah City Park\, Chewelah\, WA\, 99109\, United States
CATEGORIES:Community Event,Family Friendly,School Event,Spring Events
END:VEVENT
BEGIN:VEVENT
DTSTART;TZID=America/Los_Angeles:20250522T160000
DTEND;TZID=America/Los_Angeles:20250522T190000
DTSTAMP:20260420T140744
CREATED:20250518T171749Z
LAST-MODIFIED:20250518T171749Z
UID:10042773-1747929600-1747940400@chewelah.org
SUMMARY:TASTY Food Program Fundraiser
DESCRIPTION:
URL:https://chewelah.org/event/tasty-food-program-fundraiser/
LOCATION:Quartzite Brewery
CATEGORIES:Community Event,Spring Events
END:VEVENT
BEGIN:VEVENT
DTSTART;TZID=America/Los_Angeles:20250523T110000
DTEND;TZID=America/Los_Angeles:20250523T153000
DTSTAMP:20260420T140744
CREATED:20250408T201309Z
LAST-MODIFIED:20250527T214737Z
UID:10042612-1747998000-1748014200@chewelah.org
SUMMARY:Chewelah Farmer's Market
DESCRIPTION:
URL:https://chewelah.org/event/chewelah-farmers-market/2025-05-23/
LOCATION:Chewelah City Park\, Chewelah\, WA\, 99109\, United States
CATEGORIES:Community Event,Fall Events,Family Friendly,Spring Events,Summer Events
END:VEVENT
BEGIN:VEVENT
DTSTART;TZID=America/Los_Angeles:20250524T090000
DTEND;TZID=America/Los_Angeles:20250524T110000
DTSTAMP:20260420T140744
CREATED:20250516T191416Z
LAST-MODIFIED:20250516T191416Z
UID:10042771-1748077200-1748084400@chewelah.org
SUMMARY:Drive & Drop Pickleball Clinic
DESCRIPTION:
URL:https://chewelah.org/event/drive-drop-pickleball-clinic/
LOCATION:Chewelah Golf & Country Club Sport Courts\, 243 Par Place\, Chewelah\, Wa\, 99109
CATEGORIES:Spring Events
END:VEVENT
BEGIN:VEVENT
DTSTART;TZID=America/Los_Angeles:20250524T093000
DTEND;TZID=America/Los_Angeles:20250524T130000
DTSTAMP:20260420T140744
CREATED:20250307T170624Z
LAST-MODIFIED:20250307T170625Z
UID:10042491-1748079000-1748091600@chewelah.org
SUMMARY:CVAS Drive Through Vaccination Clinic
DESCRIPTION:
URL:https://chewelah.org/event/cvas-drive-through-vaccination-clinic/2025-05-24/
LOCATION:501 Old Arden Highway
CATEGORIES:Spring Events,Summer Events,Winter Events
END:VEVENT
BEGIN:VEVENT
DTSTART;TZID=America/Los_Angeles:20250524T110000
DTEND;TZID=America/Los_Angeles:20250524T120000
DTSTAMP:20260420T140744
CREATED:20250516T191523Z
LAST-MODIFIED:20250516T191523Z
UID:10042772-1748084400-1748088000@chewelah.org
SUMMARY:Free Beginner Pickleball Clinic
DESCRIPTION:
URL:https://chewelah.org/event/free-beginner-pickleball-clinic/
LOCATION:Chewelah Golf & Country Club Sport Courts\, 243 Par Place\, Chewelah\, Wa\, 99109
CATEGORIES:Spring Events
END:VEVENT
BEGIN:VEVENT
DTSTART;TZID=America/Los_Angeles:20250524T180000
DTEND;TZID=America/Los_Angeles:20250524T200000
DTSTAMP:20260420T140744
CREATED:20250516T191238Z
LAST-MODIFIED:20250516T191238Z
UID:10042770-1748109600-1748116800@chewelah.org
SUMMARY:Chewelah's Got Talent 'Showtime'
DESCRIPTION:
URL:https://chewelah.org/event/chewelahs-got-talent-showtime/
LOCATION:Chewelah Center for the Arts
CATEGORIES:Arts & Cultural Events,Community Event,Family Friendly,Spring Events
ORGANIZER;CN="KCHW":MAILTO:scott@kchw.org
END:VEVENT
END:VCALENDAR