BEGIN:VCALENDAR
VERSION:2.0
PRODID:-//Chewelah Chamber of Commerce - ECPv6.15.17//NONSGML v1.0//EN
CALSCALE:GREGORIAN
METHOD:PUBLISH
X-ORIGINAL-URL:https://chewelah.org
X-WR-CALDESC:Events for Chewelah Chamber of Commerce
REFRESH-INTERVAL;VALUE=DURATION:PT1H
X-Robots-Tag:noindex
X-PUBLISHED-TTL:PT1H
BEGIN:VTIMEZONE
TZID:America/Los_Angeles
BEGIN:DAYLIGHT
TZOFFSETFROM:-0800
TZOFFSETTO:-0700
TZNAME:PDT
DTSTART:20240310T100000
END:DAYLIGHT
BEGIN:STANDARD
TZOFFSETFROM:-0700
TZOFFSETTO:-0800
TZNAME:PST
DTSTART:20241103T090000
END:STANDARD
BEGIN:DAYLIGHT
TZOFFSETFROM:-0800
TZOFFSETTO:-0700
TZNAME:PDT
DTSTART:20250309T100000
END:DAYLIGHT
BEGIN:STANDARD
TZOFFSETFROM:-0700
TZOFFSETTO:-0800
TZNAME:PST
DTSTART:20251102T090000
END:STANDARD
BEGIN:DAYLIGHT
TZOFFSETFROM:-0800
TZOFFSETTO:-0700
TZNAME:PDT
DTSTART:20260308T100000
END:DAYLIGHT
BEGIN:STANDARD
TZOFFSETFROM:-0700
TZOFFSETTO:-0800
TZNAME:PST
DTSTART:20261101T090000
END:STANDARD
END:VTIMEZONE
BEGIN:VEVENT
DTSTART;TZID=America/Los_Angeles:20250511T100000
DTEND;TZID=America/Los_Angeles:20250511T130000
DTSTAMP:20260420T170845
CREATED:20250415T164149Z
LAST-MODIFIED:20250415T164150Z
UID:10042693-1746957600-1746968400@chewelah.org
SUMMARY:CVLT Spring Wildflower Hike
DESCRIPTION:
URL:https://chewelah.org/event/cvlt-spring-wildflower-hike/
LOCATION:Gold Hill Community Forest
CATEGORIES:Arts & Cultural Events,Community Event,Family Friendly,Spring Events
END:VEVENT
BEGIN:VEVENT
DTSTART;TZID=America/Los_Angeles:20250516T110000
DTEND;TZID=America/Los_Angeles:20250516T153000
DTSTAMP:20260420T170845
CREATED:20250408T201309Z
LAST-MODIFIED:20250527T214737Z
UID:10042611-1747393200-1747409400@chewelah.org
SUMMARY:Chewelah Farmer's Market
DESCRIPTION:
URL:https://chewelah.org/event/chewelah-farmers-market/2025-05-16/
LOCATION:Chewelah City Park\, Chewelah\, WA\, 99109\, United States
CATEGORIES:Community Event,Fall Events,Family Friendly,Spring Events,Summer Events
END:VEVENT
BEGIN:VEVENT
DTSTART;TZID=America/Los_Angeles:20250517T080000
DTEND;TZID=America/Los_Angeles:20250517T170000
DTSTAMP:20260420T170845
CREATED:20250505T170230Z
LAST-MODIFIED:20250505T170230Z
UID:10042768-1747468800-1747501200@chewelah.org
SUMMARY:Warrior's Day Event
DESCRIPTION:
URL:https://chewelah.org/event/warriors-day-event/
LOCATION:Dawns’ Memorial Park\, Valley\, WA
CATEGORIES:Arts & Cultural Events,Community Event,Family Friendly,Spring Events
END:VEVENT
BEGIN:VEVENT
DTSTART;TZID=America/Los_Angeles:20250517T180000
DTEND;TZID=America/Los_Angeles:20250517T200000
DTSTAMP:20260420T170845
CREATED:20250424T194303Z
LAST-MODIFIED:20250424T194306Z
UID:10042697-1747504800-1747512000@chewelah.org
SUMMARY:Chewelah Younglife Hope Gala
DESCRIPTION:
URL:https://chewelah.org/event/chewelah-younglife-hope-gala/
LOCATION:Mistequa Hotel\, 2555 Smith Rd.\, CHEWELAH\, WA\, 99109\, United States
CATEGORIES:Spring Events
END:VEVENT
END:VCALENDAR