BEGIN:VCALENDAR
VERSION:2.0
PRODID:-//Chewelah Chamber of Commerce - ECPv6.15.17//NONSGML v1.0//EN
CALSCALE:GREGORIAN
METHOD:PUBLISH
X-WR-CALNAME:Chewelah Chamber of Commerce
X-ORIGINAL-URL:https://chewelah.org
X-WR-CALDESC:Events for Chewelah Chamber of Commerce
REFRESH-INTERVAL;VALUE=DURATION:PT1H
X-Robots-Tag:noindex
X-PUBLISHED-TTL:PT1H
BEGIN:VTIMEZONE
TZID:America/Los_Angeles
BEGIN:DAYLIGHT
TZOFFSETFROM:-0800
TZOFFSETTO:-0700
TZNAME:PDT
DTSTART:20240310T100000
END:DAYLIGHT
BEGIN:STANDARD
TZOFFSETFROM:-0700
TZOFFSETTO:-0800
TZNAME:PST
DTSTART:20241103T090000
END:STANDARD
BEGIN:DAYLIGHT
TZOFFSETFROM:-0800
TZOFFSETTO:-0700
TZNAME:PDT
DTSTART:20250309T100000
END:DAYLIGHT
BEGIN:STANDARD
TZOFFSETFROM:-0700
TZOFFSETTO:-0800
TZNAME:PST
DTSTART:20251102T090000
END:STANDARD
BEGIN:DAYLIGHT
TZOFFSETFROM:-0800
TZOFFSETTO:-0700
TZNAME:PDT
DTSTART:20260308T100000
END:DAYLIGHT
BEGIN:STANDARD
TZOFFSETFROM:-0700
TZOFFSETTO:-0800
TZNAME:PST
DTSTART:20261101T090000
END:STANDARD
END:VTIMEZONE
BEGIN:VEVENT
DTSTART;TZID=America/Los_Angeles:20250330T140000
DTEND;TZID=America/Los_Angeles:20250330T153000
DTSTAMP:20260419T220922
CREATED:20250321T175421Z
LAST-MODIFIED:20250321T175421Z
UID:10042507-1743343200-1743348600@chewelah.org
SUMMARY:Stagetime Theatre School Presents 'Moana Jr'
DESCRIPTION:
URL:https://chewelah.org/event/stagetime-theatre-school-presents-moana-jr/2025-03-30/1/
LOCATION:Chewelah Center for the Arts
CATEGORIES:Arts & Cultural Events,Family Friendly,Spring Events
ORGANIZER;CN="StageTime Theatre School":MAILTO:janetlmc1951@yahoo.com
END:VEVENT
BEGIN:VEVENT
DTSTART;TZID=America/Los_Angeles:20250330T190000
DTEND;TZID=America/Los_Angeles:20250330T203000
DTSTAMP:20260419T220922
CREATED:20250321T175421Z
LAST-MODIFIED:20250321T175421Z
UID:10042508-1743361200-1743366600@chewelah.org
SUMMARY:Stagetime Theatre School Presents 'Moana Jr'
DESCRIPTION:
URL:https://chewelah.org/event/stagetime-theatre-school-presents-moana-jr/2025-03-30/2/
LOCATION:Chewelah Center for the Arts
CATEGORIES:Arts & Cultural Events,Family Friendly,Spring Events
ORGANIZER;CN="StageTime Theatre School":MAILTO:janetlmc1951@yahoo.com
END:VEVENT
BEGIN:VEVENT
DTSTART;TZID=America/Los_Angeles:20250331T170000
DTEND;TZID=America/Los_Angeles:20250331T190000
DTSTAMP:20260419T220922
CREATED:20250327T182238Z
LAST-MODIFIED:20250327T182239Z
UID:10042510-1743440400-1743447600@chewelah.org
SUMMARY:Speed Puzzling at Chewelah Library
DESCRIPTION:
URL:https://chewelah.org/event/speed-puzzling-at-chewelah-library/
LOCATION:Chewelah Public Library\, 311 E Clay\, Chewelah\, WA\, 99109\, United States
CATEGORIES:Arts & Cultural Events,Spring Events
END:VEVENT
BEGIN:VEVENT
DTSTART;TZID=America/Los_Angeles:20250403T170000
DTEND;TZID=America/Los_Angeles:20250403T200000
DTSTAMP:20260419T220922
CREATED:20250325T163002Z
LAST-MODIFIED:20250325T163003Z
UID:10042509-1743699600-1743710400@chewelah.org
SUMMARY:First Thursday Art Walk
DESCRIPTION:
URL:https://chewelah.org/event/first-thursday-art-walk-10/
LOCATION:Downtown Chewelah\, Main Ave & 2nd Street\, Chewelah\, WA\, 99109\, United States
CATEGORIES:Arts & Cultural Events,Family Friendly,Spring Events
END:VEVENT
BEGIN:VEVENT
DTSTART;TZID=America/Los_Angeles:20250403T173000
DTEND;TZID=America/Los_Angeles:20250403T200000
DTSTAMP:20260419T220922
CREATED:20250327T210933Z
LAST-MODIFIED:20250327T210933Z
UID:10042597-1743701400-1743710400@chewelah.org
SUMMARY:Recycled Arts Show
DESCRIPTION:
URL:https://chewelah.org/event/recycled-arts-show/
LOCATION:Aaron Huff Memorial Cultural Center\, 214 E Main St\, Chewelah\, WA\, 99109\, United States
CATEGORIES:Arts & Cultural Events,Spring Events
ORGANIZER;CN="Chewelah Arts Guild":MAILTO:info@chewelahartsguild.org
END:VEVENT
BEGIN:VEVENT
DTSTART;TZID=America/Los_Angeles:20250404T130000
DTEND;TZID=America/Los_Angeles:20250404T150000
DTSTAMP:20260419T220923
CREATED:20250331T184304Z
LAST-MODIFIED:20250331T184419Z
UID:10042598-1743771600-1743778800@chewelah.org
SUMMARY:
DESCRIPTION:
URL:https://chewelah.org/event/152669/
LOCATION:Chewelah Senior Center
CATEGORIES:Community Event,Spring Events
END:VEVENT
BEGIN:VEVENT
DTSTART;TZID=America/Los_Angeles:20250405T190000
DTEND;TZID=America/Los_Angeles:20250405T210000
DTSTAMP:20260419T220923
CREATED:20250313T185755Z
LAST-MODIFIED:20250313T185756Z
UID:10042502-1743879600-1743886800@chewelah.org
SUMMARY:An Evening of Wine and Poetry
DESCRIPTION:
URL:https://chewelah.org/event/an-evening-of-wine-and-poetry/
LOCATION:Chewelah Center for the Arts
CATEGORIES:Arts & Cultural Events,Spring Events
ORGANIZER;CN="Chewelah Arts Guild":MAILTO:info@chewelahartsguild.org
END:VEVENT
END:VCALENDAR