BEGIN:VCALENDAR
VERSION:2.0
PRODID:-//Chewelah Chamber of Commerce - ECPv6.15.17//NONSGML v1.0//EN
CALSCALE:GREGORIAN
METHOD:PUBLISH
X-WR-CALNAME:Chewelah Chamber of Commerce
X-ORIGINAL-URL:https://chewelah.org
X-WR-CALDESC:Events for Chewelah Chamber of Commerce
REFRESH-INTERVAL;VALUE=DURATION:PT1H
X-Robots-Tag:noindex
X-PUBLISHED-TTL:PT1H
BEGIN:VTIMEZONE
TZID:America/Los_Angeles
BEGIN:DAYLIGHT
TZOFFSETFROM:-0800
TZOFFSETTO:-0700
TZNAME:PDT
DTSTART:20240310T100000
END:DAYLIGHT
BEGIN:STANDARD
TZOFFSETFROM:-0700
TZOFFSETTO:-0800
TZNAME:PST
DTSTART:20241103T090000
END:STANDARD
BEGIN:DAYLIGHT
TZOFFSETFROM:-0800
TZOFFSETTO:-0700
TZNAME:PDT
DTSTART:20250309T100000
END:DAYLIGHT
BEGIN:STANDARD
TZOFFSETFROM:-0700
TZOFFSETTO:-0800
TZNAME:PST
DTSTART:20251102T090000
END:STANDARD
BEGIN:DAYLIGHT
TZOFFSETFROM:-0800
TZOFFSETTO:-0700
TZNAME:PDT
DTSTART:20260308T100000
END:DAYLIGHT
BEGIN:STANDARD
TZOFFSETFROM:-0700
TZOFFSETTO:-0800
TZNAME:PST
DTSTART:20261101T090000
END:STANDARD
END:VTIMEZONE
BEGIN:VEVENT
DTSTART;TZID=America/Los_Angeles:20250202T110000
DTEND;TZID=America/Los_Angeles:20250202T160000
DTSTAMP:20260419T123044
CREATED:20250109T230851Z
LAST-MODIFIED:20250110T174832Z
UID:10042454-1738494000-1738512000@chewelah.org
SUMMARY:SkiJoring
DESCRIPTION:
URL:https://chewelah.org/event/skijoring/2025-02-02/
LOCATION:49°North\, 3311 Flowery Trail Rd\, Chewelah\, 99109\, United States
CATEGORIES:Family Friendly,Winter Events
END:VEVENT
BEGIN:VEVENT
DTSTART;TZID=America/Los_Angeles:20250206T080000
DTEND;TZID=America/Los_Angeles:20250206T170000
DTSTAMP:20260419T123044
CREATED:20241115T212847Z
LAST-MODIFIED:20250307T183950Z
UID:10042058-1738828800-1738861200@chewelah.org
SUMMARY:Chewelah Winterfest for the Arts
DESCRIPTION:
URL:https://chewelah.org/event/chewelah-winterfest-for-the-arts/2025-02-06/1/
LOCATION:Trails End Gallery\, 101 N. Park St. \, Suite #B\, Chewelah\, WA\, 99109\, United States
CATEGORIES:Arts & Cultural Events,Winter Events
END:VEVENT
BEGIN:VEVENT
DTSTART;TZID=America/Los_Angeles:20250206T170000
DTEND;TZID=America/Los_Angeles:20250225T200000
DTSTAMP:20260419T123044
CREATED:20241115T212847Z
LAST-MODIFIED:20250307T183950Z
UID:10042500-1738861200-1740513600@chewelah.org
SUMMARY:Chewelah Winterfest for the Arts
DESCRIPTION:
URL:https://chewelah.org/event/chewelah-winterfest-for-the-arts/2025-02-06/2/
LOCATION:Trails End Gallery\, 101 N. Park St. \, Suite #B\, Chewelah\, WA\, 99109\, United States
CATEGORIES:Arts & Cultural Events,Winter Events
END:VEVENT
BEGIN:VEVENT
DTSTART;TZID=America/Los_Angeles:20250208T113000
DTEND;TZID=America/Los_Angeles:20250208T160000
DTSTAMP:20260419T123044
CREATED:20250203T180052Z
LAST-MODIFIED:20250203T180309Z
UID:10042461-1739014200-1739030400@chewelah.org
SUMMARY:Chewelah Library Grand Reopening
DESCRIPTION:
URL:https://chewelah.org/event/chewelah-library-grand-reopening/
LOCATION:Chewelah Library\, 311 East Clay\, Chewelah\, WA\, 99109
CATEGORIES:Arts & Cultural Events,Family Friendly,Winter Events
END:VEVENT
BEGIN:VEVENT
DTSTART;TZID=America/Los_Angeles:20250208T120000
DTEND;TZID=America/Los_Angeles:20250208T200000
DTSTAMP:20260419T123044
CREATED:20250109T230038Z
LAST-MODIFIED:20250110T203501Z
UID:10042452-1739016000-1739044800@chewelah.org
SUMMARY:Winterfest
DESCRIPTION:
URL:https://chewelah.org/event/winterfest/
LOCATION:Downtown Chewelah\, Main Ave & 2nd Street\, Chewelah\, WA\, 99109\, United States
CATEGORIES:Community Event,Family Friendly,Winter Events
END:VEVENT
BEGIN:VEVENT
DTSTART;TZID=America/Los_Angeles:20250208T123000
DTEND;TZID=America/Los_Angeles:20250208T133000
DTSTAMP:20260419T123044
CREATED:20250203T175850Z
LAST-MODIFIED:20250203T175850Z
UID:10042459-1739017800-1739021400@chewelah.org
SUMMARY:Sled Dog Storytime
DESCRIPTION:
URL:https://chewelah.org/event/sled-dog-storytime/2025-02-08/1/
LOCATION:Chewelah Library\, 311 East Clay\, Chewelah\, WA\, 99109
CATEGORIES:Arts & Cultural Events,Family Friendly,Winter Events
END:VEVENT
BEGIN:VEVENT
DTSTART;TZID=America/Los_Angeles:20250208T140000
DTEND;TZID=America/Los_Angeles:20250208T150000
DTSTAMP:20260419T123044
CREATED:20250203T175850Z
LAST-MODIFIED:20250203T175850Z
UID:10042460-1739023200-1739026800@chewelah.org
SUMMARY:Sled Dog Storytime
DESCRIPTION:
URL:https://chewelah.org/event/sled-dog-storytime/2025-02-08/2/
LOCATION:Chewelah Library\, 311 East Clay\, Chewelah\, WA\, 99109
CATEGORIES:Arts & Cultural Events,Family Friendly,Winter Events
END:VEVENT
BEGIN:VEVENT
DTSTART;TZID=America/Los_Angeles:20250208T170000
DTEND;TZID=America/Los_Angeles:20250208T183000
DTSTAMP:20260419T123044
CREATED:20250203T175647Z
LAST-MODIFIED:20250203T175647Z
UID:10042458-1739034000-1739039400@chewelah.org
SUMMARY:Rail Jam with 49 Degrees North
DESCRIPTION:Rail Jam (8.5 x 11Flyer) – 1
URL:https://chewelah.org/event/rail-jam-with-49-degrees-north/
LOCATION:Downtown Chewelah\, Main Ave & 2nd Street\, Chewelah\, WA\, 99109\, United States
CATEGORIES:Winter Events
END:VEVENT
END:VCALENDAR