BEGIN:VCALENDAR
VERSION:2.0
PRODID:-//Chewelah Chamber of Commerce - ECPv6.15.17//NONSGML v1.0//EN
CALSCALE:GREGORIAN
METHOD:PUBLISH
X-WR-CALNAME:Chewelah Chamber of Commerce
X-ORIGINAL-URL:https://chewelah.org
X-WR-CALDESC:Events for Chewelah Chamber of Commerce
REFRESH-INTERVAL;VALUE=DURATION:PT1H
X-Robots-Tag:noindex
X-PUBLISHED-TTL:PT1H
BEGIN:VTIMEZONE
TZID:America/Los_Angeles
BEGIN:DAYLIGHT
TZOFFSETFROM:-0800
TZOFFSETTO:-0700
TZNAME:PDT
DTSTART:20230312T100000
END:DAYLIGHT
BEGIN:STANDARD
TZOFFSETFROM:-0700
TZOFFSETTO:-0800
TZNAME:PST
DTSTART:20231105T090000
END:STANDARD
BEGIN:DAYLIGHT
TZOFFSETFROM:-0800
TZOFFSETTO:-0700
TZNAME:PDT
DTSTART:20240310T100000
END:DAYLIGHT
BEGIN:STANDARD
TZOFFSETFROM:-0700
TZOFFSETTO:-0800
TZNAME:PST
DTSTART:20241103T090000
END:STANDARD
BEGIN:DAYLIGHT
TZOFFSETFROM:-0800
TZOFFSETTO:-0700
TZNAME:PDT
DTSTART:20250309T100000
END:DAYLIGHT
BEGIN:STANDARD
TZOFFSETFROM:-0700
TZOFFSETTO:-0800
TZNAME:PST
DTSTART:20251102T090000
END:STANDARD
END:VTIMEZONE
BEGIN:VEVENT
DTSTART;TZID=America/Los_Angeles:20240729T090000
DTEND;TZID=America/Los_Angeles:20240729T113000
DTSTAMP:20260420T033359
CREATED:20240119T165144Z
LAST-MODIFIED:20240402T215925Z
UID:10038982-1722243600-1722252600@chewelah.org
SUMMARY:Adult Pickleball
DESCRIPTION:Monday & Friday 9:00am-11:30am\n243 Par Place by the Chewelah Golf Course\nFree to Everyone! “No Partner? No Problem!”\nContact: sueschlatter17@gmail.com
URL:https://chewelah.org/event/adult-pickleball-3/2024-07-29/
LOCATION:Chewelah Golf & Country Club\, 2537 Sand Canyon Rd\, Chewelah\, WA\, 99109\, United States
CATEGORIES:Family Friendly,Winter Events
END:VEVENT
BEGIN:VEVENT
DTSTART;TZID=America/Los_Angeles:20240730T080000
DTEND;TZID=America/Los_Angeles:20240730T170000
DTSTAMP:20260420T033359
CREATED:20240730T220550Z
LAST-MODIFIED:20240730T220552Z
UID:10041114-1722326400-1722358800@chewelah.org
SUMMARY:Louisa May Alcott's Little Women
DESCRIPTION:
URL:https://chewelah.org/event/louisa-may-alcotts-little-women/
LOCATION:Chewelah Center for the Arts
CATEGORIES:Arts & Cultural Events,Community Event,Summer Events
ORGANIZER;CN="StageTime Theatre School":MAILTO:janetlmc1951@yahoo.com
END:VEVENT
BEGIN:VEVENT
DTSTART;TZID=America/Los_Angeles:20240802T090000
DTEND;TZID=America/Los_Angeles:20240802T113000
DTSTAMP:20260420T033359
CREATED:20240119T165144Z
LAST-MODIFIED:20240402T215925Z
UID:10038983-1722589200-1722598200@chewelah.org
SUMMARY:Adult Pickleball
DESCRIPTION:Monday & Friday 9:00am-11:30am\n243 Par Place by the Chewelah Golf Course\nFree to Everyone! “No Partner? No Problem!”\nContact: sueschlatter17@gmail.com
URL:https://chewelah.org/event/adult-pickleball-3/2024-08-02/
LOCATION:Chewelah Golf & Country Club\, 2537 Sand Canyon Rd\, Chewelah\, WA\, 99109\, United States
CATEGORIES:Family Friendly,Winter Events
END:VEVENT
BEGIN:VEVENT
DTSTART;TZID=America/Los_Angeles:20240802T110000
DTEND;TZID=America/Los_Angeles:20240802T153000
DTSTAMP:20260420T033359
CREATED:20240228T184003Z
LAST-MODIFIED:20240502T182231Z
UID:10039545-1722596400-1722612600@chewelah.org
SUMMARY:Chewelah Farmers Market
DESCRIPTION:
URL:https://chewelah.org/event/chewelah-farmers-market-2/2024-08-02/
LOCATION:Chewelah City Park\, Chewelah\, WA\, 99109\, United States
CATEGORIES:Family Friendly,Summer Events
END:VEVENT
BEGIN:VEVENT
DTSTART;TZID=America/Los_Angeles:20240803T080000
DTEND;TZID=America/Los_Angeles:20240803T100000
DTSTAMP:20260420T033359
CREATED:20240710T220604Z
LAST-MODIFIED:20240710T220604Z
UID:10041067-1722672000-1722679200@chewelah.org
SUMMARY:Chewelah Cougars Ice Cream Fun Run
DESCRIPTION:
URL:https://chewelah.org/event/chewelah-cougars-ice-cream-fun-run-2/
LOCATION:Jenkins Jr/Sr High School\, 702 E lincoln\, Chewelah\, WA\, 99109\, United States
CATEGORIES:Community Event,Family Friendly,Summer Events
END:VEVENT
BEGIN:VEVENT
DTSTART;TZID=America/Los_Angeles:20240803T080000
DTEND;TZID=America/Los_Angeles:20240803T130000
DTSTAMP:20260420T033359
CREATED:20240718T223328Z
LAST-MODIFIED:20240718T223329Z
UID:10041111-1722672000-1722690000@chewelah.org
SUMMARY:Picklefest 2024
DESCRIPTION:
URL:https://chewelah.org/event/picklefest-2024/
LOCATION:Chewelah Golf & Country Club Sport Courts\, 243 Par Place\, Chewelah\, Wa\, 99109
CATEGORIES:Community Event,Family Friendly,Summer Events
END:VEVENT
BEGIN:VEVENT
DTSTART;TZID=America/Los_Angeles:20240803T080000
DTEND;TZID=America/Los_Angeles:20240803T170000
DTSTAMP:20260420T033359
CREATED:20240801T170127Z
LAST-MODIFIED:20240801T170230Z
UID:10041120-1722672000-1722704400@chewelah.org
SUMMARY:Summerfest Cornhole Tournament
DESCRIPTION:
URL:https://chewelah.org/event/summerfest-cornhole-tournament/2024-08-03/1/
LOCATION:Chewelah City Park\, Chewelah\, WA\, 99109\, United States
CATEGORIES:Community Event,Summer Events
END:VEVENT
BEGIN:VEVENT
DTSTART;TZID=America/Los_Angeles:20240803T110000
DTEND;TZID=America/Los_Angeles:20240803T230000
DTSTAMP:20260420T033400
CREATED:20240619T203113Z
LAST-MODIFIED:20240620T233926Z
UID:10041054-1722682800-1722726000@chewelah.org
SUMMARY:Chewelah Summerfest
DESCRIPTION:Learn more about Summerfest! Click Here\n 
URL:https://chewelah.org/event/chewelah-summerfest/
LOCATION:Chewelah Fesativals\, Chewelah Chamber of Commerce\, Chewelah City
CATEGORIES:Community Event,Family Friendly,Featured Events,Summer Events
END:VEVENT
BEGIN:VEVENT
DTSTART;TZID=America/Los_Angeles:20240803T120000
DTEND;TZID=America/Los_Angeles:20240803T153000
DTSTAMP:20260420T033400
CREATED:20240801T170127Z
LAST-MODIFIED:20240801T170230Z
UID:10041121-1722686400-1722699000@chewelah.org
SUMMARY:Summerfest Cornhole Tournament
DESCRIPTION:
URL:https://chewelah.org/event/summerfest-cornhole-tournament/2024-08-03/2/
LOCATION:Chewelah City Park\, Chewelah\, WA\, 99109\, United States
CATEGORIES:Community Event,Summer Events
END:VEVENT
BEGIN:VEVENT
DTSTART;TZID=America/Los_Angeles:20240803T120000
DTEND;TZID=America/Los_Angeles:20240803T200000
DTSTAMP:20260420T033400
CREATED:20240612T172628Z
LAST-MODIFIED:20240619T184047Z
UID:10040893-1722686400-1722715200@chewelah.org
SUMMARY:Mistequa 2024 Car Show
DESCRIPTION:
URL:https://chewelah.org/event/2024-car-show/
LOCATION:Mistequa Casino\, 2555 Smith Rd.\, Chewelah\, WA\, 99109\, United States
CATEGORIES:Family Friendly,Summer Events
END:VEVENT
BEGIN:VEVENT
DTSTART;TZID=America/Los_Angeles:20240803T160000
DTEND;TZID=America/Los_Angeles:20240803T163000
DTSTAMP:20260420T033400
CREATED:20240801T170422Z
LAST-MODIFIED:20240801T170423Z
UID:10041122-1722700800-1722702600@chewelah.org
SUMMARY:Rubber Duck Regatta
DESCRIPTION:
URL:https://chewelah.org/event/rubber-duck-regatta/
LOCATION:Chewelah City Park\, Chewelah\, WA\, 99109\, United States
CATEGORIES:Community Event,Family Friendly,Summer Events
END:VEVENT
END:VCALENDAR