BEGIN:VCALENDAR
VERSION:2.0
PRODID:-//Chewelah Chamber of Commerce - ECPv6.15.17//NONSGML v1.0//EN
CALSCALE:GREGORIAN
METHOD:PUBLISH
X-ORIGINAL-URL:https://chewelah.org
X-WR-CALDESC:Events for Chewelah Chamber of Commerce
REFRESH-INTERVAL;VALUE=DURATION:PT1H
X-Robots-Tag:noindex
X-PUBLISHED-TTL:PT1H
BEGIN:VTIMEZONE
TZID:America/Los_Angeles
BEGIN:DAYLIGHT
TZOFFSETFROM:-0800
TZOFFSETTO:-0700
TZNAME:PDT
DTSTART:20230312T100000
END:DAYLIGHT
BEGIN:STANDARD
TZOFFSETFROM:-0700
TZOFFSETTO:-0800
TZNAME:PST
DTSTART:20231105T090000
END:STANDARD
BEGIN:DAYLIGHT
TZOFFSETFROM:-0800
TZOFFSETTO:-0700
TZNAME:PDT
DTSTART:20240310T100000
END:DAYLIGHT
BEGIN:STANDARD
TZOFFSETFROM:-0700
TZOFFSETTO:-0800
TZNAME:PST
DTSTART:20241103T090000
END:STANDARD
BEGIN:DAYLIGHT
TZOFFSETFROM:-0800
TZOFFSETTO:-0700
TZNAME:PDT
DTSTART:20250309T100000
END:DAYLIGHT
BEGIN:STANDARD
TZOFFSETFROM:-0700
TZOFFSETTO:-0800
TZNAME:PST
DTSTART:20251102T090000
END:STANDARD
END:VTIMEZONE
BEGIN:VEVENT
DTSTART;TZID=America/Los_Angeles:20240624T090000
DTEND;TZID=America/Los_Angeles:20240624T113000
DTSTAMP:20260420T105038
CREATED:20240119T165144Z
LAST-MODIFIED:20240402T215925Z
UID:10038972-1719219600-1719228600@chewelah.org
SUMMARY:Adult Pickleball
DESCRIPTION:Monday & Friday 9:00am-11:30am\n243 Par Place by the Chewelah Golf Course\nFree to Everyone! “No Partner? No Problem!”\nContact: sueschlatter17@gmail.com
URL:https://chewelah.org/event/adult-pickleball-3/2024-06-24/
LOCATION:Chewelah Golf & Country Club\, 2537 Sand Canyon Rd\, Chewelah\, WA\, 99109\, United States
CATEGORIES:Family Friendly,Winter Events
END:VEVENT
BEGIN:VEVENT
DTSTART;TZID=America/Los_Angeles:20240628T080000
DTEND;TZID=America/Los_Angeles:20240628T180000
DTSTAMP:20260420T105039
CREATED:20240605T171404Z
LAST-MODIFIED:20240619T191238Z
UID:10040510-1719561600-1719597600@chewelah.org
SUMMARY:Charity Golf Tournament
DESCRIPTION:
URL:https://chewelah.org/event/charity-golf-tournament/
LOCATION:Chewelah Golf & Country Club\, 2537 Sand Canyon Rd\, Chewelah\, WA\, 99109\, United States
CATEGORIES:Community Event,Family Friendly,Summer Events
END:VEVENT
BEGIN:VEVENT
DTSTART;TZID=America/Los_Angeles:20240628T090000
DTEND;TZID=America/Los_Angeles:20240628T113000
DTSTAMP:20260420T105039
CREATED:20240119T165144Z
LAST-MODIFIED:20240402T215925Z
UID:10038973-1719565200-1719574200@chewelah.org
SUMMARY:Adult Pickleball
DESCRIPTION:Monday & Friday 9:00am-11:30am\n243 Par Place by the Chewelah Golf Course\nFree to Everyone! “No Partner? No Problem!”\nContact: sueschlatter17@gmail.com
URL:https://chewelah.org/event/adult-pickleball-3/2024-06-28/
LOCATION:Chewelah Golf & Country Club\, 2537 Sand Canyon Rd\, Chewelah\, WA\, 99109\, United States
CATEGORIES:Family Friendly,Winter Events
END:VEVENT
BEGIN:VEVENT
DTSTART;TZID=America/Los_Angeles:20240628T110000
DTEND;TZID=America/Los_Angeles:20240628T153000
DTSTAMP:20260420T105039
CREATED:20240228T184003Z
LAST-MODIFIED:20240502T182231Z
UID:10039540-1719572400-1719588600@chewelah.org
SUMMARY:Chewelah Farmers Market
DESCRIPTION:
URL:https://chewelah.org/event/chewelah-farmers-market-2/2024-06-28/
LOCATION:Chewelah City Park\, Chewelah\, WA\, 99109\, United States
CATEGORIES:Family Friendly,Summer Events
END:VEVENT
BEGIN:VEVENT
DTSTART;TZID=America/Los_Angeles:20240629T180000
DTEND;TZID=America/Los_Angeles:20240629T200000
DTSTAMP:20260420T105039
CREATED:20240619T181416Z
LAST-MODIFIED:20240619T181416Z
UID:10041050-1719684000-1719691200@chewelah.org
SUMMARY:Rusty Putter features Fool's Paradise Band
DESCRIPTION:
URL:https://chewelah.org/event/rusty-putter-features-fools-paradise-band/
LOCATION:Rusty Putter Bar & Grille\, 2537 San Canyon Rd\, Chewelah\, WA\, 99109\, United States
CATEGORIES:Family Friendly,Summer Events
END:VEVENT
BEGIN:VEVENT
DTSTART;TZID=America/Los_Angeles:20240629T190000
DTEND;TZID=America/Los_Angeles:20240629T210000
DTSTAMP:20260420T105039
CREATED:20240626T181605Z
LAST-MODIFIED:20240626T181606Z
UID:10041055-1719687600-1719694800@chewelah.org
SUMMARY:Coffee House Concerts at The Yale Press
DESCRIPTION:
URL:https://chewelah.org/event/coffee-house-concerts-at-the-yale-press/
LOCATION:The Yale Press
CATEGORIES:Family Friendly,Summer Events
END:VEVENT
END:VCALENDAR