BEGIN:VCALENDAR
VERSION:2.0
PRODID:-//Chewelah Chamber of Commerce - ECPv6.15.17//NONSGML v1.0//EN
CALSCALE:GREGORIAN
METHOD:PUBLISH
X-ORIGINAL-URL:https://chewelah.org
X-WR-CALDESC:Events for Chewelah Chamber of Commerce
REFRESH-INTERVAL;VALUE=DURATION:PT1H
X-Robots-Tag:noindex
X-PUBLISHED-TTL:PT1H
BEGIN:VTIMEZONE
TZID:America/Los_Angeles
BEGIN:DAYLIGHT
TZOFFSETFROM:-0800
TZOFFSETTO:-0700
TZNAME:PDT
DTSTART:20230312T100000
END:DAYLIGHT
BEGIN:STANDARD
TZOFFSETFROM:-0700
TZOFFSETTO:-0800
TZNAME:PST
DTSTART:20231105T090000
END:STANDARD
BEGIN:DAYLIGHT
TZOFFSETFROM:-0800
TZOFFSETTO:-0700
TZNAME:PDT
DTSTART:20240310T100000
END:DAYLIGHT
BEGIN:STANDARD
TZOFFSETFROM:-0700
TZOFFSETTO:-0800
TZNAME:PST
DTSTART:20241103T090000
END:STANDARD
BEGIN:DAYLIGHT
TZOFFSETFROM:-0800
TZOFFSETTO:-0700
TZNAME:PDT
DTSTART:20250309T100000
END:DAYLIGHT
BEGIN:STANDARD
TZOFFSETFROM:-0700
TZOFFSETTO:-0800
TZNAME:PST
DTSTART:20251102T090000
END:STANDARD
END:VTIMEZONE
BEGIN:VEVENT
DTSTART;TZID=America/Los_Angeles:20240310T093000
DTEND;TZID=America/Los_Angeles:20240310T160000
DTSTAMP:20260421T192836
CREATED:20240307T174221Z
LAST-MODIFIED:20240307T174222Z
UID:10039565-1710063000-1710086400@chewelah.org
SUMMARY:Cross Country Lessons with Tim Ray
DESCRIPTION:Nordic Clinic\nMar 10\, 2024 –\nSki Clinic with Tim Ray \nSunday\, March 10th 9:30am \nFor intermediate to advanced skiers who want to develop that refine their Nordic skills. \nBoth skate and classic disciplines will be taught. Tim is a fully certified PSIA Instructor/Examiner with 50 years of experience. \nJoin us for a full $90 or half day for $55
URL:https://chewelah.org/event/cross-country-lessons-with-tim-ray/
LOCATION:49°North\, 3311 Flowery Trail Rd\, Chewelah\, 99109\, United States
CATEGORIES:Community Event,Family Friendly,Winter Events
END:VEVENT
BEGIN:VEVENT
DTSTART;TZID=America/Los_Angeles:20240311T090000
DTEND;TZID=America/Los_Angeles:20240311T113000
DTSTAMP:20260421T192836
CREATED:20240119T165144Z
LAST-MODIFIED:20240402T215925Z
UID:10038942-1710147600-1710156600@chewelah.org
SUMMARY:Adult Pickleball
DESCRIPTION:Monday & Friday 9:00am-11:30am\n243 Par Place by the Chewelah Golf Course\nFree to Everyone! “No Partner? No Problem!”\nContact: sueschlatter17@gmail.com
URL:https://chewelah.org/event/adult-pickleball-3/2024-03-11/
LOCATION:Chewelah Golf & Country Club\, 2537 Sand Canyon Rd\, Chewelah\, WA\, 99109\, United States
CATEGORIES:Family Friendly,Winter Events
END:VEVENT
BEGIN:VEVENT
DTSTART;TZID=America/Los_Angeles:20240312T170000
DTEND;TZID=America/Los_Angeles:20240312T210000
DTSTAMP:20260421T192836
CREATED:20240220T215257Z
LAST-MODIFIED:20240220T215959Z
UID:10039517-1710262800-1710277200@chewelah.org
SUMMARY:St Patrick's Community Meal
DESCRIPTION:
URL:https://chewelah.org/event/st-patricks-community-meal/
LOCATION:St. Mary’s Catholic Church
CATEGORIES:Community Event,Family Friendly,Spring Events
END:VEVENT
BEGIN:VEVENT
DTSTART;TZID=America/Los_Angeles:20240315T090000
DTEND;TZID=America/Los_Angeles:20240315T113000
DTSTAMP:20260421T192836
CREATED:20240119T165144Z
LAST-MODIFIED:20240402T215925Z
UID:10038943-1710493200-1710502200@chewelah.org
SUMMARY:Adult Pickleball
DESCRIPTION:Monday & Friday 9:00am-11:30am\n243 Par Place by the Chewelah Golf Course\nFree to Everyone! “No Partner? No Problem!”\nContact: sueschlatter17@gmail.com
URL:https://chewelah.org/event/adult-pickleball-3/2024-03-15/
LOCATION:Chewelah Golf & Country Club\, 2537 Sand Canyon Rd\, Chewelah\, WA\, 99109\, United States
CATEGORIES:Family Friendly,Winter Events
END:VEVENT
END:VCALENDAR