BEGIN:VCALENDAR
VERSION:2.0
PRODID:-//Chewelah Chamber of Commerce - ECPv6.15.17//NONSGML v1.0//EN
CALSCALE:GREGORIAN
METHOD:PUBLISH
X-ORIGINAL-URL:https://chewelah.org
X-WR-CALDESC:Events for Chewelah Chamber of Commerce
REFRESH-INTERVAL;VALUE=DURATION:PT1H
X-Robots-Tag:noindex
X-PUBLISHED-TTL:PT1H
BEGIN:VTIMEZONE
TZID:America/Los_Angeles
BEGIN:DAYLIGHT
TZOFFSETFROM:-0800
TZOFFSETTO:-0700
TZNAME:PDT
DTSTART:20240310T100000
END:DAYLIGHT
BEGIN:STANDARD
TZOFFSETFROM:-0700
TZOFFSETTO:-0800
TZNAME:PST
DTSTART:20241103T090000
END:STANDARD
BEGIN:DAYLIGHT
TZOFFSETFROM:-0800
TZOFFSETTO:-0700
TZNAME:PDT
DTSTART:20250309T100000
END:DAYLIGHT
BEGIN:STANDARD
TZOFFSETFROM:-0700
TZOFFSETTO:-0800
TZNAME:PST
DTSTART:20251102T090000
END:STANDARD
BEGIN:DAYLIGHT
TZOFFSETFROM:-0800
TZOFFSETTO:-0700
TZNAME:PDT
DTSTART:20260308T100000
END:DAYLIGHT
BEGIN:STANDARD
TZOFFSETFROM:-0700
TZOFFSETTO:-0800
TZNAME:PST
DTSTART:20261101T090000
END:STANDARD
END:VTIMEZONE
BEGIN:VEVENT
DTSTART;TZID=America/Los_Angeles:20250712T110000
DTEND;TZID=America/Los_Angeles:20250712T170000
DTSTAMP:20260421T185526
CREATED:20250630T163615Z
LAST-MODIFIED:20250630T163615Z
UID:10043184-1752318000-1752339600@chewelah.org
SUMMARY:Mistequa Casino Hotel Bike Show & Swap
DESCRIPTION:
URL:https://chewelah.org/event/mistequa-casino-hotel-bike-show-swap/
LOCATION:Mistequa Casino & Hotel
CATEGORIES:Community Event,Family Friendly,Summer Events
END:VEVENT
BEGIN:VEVENT
DTSTART;TZID=America/Los_Angeles:20250712T160000
DTEND;TZID=America/Los_Angeles:20250712T163000
DTSTAMP:20260421T185526
CREATED:20250707T163129Z
LAST-MODIFIED:20250707T164655Z
UID:10043557-1752336000-1752337800@chewelah.org
SUMMARY:Rubber Duck Regatta
DESCRIPTION:
URL:https://chewelah.org/event/rubber-duck-regatta-2/
LOCATION:Chewelah City Park\, Chewelah\, WA\, 99109\, United States
CATEGORIES:Community Event,Summer Events
END:VEVENT
BEGIN:VEVENT
DTSTART;TZID=America/Los_Angeles:20250718T110000
DTEND;TZID=America/Los_Angeles:20250718T153000
DTSTAMP:20260421T185526
CREATED:20250408T201309Z
LAST-MODIFIED:20250527T214737Z
UID:10042620-1752836400-1752852600@chewelah.org
SUMMARY:Chewelah Farmer's Market
DESCRIPTION:
URL:https://chewelah.org/event/chewelah-farmers-market/2025-07-18/
LOCATION:Chewelah City Park\, Chewelah\, WA\, 99109\, United States
CATEGORIES:Community Event,Fall Events,Family Friendly,Spring Events,Summer Events
END:VEVENT
BEGIN:VEVENT
DTSTART;TZID=America/Los_Angeles:20250718T160000
DTEND;TZID=America/Los_Angeles:20250718T190000
DTSTAMP:20260421T185526
CREATED:20250715T153434Z
LAST-MODIFIED:20250715T153435Z
UID:10043561-1752854400-1752865200@chewelah.org
SUMMARY:Shakespeare on the Green - The Tempest
DESCRIPTION:
URL:https://chewelah.org/event/shakespeare-on-the-green-the-tempest/2025-07-18/
LOCATION:Chewelah Center for the Arts
CATEGORIES:Arts & Cultural Events,Community Event,Family Friendly,Summer Events
END:VEVENT
BEGIN:VEVENT
DTSTART;TZID=America/Los_Angeles:20250719T090000
DTEND;TZID=America/Los_Angeles:20250719T130000
DTSTAMP:20260421T185526
CREATED:20250307T170624Z
LAST-MODIFIED:20250307T170625Z
UID:10042493-1752915600-1752930000@chewelah.org
SUMMARY:CVAS Drive Through Vaccination Clinic
DESCRIPTION:
URL:https://chewelah.org/event/cvas-drive-through-vaccination-clinic/2025-07-19/
LOCATION:501 Old Arden Highway
CATEGORIES:Spring Events,Summer Events,Winter Events
END:VEVENT
BEGIN:VEVENT
DTSTART;TZID=America/Los_Angeles:20250719T160000
DTEND;TZID=America/Los_Angeles:20250719T190000
DTSTAMP:20260421T185526
CREATED:20250715T153434Z
LAST-MODIFIED:20250715T153435Z
UID:10043562-1752940800-1752951600@chewelah.org
SUMMARY:Shakespeare on the Green - The Tempest
DESCRIPTION:
URL:https://chewelah.org/event/shakespeare-on-the-green-the-tempest/2025-07-19/
LOCATION:Chewelah Center for the Arts
CATEGORIES:Arts & Cultural Events,Community Event,Family Friendly,Summer Events
END:VEVENT
BEGIN:VEVENT
DTSTART;TZID=America/Los_Angeles:20250723T110000
DTEND;TZID=America/Los_Angeles:20250723T113000
DTSTAMP:20260421T185526
CREATED:20250624T151503Z
LAST-MODIFIED:20250624T151503Z
UID:10043178-1753268400-1753270200@chewelah.org
SUMMARY:Story Time with the Cats
DESCRIPTION:
URL:https://chewelah.org/event/story-time-with-the-cats/2025-07-23/
CATEGORIES:Family Friendly,Summer Events
END:VEVENT
BEGIN:VEVENT
DTSTART;TZID=America/Los_Angeles:20250725T110000
DTEND;TZID=America/Los_Angeles:20250725T153000
DTSTAMP:20260421T185526
CREATED:20250408T201309Z
LAST-MODIFIED:20250527T214737Z
UID:10042621-1753441200-1753457400@chewelah.org
SUMMARY:Chewelah Farmer's Market
DESCRIPTION:
URL:https://chewelah.org/event/chewelah-farmers-market/2025-07-25/
LOCATION:Chewelah City Park\, Chewelah\, WA\, 99109\, United States
CATEGORIES:Community Event,Fall Events,Family Friendly,Spring Events,Summer Events
END:VEVENT
BEGIN:VEVENT
DTSTART;TZID=America/Los_Angeles:20250726T080000
DTEND;TZID=America/Los_Angeles:20250726T170000
DTSTAMP:20260421T185526
CREATED:20250718T182248Z
LAST-MODIFIED:20250718T182248Z
UID:10043568-1753516800-1753549200@chewelah.org
SUMMARY:3rd Annual Courtzite 3v3 Tournament
DESCRIPTION:
URL:https://chewelah.org/event/3rd-annual-courtzite-3v3-tournament/
LOCATION:Downtown Chewelah\, Main Ave & 2nd Street\, Chewelah\, WA\, 99109\, United States
CATEGORIES:Arts & Cultural Events,Community Event,Family Friendly,Summer Events
END:VEVENT
BEGIN:VEVENT
DTSTART;TZID=America/Los_Angeles:20250726T110000
DTEND;TZID=America/Los_Angeles:20250726T160000
DTSTAMP:20260421T185526
CREATED:20250715T154357Z
LAST-MODIFIED:20250715T154357Z
UID:10043563-1753527600-1753545600@chewelah.org
SUMMARY:Chewelah Kids Festival
DESCRIPTION:
URL:https://chewelah.org/event/chewelah-kids-festival-5/
LOCATION:Chewelah City Park\, Chewelah\, WA\, 99109\, United States
CATEGORIES:Arts & Cultural Events,Community Event,Family Friendly,Summer Events
END:VEVENT
BEGIN:VEVENT
DTSTART;TZID=America/Los_Angeles:20250726T110000
DTEND;TZID=America/Los_Angeles:20250726T200000
DTSTAMP:20260421T185526
CREATED:20250718T162235Z
LAST-MODIFIED:20250718T162235Z
UID:10043565-1753527600-1753560000@chewelah.org
SUMMARY:Heroes & Horsepower
DESCRIPTION:
URL:https://chewelah.org/event/heroes-horsepower/
LOCATION:Colville Toyota
CATEGORIES:Community Event,Family Friendly,Summer Events
END:VEVENT
BEGIN:VEVENT
DTSTART;TZID=America/Los_Angeles:20250728T110000
DTEND;TZID=America/Los_Angeles:20250728T130000
DTSTAMP:20260421T185526
CREATED:20240711T195234Z
LAST-MODIFIED:20240821T163840Z
UID:10041107-1753700400-1753707600@chewelah.org
SUMMARY:Potluck at Chewelah Senior Center
DESCRIPTION:
URL:https://chewelah.org/event/potluck-at-chewelah-senior-center-2/2025-07-28/
LOCATION:Chewelah Senior Center
CATEGORIES:Community Event,Senior Event,Summer Events
END:VEVENT
BEGIN:VEVENT
DTSTART;TZID=America/Los_Angeles:20250731T190000
DTEND;TZID=America/Los_Angeles:20250731T203000
DTSTAMP:20260421T185526
CREATED:20250718T162453Z
LAST-MODIFIED:20250725T214906Z
UID:10043566-1753988400-1753993800@chewelah.org
SUMMARY:Anne of Green Gables
DESCRIPTION:
URL:https://chewelah.org/event/anne-of-green-gables/2025-07-31/
LOCATION:Chewelah Center for the Arts
CATEGORIES:Arts & Cultural Events,Community Event,Summer Events
END:VEVENT
BEGIN:VEVENT
DTSTART;TZID=America/Los_Angeles:20250801T110000
DTEND;TZID=America/Los_Angeles:20250801T153000
DTSTAMP:20260421T185526
CREATED:20250408T201309Z
LAST-MODIFIED:20250527T214737Z
UID:10042622-1754046000-1754062200@chewelah.org
SUMMARY:Chewelah Farmer's Market
DESCRIPTION:
URL:https://chewelah.org/event/chewelah-farmers-market/2025-08-01/
LOCATION:Chewelah City Park\, Chewelah\, WA\, 99109\, United States
CATEGORIES:Community Event,Fall Events,Family Friendly,Spring Events,Summer Events
END:VEVENT
BEGIN:VEVENT
DTSTART;TZID=America/Los_Angeles:20250801T190000
DTEND;TZID=America/Los_Angeles:20250801T203000
DTSTAMP:20260421T185526
CREATED:20250718T162453Z
LAST-MODIFIED:20250725T214906Z
UID:10043573-1754074800-1754080200@chewelah.org
SUMMARY:Anne of Green Gables
DESCRIPTION:
URL:https://chewelah.org/event/anne-of-green-gables/2025-08-01/
LOCATION:Chewelah Center for the Arts
CATEGORIES:Arts & Cultural Events,Community Event,Summer Events
END:VEVENT
BEGIN:VEVENT
DTSTART;TZID=America/Los_Angeles:20250802T110000
DTEND;TZID=America/Los_Angeles:20250802T163000
DTSTAMP:20260421T185526
CREATED:20250529T211415Z
LAST-MODIFIED:20250529T211416Z
UID:10043168-1754132400-1754152200@chewelah.org
SUMMARY:Mistequa Casino Hotel Car Show
DESCRIPTION:
URL:https://chewelah.org/event/mistequa-casino-hotel-car-show/
LOCATION:Mistequa Casino & Hotel
CATEGORIES:Family Friendly,Summer Events
END:VEVENT
BEGIN:VEVENT
DTSTART;TZID=America/Los_Angeles:20250802T110000
DTEND;TZID=America/Los_Angeles:20250802T180000
DTSTAMP:20260421T185526
CREATED:20250605T153110Z
LAST-MODIFIED:20250728T220405Z
UID:10043172-1754132400-1754157600@chewelah.org
SUMMARY:Mistequa Car Show
DESCRIPTION:
URL:https://chewelah.org/event/mistequa-car-show/
LOCATION:Mistequa Casino & Hotel
CATEGORIES:Community Event,Family Friendly,Summer Events
END:VEVENT
BEGIN:VEVENT
DTSTART;TZID=America/Los_Angeles:20250802T140000
DTEND;TZID=America/Los_Angeles:20250802T153000
DTSTAMP:20260421T185526
CREATED:20250718T162453Z
LAST-MODIFIED:20250725T214906Z
UID:10043574-1754143200-1754148600@chewelah.org
SUMMARY:Anne of Green Gables
DESCRIPTION:
URL:https://chewelah.org/event/anne-of-green-gables/2025-08-02/1/
LOCATION:Chewelah Center for the Arts
CATEGORIES:Arts & Cultural Events,Community Event,Summer Events
END:VEVENT
BEGIN:VEVENT
DTSTART;TZID=America/Los_Angeles:20250802T190000
DTEND;TZID=America/Los_Angeles:20250802T203000
DTSTAMP:20260421T185526
CREATED:20250718T162453Z
LAST-MODIFIED:20250725T214906Z
UID:10043575-1754161200-1754166600@chewelah.org
SUMMARY:Anne of Green Gables
DESCRIPTION:
URL:https://chewelah.org/event/anne-of-green-gables/2025-08-02/2/
LOCATION:Chewelah Center for the Arts
CATEGORIES:Arts & Cultural Events,Community Event,Summer Events
END:VEVENT
BEGIN:VEVENT
DTSTART;TZID=America/Los_Angeles:20250807T080000
DTEND;TZID=America/Los_Angeles:20250807T170000
DTSTAMP:20260421T185526
CREATED:20250728T220300Z
LAST-MODIFIED:20250728T220300Z
UID:10043576-1754553600-1754586000@chewelah.org
SUMMARY:First Thursday Art Walk
DESCRIPTION:
URL:https://chewelah.org/event/first-thursday-art-walk-13/
LOCATION:Downtown Chewelah Art Walk\, Chewelah\, WA\, 99109\, United States
CATEGORIES:Arts & Cultural Events,Community Event,Family Friendly,Summer Events
END:VEVENT
BEGIN:VEVENT
DTSTART;TZID=America/Los_Angeles:20250808T090000
DTEND;TZID=America/Los_Angeles:20250808T170000
DTSTAMP:20260421T185526
CREATED:20250805T214535Z
LAST-MODIFIED:20250806T171421Z
UID:10043582-1754643600-1754672400@chewelah.org
SUMMARY:Valley Community Fair
DESCRIPTION:
URL:https://chewelah.org/event/valley-community-fair-3/2025-08-08/
LOCATION:Valley Community Park\, Valley\, WA\, United States
CATEGORIES:Arts & Cultural Events,Community Event,Family Friendly,Summer Events
END:VEVENT
BEGIN:VEVENT
DTSTART;TZID=America/Los_Angeles:20250808T110000
DTEND;TZID=America/Los_Angeles:20250808T153000
DTSTAMP:20260421T185526
CREATED:20250408T201309Z
LAST-MODIFIED:20250527T214737Z
UID:10042623-1754650800-1754667000@chewelah.org
SUMMARY:Chewelah Farmer's Market
DESCRIPTION:
URL:https://chewelah.org/event/chewelah-farmers-market/2025-08-08/
LOCATION:Chewelah City Park\, Chewelah\, WA\, 99109\, United States
CATEGORIES:Community Event,Fall Events,Family Friendly,Spring Events,Summer Events
END:VEVENT
BEGIN:VEVENT
DTSTART;TZID=America/Los_Angeles:20250808T140000
DTEND;TZID=America/Los_Angeles:20250808T143000
DTSTAMP:20260421T185527
CREATED:20250718T162027Z
LAST-MODIFIED:20250718T162028Z
UID:10043564-1754661600-1754663400@chewelah.org
SUMMARY:
DESCRIPTION:
URL:https://chewelah.org/event/168964/
LOCATION:Chewelah City Park\, Chewelah\, WA\, 99109\, United States
CATEGORIES:Community Event,Family Friendly,Summer Events
END:VEVENT
BEGIN:VEVENT
DTSTART;TZID=America/Los_Angeles:20250808T140000
DTEND;TZID=America/Los_Angeles:20250808T143000
DTSTAMP:20260421T185527
CREATED:20250731T173734Z
LAST-MODIFIED:20250731T173734Z
UID:10043577-1754661600-1754663400@chewelah.org
SUMMARY:Zucchini Regatta at Chewelah Farmers Market
DESCRIPTION:
URL:https://chewelah.org/event/zucchini-regatta-at-chewelah-farmers-market/
LOCATION:Chewelah City Park\, Chewelah\, WA\, 99109\, United States
CATEGORIES:Community Event,Family Friendly,Summer Events
END:VEVENT
BEGIN:VEVENT
DTSTART;TZID=America/Los_Angeles:20250809T090000
DTEND;TZID=America/Los_Angeles:20250809T170000
DTSTAMP:20260421T185527
CREATED:20250805T214535Z
LAST-MODIFIED:20250806T171421Z
UID:10043579-1754730000-1754758800@chewelah.org
SUMMARY:Valley Community Fair
DESCRIPTION:
URL:https://chewelah.org/event/valley-community-fair-3/2025-08-09/
LOCATION:Valley Community Park\, Valley\, WA\, United States
CATEGORIES:Arts & Cultural Events,Community Event,Family Friendly,Summer Events
END:VEVENT
BEGIN:VEVENT
DTSTART;TZID=America/Los_Angeles:20250809T130000
DTEND;TZID=America/Los_Angeles:20250809T180000
DTSTAMP:20260421T185527
CREATED:20250722T170704Z
LAST-MODIFIED:20250722T170846Z
UID:10043571-1754744400-1754762400@chewelah.org
SUMMARY:Huckleberry Festival
DESCRIPTION:
URL:https://chewelah.org/event/huckleberry-festival-2/2025-08-09/
LOCATION:49°North\, 3311 Flowery Trail Rd\, Chewelah\, 99109\, United States
CATEGORIES:Community Event,Family Friendly,Summer Events
END:VEVENT
BEGIN:VEVENT
DTSTART;TZID=America/Los_Angeles:20250810T080000
DTEND;TZID=America/Los_Angeles:20250810T180000
DTSTAMP:20260421T185527
CREATED:20250722T170704Z
LAST-MODIFIED:20250722T170846Z
UID:10043572-1754812800-1754848800@chewelah.org
SUMMARY:Huckleberry Festival
DESCRIPTION:
URL:https://chewelah.org/event/huckleberry-festival-2/2025-08-10/
LOCATION:49°North\, 3311 Flowery Trail Rd\, Chewelah\, 99109\, United States
CATEGORIES:Community Event,Family Friendly,Summer Events
END:VEVENT
BEGIN:VEVENT
DTSTART;TZID=America/Los_Angeles:20250815T110000
DTEND;TZID=America/Los_Angeles:20250815T153000
DTSTAMP:20260421T185527
CREATED:20250408T201309Z
LAST-MODIFIED:20250527T214737Z
UID:10042624-1755255600-1755271800@chewelah.org
SUMMARY:Chewelah Farmer's Market
DESCRIPTION:
URL:https://chewelah.org/event/chewelah-farmers-market/2025-08-15/
LOCATION:Chewelah City Park\, Chewelah\, WA\, 99109\, United States
CATEGORIES:Community Event,Fall Events,Family Friendly,Spring Events,Summer Events
END:VEVENT
BEGIN:VEVENT
DTSTART;TZID=America/Los_Angeles:20250816T090000
DTEND;TZID=America/Los_Angeles:20250816T130000
DTSTAMP:20260421T185527
CREATED:20250307T170624Z
LAST-MODIFIED:20250307T170625Z
UID:10042494-1755334800-1755349200@chewelah.org
SUMMARY:CVAS Drive Through Vaccination Clinic
DESCRIPTION:
URL:https://chewelah.org/event/cvas-drive-through-vaccination-clinic/2025-08-16/
LOCATION:501 Old Arden Highway
CATEGORIES:Spring Events,Summer Events,Winter Events
END:VEVENT
BEGIN:VEVENT
DTSTART;TZID=America/Los_Angeles:20250819T140000
DTEND;TZID=America/Los_Angeles:20250819T150000
DTSTAMP:20260421T185527
CREATED:20250807T195731Z
LAST-MODIFIED:20250807T195735Z
UID:10043584-1755612000-1755615600@chewelah.org
SUMMARY:Recognizing & Avoiding Scams
DESCRIPTION:
URL:https://chewelah.org/event/recognizing-avoiding-scams/
LOCATION:Chewelah Public Library\, 311 E Clay\, Chewelah\, WA\, 99109\, United States
CATEGORIES:Summer Events
END:VEVENT
END:VCALENDAR