BEGIN:VCALENDAR
VERSION:2.0
PRODID:-//Chewelah Chamber of Commerce - ECPv6.15.17//NONSGML v1.0//EN
CALSCALE:GREGORIAN
METHOD:PUBLISH
X-ORIGINAL-URL:https://chewelah.org
X-WR-CALDESC:Events for Chewelah Chamber of Commerce
REFRESH-INTERVAL;VALUE=DURATION:PT1H
X-Robots-Tag:noindex
X-PUBLISHED-TTL:PT1H
BEGIN:VTIMEZONE
TZID:America/Los_Angeles
BEGIN:DAYLIGHT
TZOFFSETFROM:-0800
TZOFFSETTO:-0700
TZNAME:PDT
DTSTART:20240310T100000
END:DAYLIGHT
BEGIN:STANDARD
TZOFFSETFROM:-0700
TZOFFSETTO:-0800
TZNAME:PST
DTSTART:20241103T090000
END:STANDARD
BEGIN:DAYLIGHT
TZOFFSETFROM:-0800
TZOFFSETTO:-0700
TZNAME:PDT
DTSTART:20250309T100000
END:DAYLIGHT
BEGIN:STANDARD
TZOFFSETFROM:-0700
TZOFFSETTO:-0800
TZNAME:PST
DTSTART:20251102T090000
END:STANDARD
BEGIN:DAYLIGHT
TZOFFSETFROM:-0800
TZOFFSETTO:-0700
TZNAME:PDT
DTSTART:20260308T100000
END:DAYLIGHT
BEGIN:STANDARD
TZOFFSETFROM:-0700
TZOFFSETTO:-0800
TZNAME:PST
DTSTART:20261101T090000
END:STANDARD
BEGIN:DAYLIGHT
TZOFFSETFROM:-0800
TZOFFSETTO:-0700
TZNAME:PDT
DTSTART:20270314T100000
END:DAYLIGHT
BEGIN:STANDARD
TZOFFSETFROM:-0700
TZOFFSETTO:-0800
TZNAME:PST
DTSTART:20271107T090000
END:STANDARD
END:VTIMEZONE
BEGIN:VEVENT
DTSTART;TZID=America/Los_Angeles:20251206T160000
DTEND;TZID=America/Los_Angeles:20251206T163000
DTSTAMP:20260419T223616
CREATED:20251121T212454Z
LAST-MODIFIED:20251121T212921Z
UID:10043781-1765036800-1765038600@chewelah.org
SUMMARY:Christmas Tree Lighting Ceremony
DESCRIPTION:
URL:https://chewelah.org/event/christmas-tree-lighting-ceremony-2/
LOCATION:City Hall
CATEGORIES:Arts & Cultural Events,Community Event,Family Friendly,Winter Events
END:VEVENT
BEGIN:VEVENT
DTSTART;TZID=America/Los_Angeles:20251207T140000
DTEND;TZID=America/Los_Angeles:20251207T160000
DTSTAMP:20260419T223616
CREATED:20251126T185822Z
LAST-MODIFIED:20251126T185823Z
UID:10043785-1765116000-1765123200@chewelah.org
SUMMARY:Joy to the World
DESCRIPTION:
URL:https://chewelah.org/event/joy-to-the-world/
LOCATION:Abundant Life Fellowship\, 203 E Clay & 2nd Street\, Chewelah\, WA\, 99109\, United States
CATEGORIES:Arts & Cultural Events,Family Friendly,Winter Events
ORGANIZER;CN="Chewelah Arts Guild":MAILTO:info@chewelahartsguild.org
END:VEVENT
BEGIN:VEVENT
DTSTART;TZID=America/Los_Angeles:20251212T190000
DTEND;TZID=America/Los_Angeles:20251212T210000
DTSTAMP:20260419T223616
CREATED:20251203T190946Z
LAST-MODIFIED:20251203T190946Z
UID:10043794-1765566000-1765573200@chewelah.org
SUMMARY:Seussical Jr. - The Musical
DESCRIPTION:
URL:https://chewelah.org/event/seussical-jr-the-musical/2025-12-12/
LOCATION:Chewelah Center for the Arts
CATEGORIES:Arts & Cultural Events,Family Friendly,Winter Events
ORGANIZER;CN="StageTime Theatre School":MAILTO:janetlmc1951@yahoo.com
END:VEVENT
BEGIN:VEVENT
DTSTART;TZID=America/Los_Angeles:20251213T100000
DTEND;TZID=America/Los_Angeles:20251213T120000
DTSTAMP:20260419T223616
CREATED:20251203T190946Z
LAST-MODIFIED:20251203T190946Z
UID:10043795-1765620000-1765627200@chewelah.org
SUMMARY:Seussical Jr. - The Musical
DESCRIPTION:
URL:https://chewelah.org/event/seussical-jr-the-musical/2025-12-13/1/
LOCATION:Chewelah Center for the Arts
CATEGORIES:Arts & Cultural Events,Family Friendly,Winter Events
ORGANIZER;CN="StageTime Theatre School":MAILTO:janetlmc1951@yahoo.com
END:VEVENT
BEGIN:VEVENT
DTSTART;TZID=America/Los_Angeles:20251213T140000
DTEND;TZID=America/Los_Angeles:20251213T160000
DTSTAMP:20260419T223616
CREATED:20251203T190946Z
LAST-MODIFIED:20251203T190946Z
UID:10043796-1765634400-1765641600@chewelah.org
SUMMARY:Seussical Jr. - The Musical
DESCRIPTION:
URL:https://chewelah.org/event/seussical-jr-the-musical/2025-12-13/2/
LOCATION:Chewelah Center for the Arts
CATEGORIES:Arts & Cultural Events,Family Friendly,Winter Events
ORGANIZER;CN="StageTime Theatre School":MAILTO:janetlmc1951@yahoo.com
END:VEVENT
BEGIN:VEVENT
DTSTART;TZID=America/Los_Angeles:20251213T190000
DTEND;TZID=America/Los_Angeles:20251213T210000
DTSTAMP:20260419T223616
CREATED:20251203T190946Z
LAST-MODIFIED:20251203T190946Z
UID:10043797-1765652400-1765659600@chewelah.org
SUMMARY:Seussical Jr. - The Musical
DESCRIPTION:
URL:https://chewelah.org/event/seussical-jr-the-musical/2025-12-13/3/
LOCATION:Chewelah Center for the Arts
CATEGORIES:Arts & Cultural Events,Family Friendly,Winter Events
ORGANIZER;CN="StageTime Theatre School":MAILTO:janetlmc1951@yahoo.com
END:VEVENT
BEGIN:VEVENT
DTSTART;TZID=America/Los_Angeles:20251214T140000
DTEND;TZID=America/Los_Angeles:20251214T160000
DTSTAMP:20260419T223616
CREATED:20251203T190946Z
LAST-MODIFIED:20251203T190946Z
UID:10043798-1765720800-1765728000@chewelah.org
SUMMARY:Seussical Jr. - The Musical
DESCRIPTION:
URL:https://chewelah.org/event/seussical-jr-the-musical/2025-12-14/1/
LOCATION:Chewelah Center for the Arts
CATEGORIES:Arts & Cultural Events,Family Friendly,Winter Events
ORGANIZER;CN="StageTime Theatre School":MAILTO:janetlmc1951@yahoo.com
END:VEVENT
BEGIN:VEVENT
DTSTART;TZID=America/Los_Angeles:20251214T190000
DTEND;TZID=America/Los_Angeles:20251214T210000
DTSTAMP:20260419T223616
CREATED:20251203T190946Z
LAST-MODIFIED:20251203T190946Z
UID:10043799-1765738800-1765746000@chewelah.org
SUMMARY:Seussical Jr. - The Musical
DESCRIPTION:
URL:https://chewelah.org/event/seussical-jr-the-musical/2025-12-14/2/
LOCATION:Chewelah Center for the Arts
CATEGORIES:Arts & Cultural Events,Family Friendly,Winter Events
ORGANIZER;CN="StageTime Theatre School":MAILTO:janetlmc1951@yahoo.com
END:VEVENT
BEGIN:VEVENT
DTSTART;TZID=America/Los_Angeles:20251217T120000
DTEND;TZID=America/Los_Angeles:20251217T173000
DTSTAMP:20260419T223616
CREATED:20251211T225019Z
LAST-MODIFIED:20251211T225019Z
UID:10043805-1765972800-1765992600@chewelah.org
SUMMARY:Chewelah Community Blood Drive
DESCRIPTION:
URL:https://chewelah.org/event/chewelah-community-blood-drive-12/
LOCATION:American Legion Post 54
CATEGORIES:Community Event,Winter Events
END:VEVENT
BEGIN:VEVENT
DTSTART;TZID=America/Los_Angeles:20251218T170000
DTEND;TZID=America/Los_Angeles:20251218T210000
DTSTAMP:20260419T223616
CREATED:20251212T162234Z
LAST-MODIFIED:20251212T162235Z
UID:10043806-1766077200-1766091600@chewelah.org
SUMMARY:Santa Run
DESCRIPTION:
URL:https://chewelah.org/event/santa-run/2025-12-18/
CATEGORIES:Community Event,Family Friendly,Winter Events
END:VEVENT
BEGIN:VEVENT
DTSTART;TZID=America/Los_Angeles:20251219T170000
DTEND;TZID=America/Los_Angeles:20251219T210000
DTSTAMP:20260419T223617
CREATED:20251212T162234Z
LAST-MODIFIED:20251212T162235Z
UID:10043807-1766163600-1766178000@chewelah.org
SUMMARY:Santa Run
DESCRIPTION:
URL:https://chewelah.org/event/santa-run/2025-12-19/
CATEGORIES:Community Event,Family Friendly,Winter Events
END:VEVENT
BEGIN:VEVENT
DTSTART;TZID=America/Los_Angeles:20251220T170000
DTEND;TZID=America/Los_Angeles:20251220T210000
DTSTAMP:20260419T223617
CREATED:20251212T162234Z
LAST-MODIFIED:20251212T162235Z
UID:10043808-1766250000-1766264400@chewelah.org
SUMMARY:Santa Run
DESCRIPTION:
URL:https://chewelah.org/event/santa-run/2025-12-20/
CATEGORIES:Community Event,Family Friendly,Winter Events
END:VEVENT
BEGIN:VEVENT
DTSTART;TZID=America/Los_Angeles:20251221T180000
DTEND;TZID=America/Los_Angeles:20251221T200000
DTSTAMP:20260419T223617
CREATED:20251209T224436Z
LAST-MODIFIED:20251209T224437Z
UID:10043801-1766340000-1766347200@chewelah.org
SUMMARY:Christmas Carol Sing-Song-Sing-Along
DESCRIPTION:
URL:https://chewelah.org/event/christmas-carol-sing-song-sing-along/
LOCATION:Chewelah Center for the Arts
CATEGORIES:Arts & Cultural Events,Winter Events
END:VEVENT
BEGIN:VEVENT
DTSTART;TZID=America/Los_Angeles:20251222T150000
DTEND;TZID=America/Los_Angeles:20251222T190000
DTSTAMP:20260419T223617
CREATED:20251209T224826Z
LAST-MODIFIED:20251209T224826Z
UID:10043802-1766415600-1766430000@chewelah.org
SUMMARY:Free Community Christmas Dinner
DESCRIPTION:
URL:https://chewelah.org/event/free-community-christmas-dinner/2025-12-22/
CATEGORIES:Winter Events
END:VEVENT
BEGIN:VEVENT
DTSTART;TZID=America/Los_Angeles:20251223T150000
DTEND;TZID=America/Los_Angeles:20251223T190000
DTSTAMP:20260419T223617
CREATED:20251209T224826Z
LAST-MODIFIED:20251209T224826Z
UID:10043803-1766502000-1766516400@chewelah.org
SUMMARY:Free Community Christmas Dinner
DESCRIPTION:
URL:https://chewelah.org/event/free-community-christmas-dinner/2025-12-23/
CATEGORIES:Winter Events
END:VEVENT
BEGIN:VEVENT
DTSTART;TZID=America/Los_Angeles:20251224T170000
DTEND;TZID=America/Los_Angeles:20251224T210000
DTSTAMP:20260419T223617
CREATED:20251211T223654Z
LAST-MODIFIED:20251211T223655Z
UID:10043804-1766595600-1766610000@chewelah.org
SUMMARY:Christmas Eve Prime Rib Dinner
DESCRIPTION:
URL:https://chewelah.org/event/christmas-eve-prime-rib-dinner/
LOCATION:Mistequa Casino Hotel
CATEGORIES:Winter Events
END:VEVENT
BEGIN:VEVENT
DTSTART;TZID=America/Los_Angeles:20251226T190000
DTEND;TZID=America/Los_Angeles:20251226T210000
DTSTAMP:20260419T223617
CREATED:20251219T205055Z
LAST-MODIFIED:20251219T205056Z
UID:10043812-1766775600-1766782800@chewelah.org
SUMMARY:Home for the Holidays Singer Series
DESCRIPTION:
URL:https://chewelah.org/event/home-for-the-holidays-singer-series/
LOCATION:Chewelah Center for the Arts
CATEGORIES:Arts & Cultural Events,Winter Events
END:VEVENT
BEGIN:VEVENT
DTSTART;TZID=America/Los_Angeles:20251228T170000
DTEND;TZID=America/Los_Angeles:20251228T200000
DTSTAMP:20260419T223617
CREATED:20251203T175852Z
LAST-MODIFIED:20251203T175852Z
UID:10043786-1766941200-1766952000@chewelah.org
SUMMARY:A Christmas Tree Labyrinth
DESCRIPTION:
URL:https://chewelah.org/event/a-christmas-tree-labyrinth-2/2025-12-28/
LOCATION:Chewelah Center for the Arts
CATEGORIES:Arts & Cultural Events,Family Friendly,Winter Events
END:VEVENT
BEGIN:VEVENT
DTSTART;TZID=America/Los_Angeles:20251229T170000
DTEND;TZID=America/Los_Angeles:20251229T200000
DTSTAMP:20260419T223617
CREATED:20251203T175852Z
LAST-MODIFIED:20251203T175852Z
UID:10043787-1767027600-1767038400@chewelah.org
SUMMARY:A Christmas Tree Labyrinth
DESCRIPTION:
URL:https://chewelah.org/event/a-christmas-tree-labyrinth-2/2025-12-29/
LOCATION:Chewelah Center for the Arts
CATEGORIES:Arts & Cultural Events,Family Friendly,Winter Events
END:VEVENT
BEGIN:VEVENT
DTSTART;TZID=America/Los_Angeles:20251230T170000
DTEND;TZID=America/Los_Angeles:20251230T200000
DTSTAMP:20260419T223617
CREATED:20251203T175852Z
LAST-MODIFIED:20251203T175852Z
UID:10043788-1767114000-1767124800@chewelah.org
SUMMARY:A Christmas Tree Labyrinth
DESCRIPTION:
URL:https://chewelah.org/event/a-christmas-tree-labyrinth-2/2025-12-30/
LOCATION:Chewelah Center for the Arts
CATEGORIES:Arts & Cultural Events,Family Friendly,Winter Events
END:VEVENT
BEGIN:VEVENT
DTSTART;TZID=America/Los_Angeles:20251231T170000
DTEND;TZID=America/Los_Angeles:20251231T200000
DTSTAMP:20260419T223617
CREATED:20251203T175852Z
LAST-MODIFIED:20251203T175852Z
UID:10043789-1767200400-1767211200@chewelah.org
SUMMARY:A Christmas Tree Labyrinth
DESCRIPTION:
URL:https://chewelah.org/event/a-christmas-tree-labyrinth-2/2025-12-31/
LOCATION:Chewelah Center for the Arts
CATEGORIES:Arts & Cultural Events,Family Friendly,Winter Events
END:VEVENT
BEGIN:VEVENT
DTSTART;TZID=America/Los_Angeles:20260101T170000
DTEND;TZID=America/Los_Angeles:20260101T200000
DTSTAMP:20260419T223617
CREATED:20251203T175852Z
LAST-MODIFIED:20251203T175852Z
UID:10043790-1767286800-1767297600@chewelah.org
SUMMARY:A Christmas Tree Labyrinth
DESCRIPTION:
URL:https://chewelah.org/event/a-christmas-tree-labyrinth-2/2026-01-01/
LOCATION:Chewelah Center for the Arts
CATEGORIES:Arts & Cultural Events,Family Friendly,Winter Events
END:VEVENT
BEGIN:VEVENT
DTSTART;TZID=America/Los_Angeles:20260102T170000
DTEND;TZID=America/Los_Angeles:20260102T200000
DTSTAMP:20260419T223617
CREATED:20251203T175852Z
LAST-MODIFIED:20251203T175852Z
UID:10043791-1767373200-1767384000@chewelah.org
SUMMARY:A Christmas Tree Labyrinth
DESCRIPTION:
URL:https://chewelah.org/event/a-christmas-tree-labyrinth-2/2026-01-02/
LOCATION:Chewelah Center for the Arts
CATEGORIES:Arts & Cultural Events,Family Friendly,Winter Events
END:VEVENT
BEGIN:VEVENT
DTSTART;TZID=America/Los_Angeles:20260103T170000
DTEND;TZID=America/Los_Angeles:20260103T200000
DTSTAMP:20260419T223617
CREATED:20251203T175852Z
LAST-MODIFIED:20251203T175852Z
UID:10043792-1767459600-1767470400@chewelah.org
SUMMARY:A Christmas Tree Labyrinth
DESCRIPTION:
URL:https://chewelah.org/event/a-christmas-tree-labyrinth-2/2026-01-03/
LOCATION:Chewelah Center for the Arts
CATEGORIES:Arts & Cultural Events,Family Friendly,Winter Events
END:VEVENT
BEGIN:VEVENT
DTSTART;TZID=America/Los_Angeles:20260104T170000
DTEND;TZID=America/Los_Angeles:20260104T200000
DTSTAMP:20260419T223617
CREATED:20251203T175852Z
LAST-MODIFIED:20251203T175852Z
UID:10043793-1767546000-1767556800@chewelah.org
SUMMARY:A Christmas Tree Labyrinth
DESCRIPTION:
URL:https://chewelah.org/event/a-christmas-tree-labyrinth-2/2026-01-04/
LOCATION:Chewelah Center for the Arts
CATEGORIES:Arts & Cultural Events,Family Friendly,Winter Events
END:VEVENT
BEGIN:VEVENT
DTSTART;TZID=America/Los_Angeles:20260108T110000
DTEND;TZID=America/Los_Angeles:20260108T130000
DTSTAMP:20260419T223617
CREATED:20260105T173146Z
LAST-MODIFIED:20260105T173146Z
UID:10043815-1767870000-1767877200@chewelah.org
SUMMARY:PodCraft!
DESCRIPTION:
URL:https://chewelah.org/event/podcraft/
LOCATION:Chewelah Library\, 311 East Clay\, Chewelah\, WA\, 99109
CATEGORIES:Arts & Cultural Events,Winter Events
END:VEVENT
BEGIN:VEVENT
DTSTART;TZID=America/Los_Angeles:20260108T170000
DTEND;TZID=America/Los_Angeles:20260108T200000
DTSTAMP:20260419T223617
CREATED:20251230T220541Z
LAST-MODIFIED:20251230T220542Z
UID:10043814-1767891600-1767902400@chewelah.org
SUMMARY:First Thursday Art Walk
DESCRIPTION:
URL:https://chewelah.org/event/first-thursday-art-walk-30/
LOCATION:Downtown Chewelah\, Main Ave & 2nd Street\, Chewelah\, WA\, 99109\, United States
CATEGORIES:Arts & Cultural Events,Winter Events
END:VEVENT
BEGIN:VEVENT
DTSTART;TZID=America/Los_Angeles:20260109T110000
DTEND;TZID=America/Los_Angeles:20260109T163000
DTSTAMP:20260419T223617
CREATED:20260105T175659Z
LAST-MODIFIED:20260105T175659Z
UID:10043818-1767956400-1767976200@chewelah.org
SUMMARY:DinoSoars - Live at 49 Degrees North Boomtown Bar
DESCRIPTION:
URL:https://chewelah.org/event/dinosoars-live-at-49-degrees-north-boomtown-bar/
LOCATION:49 Degrees North Boomtown Bar
CATEGORIES:Winter Events
END:VEVENT
BEGIN:VEVENT
DTSTART;TZID=America/Los_Angeles:20260109T190000
DTEND;TZID=America/Los_Angeles:20260109T210000
DTSTAMP:20260419T223617
CREATED:20260105T173500Z
LAST-MODIFIED:20260105T173500Z
UID:10043816-1767985200-1767992400@chewelah.org
SUMMARY:Well Now It's About 'Time' - Singer Series Concert
DESCRIPTION:
URL:https://chewelah.org/event/well-now-its-about-time-singer-series-concert/
CATEGORIES:Arts & Cultural Events,Winter Events
END:VEVENT
BEGIN:VEVENT
DTSTART;TZID=America/Los_Angeles:20260110T100000
DTEND;TZID=America/Los_Angeles:20260110T140000
DTSTAMP:20260419T223617
CREATED:20260105T175442Z
LAST-MODIFIED:20260105T175442Z
UID:10043817-1768039200-1768053600@chewelah.org
SUMMARY:Snowshoe Tour at 49 Degrees North
DESCRIPTION:
URL:https://chewelah.org/event/snowshoe-tour-at-49-degrees-north-2/
LOCATION:49°North\, 3311 Flowery Trail Rd\, Chewelah\, 99109\, United States
CATEGORIES:Winter Events
END:VEVENT
END:VCALENDAR