BEGIN:VCALENDAR
VERSION:2.0
PRODID:-//Chewelah Chamber of Commerce - ECPv6.15.20//NONSGML v1.0//EN
CALSCALE:GREGORIAN
METHOD:PUBLISH
X-WR-CALNAME:Chewelah Chamber of Commerce
X-ORIGINAL-URL:https://chewelah.org
X-WR-CALDESC:Events for Chewelah Chamber of Commerce
REFRESH-INTERVAL;VALUE=DURATION:PT1H
X-Robots-Tag:noindex
X-PUBLISHED-TTL:PT1H
BEGIN:VTIMEZONE
TZID:America/Los_Angeles
BEGIN:DAYLIGHT
TZOFFSETFROM:-0800
TZOFFSETTO:-0700
TZNAME:PDT
DTSTART:20230312T100000
END:DAYLIGHT
BEGIN:STANDARD
TZOFFSETFROM:-0700
TZOFFSETTO:-0800
TZNAME:PST
DTSTART:20231105T090000
END:STANDARD
BEGIN:DAYLIGHT
TZOFFSETFROM:-0800
TZOFFSETTO:-0700
TZNAME:PDT
DTSTART:20240310T100000
END:DAYLIGHT
BEGIN:STANDARD
TZOFFSETFROM:-0700
TZOFFSETTO:-0800
TZNAME:PST
DTSTART:20241103T090000
END:STANDARD
BEGIN:DAYLIGHT
TZOFFSETFROM:-0800
TZOFFSETTO:-0700
TZNAME:PDT
DTSTART:20250309T100000
END:DAYLIGHT
BEGIN:STANDARD
TZOFFSETFROM:-0700
TZOFFSETTO:-0800
TZNAME:PST
DTSTART:20251102T090000
END:STANDARD
END:VTIMEZONE
BEGIN:VEVENT
DTSTART;TZID=America/Los_Angeles:20240322T090000
DTEND;TZID=America/Los_Angeles:20240322T113000
DTSTAMP:20260422T160109
CREATED:20240119T165144Z
LAST-MODIFIED:20240402T215925Z
UID:10038945-1711098000-1711107000@chewelah.org
SUMMARY:Adult Pickleball
DESCRIPTION:Monday & Friday 9:00am-11:30am\n243 Par Place by the Chewelah Golf Course\nFree to Everyone! “No Partner? No Problem!”\nContact: sueschlatter17@gmail.com
URL:https://chewelah.org/event/adult-pickleball-3/2024-03-22/
LOCATION:Chewelah Golf & Country Club\, 2537 Sand Canyon Rd\, Chewelah\, WA\, 99109\, United States
CATEGORIES:Family Friendly,Winter Events
END:VEVENT
BEGIN:VEVENT
DTSTART;TZID=America/Los_Angeles:20240323T100000
DTEND;TZID=America/Los_Angeles:20240323T150000
DTSTAMP:20260422T160109
CREATED:20230920T200157Z
LAST-MODIFIED:20240321T160931Z
UID:10038751-1711188000-1711206000@chewelah.org
SUMMARY:Home and Garden Show
DESCRIPTION: 
URL:https://chewelah.org/event/home-and-garden-show/
LOCATION:Gess Elementary\, 405 E Lincoln\, Chewelah\, WA\, 99109\, United States
CATEGORIES:Arts & Cultural Events,Family Friendly,Featured Events,Spring Events
ORGANIZER;CN="Chewelah Chamber of Commerce":MAILTO:info@chewelah.org
END:VEVENT
BEGIN:VEVENT
DTSTART;TZID=America/Los_Angeles:20240325T090000
DTEND;TZID=America/Los_Angeles:20240325T113000
DTSTAMP:20260422T160109
CREATED:20240119T165144Z
LAST-MODIFIED:20240402T215925Z
UID:10038946-1711357200-1711366200@chewelah.org
SUMMARY:Adult Pickleball
DESCRIPTION:Monday & Friday 9:00am-11:30am\n243 Par Place by the Chewelah Golf Course\nFree to Everyone! “No Partner? No Problem!”\nContact: sueschlatter17@gmail.com
URL:https://chewelah.org/event/adult-pickleball-3/2024-03-25/
LOCATION:Chewelah Golf & Country Club\, 2537 Sand Canyon Rd\, Chewelah\, WA\, 99109\, United States
CATEGORIES:Family Friendly,Winter Events
END:VEVENT
BEGIN:VEVENT
DTSTART;TZID=America/Los_Angeles:20240326T104500
DTEND;TZID=America/Los_Angeles:20240326T110000
DTSTAMP:20260422T160109
CREATED:20240320T233520Z
LAST-MODIFIED:20240320T233520Z
UID:10039633-1711449900-1711450800@chewelah.org
SUMMARY:PSJH Guild Spring Auction
DESCRIPTION:
URL:https://chewelah.org/event/psjh-guild-spring-auction/
LOCATION:Akers and Providence St. Joseph Hospital
CATEGORIES:Community Event,Family Friendly,Spring Events
END:VEVENT
BEGIN:VEVENT
DTSTART;TZID=America/Los_Angeles:20240329T090000
DTEND;TZID=America/Los_Angeles:20240329T113000
DTSTAMP:20260422T160109
CREATED:20240119T165144Z
LAST-MODIFIED:20240402T215925Z
UID:10038947-1711702800-1711711800@chewelah.org
SUMMARY:Adult Pickleball
DESCRIPTION:Monday & Friday 9:00am-11:30am\n243 Par Place by the Chewelah Golf Course\nFree to Everyone! “No Partner? No Problem!”\nContact: sueschlatter17@gmail.com
URL:https://chewelah.org/event/adult-pickleball-3/2024-03-29/
LOCATION:Chewelah Golf & Country Club\, 2537 Sand Canyon Rd\, Chewelah\, WA\, 99109\, United States
CATEGORIES:Family Friendly,Winter Events
END:VEVENT
BEGIN:VEVENT
DTSTART;TZID=America/Los_Angeles:20240330T090000
DTEND;TZID=America/Los_Angeles:20240330T120000
DTSTAMP:20260422T160109
CREATED:20240328T204323Z
LAST-MODIFIED:20240328T204323Z
UID:10039653-1711789200-1711800000@chewelah.org
SUMMARY:49 Degrees North Easter Egg Hunt
DESCRIPTION:Easter! Kid’s All Mountain Egg Hunt\nMar 30\, 2024 –\nJoin Us for a Mountain Easter Egg Hunt on Saturday\, March 30th\, 9am start \nAges and locations: \n\n4 & Under – Gold Fever Surface Lift\nAges 4-11 – Treasure Hill\, Silver Ridge & Huckleberry Ridge.\n\nBring a basket and a sweet tooth! \n A special Brunch Menu will be available at the Quick Turn Cafe! The menu is coming soon!
URL:https://chewelah.org/event/49-degrees-north-easter-egg-hunt/
LOCATION:49°North\, 3311 Flowery Trail Rd\, Chewelah\, 99109\, United States
CATEGORIES:Family Friendly,Spring Events
END:VEVENT
BEGIN:VEVENT
DTSTART;TZID=America/Los_Angeles:20240330T110000
DTEND;TZID=America/Los_Angeles:20240330T130000
DTSTAMP:20260422T160109
CREATED:20240320T233837Z
LAST-MODIFIED:20240320T233837Z
UID:10039634-1711796400-1711803600@chewelah.org
SUMMARY:Kiwanis Easter Egg Hunt
DESCRIPTION:
URL:https://chewelah.org/event/kiwanis-easter-egg-hunt/
LOCATION:Chewelah HS football & Track Field
CATEGORIES:Community Event,Family Friendly,Spring Events
END:VEVENT
BEGIN:VEVENT
DTSTART;TZID=America/Los_Angeles:20240330T110000
DTEND;TZID=America/Los_Angeles:20240330T140000
DTSTAMP:20260422T160109
CREATED:20240328T202328Z
LAST-MODIFIED:20240328T202328Z
UID:10039651-1711796400-1711807200@chewelah.org
SUMMARY:49 Degtrees Jaeger's Park Party
DESCRIPTION:*Jaeger’s Park Party   Saturday Mar 30th  https://www.ski49n.com/upcoming-events/details/jaegers-park-party#    $15\nCome out for the anti-competition event of the season\, Jaeger’s Park Party – sponsored by Pistole Boardshop! Enjoy a day of spring park laps\, creative lines\, and progression through a shared passion. No judges\, no scores\, just a day of shredding where the stoke of friends counts for more than anything else. Inspired by and dedicated to Pro Snowboarder Jaeger Bailey\, a local legend\, taken from us too soon. \nRegistration\n9am-11am Kalispel Creek Lodge Main Floor\n*Under Milo the Moose  Registration: $15 \n*Proceeds to benefit Suicide Awareness and Prevention \nNo access to the Park Party venue without registration \nEveryone must sign a waiver\, download one HERE \n  \n 
URL:https://chewelah.org/event/49-degtrees-jaegers-park-party/
LOCATION:49°North\, 3311 Flowery Trail Rd\, Chewelah\, 99109\, United States
CATEGORIES:Family Friendly,Spring Events
END:VEVENT
BEGIN:VEVENT
DTSTART;TZID=America/Los_Angeles:20240330T110000
DTEND;TZID=America/Los_Angeles:20240330T163000
DTSTAMP:20260422T160109
CREATED:20240328T201643Z
LAST-MODIFIED:20240328T201643Z
UID:10039649-1711796400-1711816200@chewelah.org
SUMMARY:49 Degrees North Out like a Lion
DESCRIPTION:
URL:https://chewelah.org/event/49-degrees-north-out-like-a-lion/2024-03-30/
LOCATION:49°North\, 3311 Flowery Trail Rd\, Chewelah\, 99109\, United States
CATEGORIES:Family Friendly,Spring Events
END:VEVENT
BEGIN:VEVENT
DTSTART;TZID=America/Los_Angeles:20240331T090000
DTEND;TZID=America/Los_Angeles:20240331T120000
DTSTAMP:20260422T160109
CREATED:20240320T234253Z
LAST-MODIFIED:20240320T234253Z
UID:10039635-1711875600-1711886400@chewelah.org
SUMMARY:Easter Brunch at Mistequa Casino
DESCRIPTION:
URL:https://chewelah.org/event/easter-brunch-at-mistequa-casino/
LOCATION:Mistequa Casino\, 2555 Smith Rd.\, Chewelah\, WA\, 99109\, United States
CATEGORIES:Family Friendly,Spring Events
END:VEVENT
BEGIN:VEVENT
DTSTART;TZID=America/Los_Angeles:20240331T090000
DTEND;TZID=America/Los_Angeles:20240331T140000
DTSTAMP:20260422T160109
CREATED:20240328T191154Z
LAST-MODIFIED:20240328T191155Z
UID:10039646-1711875600-1711893600@chewelah.org
SUMMARY:Rusty Putter Easter Brunch
DESCRIPTION:
URL:https://chewelah.org/event/rusty-putter-easter-brunch/
LOCATION:Rusty Putter Bar & Grille\, 2537 San Canyon Rd\, Chewelah\, WA\, 99109\, United States
CATEGORIES:Community Event,Family Friendly,Spring Events
ORGANIZER;CN="Chewelah Golf & Country Club":MAILTO:proshop@chewelahgolf.com
END:VEVENT
BEGIN:VEVENT
DTSTART;TZID=America/Los_Angeles:20240331T110000
DTEND;TZID=America/Los_Angeles:20240331T163000
DTSTAMP:20260422T160109
CREATED:20240328T201643Z
LAST-MODIFIED:20240328T201643Z
UID:10039650-1711882800-1711902600@chewelah.org
SUMMARY:49 Degrees North Out like a Lion
DESCRIPTION:
URL:https://chewelah.org/event/49-degrees-north-out-like-a-lion/2024-03-31/
LOCATION:49°North\, 3311 Flowery Trail Rd\, Chewelah\, 99109\, United States
CATEGORIES:Family Friendly,Spring Events
END:VEVENT
BEGIN:VEVENT
DTSTART;TZID=America/Los_Angeles:20240401T090000
DTEND;TZID=America/Los_Angeles:20240401T113000
DTSTAMP:20260422T160109
CREATED:20240119T165144Z
LAST-MODIFIED:20240402T215925Z
UID:10038948-1711962000-1711971000@chewelah.org
SUMMARY:Adult Pickleball
DESCRIPTION:Monday & Friday 9:00am-11:30am\n243 Par Place by the Chewelah Golf Course\nFree to Everyone! “No Partner? No Problem!”\nContact: sueschlatter17@gmail.com
URL:https://chewelah.org/event/adult-pickleball-3/2024-04-01/
LOCATION:Chewelah Golf & Country Club\, 2537 Sand Canyon Rd\, Chewelah\, WA\, 99109\, United States
CATEGORIES:Family Friendly,Winter Events
END:VEVENT
BEGIN:VEVENT
DTSTART;TZID=America/Los_Angeles:20240401T090000
DTEND;TZID=America/Los_Angeles:20240401T163000
DTSTAMP:20260422T160109
CREATED:20240328T205813Z
LAST-MODIFIED:20240328T205849Z
UID:10039655-1711962000-1711989000@chewelah.org
SUMMARY:49 Degrees North Spring Discount & Food Drive
DESCRIPTION:Spring Discount & Food Drive\nApr 01\, 2024 – Apr 07\, 2024\nYou Give. you Get!\nWhen you bring in 3 cans of food from 4/1-4/7 \nDiscounted Lift Ticket pricing from 4/1 -4/4  Monday-Thursday\n*$29 Adult  *$24 Youth  *$0 Child *With 3 cans of food  Otherwise Midweek Pricing \nDiscounted Lift ticket pricing for Friday 4/5\n*$49 Adult  *$39 Youth  *$0 Child *With 3 cans of food  Otherwise Friday Pricing \nDiscounted Lift ticket pricing for Saturday-Sunday 4/6-4/7\n*$49 Adult  *$39 Youth  *$0 Child *With 3 cans of food  Otherwise Weekend Pricing \nBuy Tickets Here \nCanned Food Donations will go to the Chewelah Food Bank to benefit the Chewelah community. 
URL:https://chewelah.org/event/9-degrees-north-spriong-discount-food-drive/2024-04-01/
LOCATION:49°North\, 3311 Flowery Trail Rd\, Chewelah\, 99109\, United States
CATEGORIES:Community Event,Family Friendly,Spring Events
END:VEVENT
BEGIN:VEVENT
DTSTART;TZID=America/Los_Angeles:20240402T090000
DTEND;TZID=America/Los_Angeles:20240402T163000
DTSTAMP:20260422T160109
CREATED:20240328T205813Z
LAST-MODIFIED:20240328T205849Z
UID:10039656-1712048400-1712075400@chewelah.org
SUMMARY:49 Degrees North Spring Discount & Food Drive
DESCRIPTION:Spring Discount & Food Drive\nApr 01\, 2024 – Apr 07\, 2024\nYou Give. you Get!\nWhen you bring in 3 cans of food from 4/1-4/7 \nDiscounted Lift Ticket pricing from 4/1 -4/4  Monday-Thursday\n*$29 Adult  *$24 Youth  *$0 Child *With 3 cans of food  Otherwise Midweek Pricing \nDiscounted Lift ticket pricing for Friday 4/5\n*$49 Adult  *$39 Youth  *$0 Child *With 3 cans of food  Otherwise Friday Pricing \nDiscounted Lift ticket pricing for Saturday-Sunday 4/6-4/7\n*$49 Adult  *$39 Youth  *$0 Child *With 3 cans of food  Otherwise Weekend Pricing \nBuy Tickets Here \nCanned Food Donations will go to the Chewelah Food Bank to benefit the Chewelah community. 
URL:https://chewelah.org/event/9-degrees-north-spriong-discount-food-drive/2024-04-02/
LOCATION:49°North\, 3311 Flowery Trail Rd\, Chewelah\, 99109\, United States
CATEGORIES:Community Event,Family Friendly,Spring Events
END:VEVENT
BEGIN:VEVENT
DTSTART;TZID=America/Los_Angeles:20240403T090000
DTEND;TZID=America/Los_Angeles:20240403T163000
DTSTAMP:20260422T160109
CREATED:20240328T205813Z
LAST-MODIFIED:20240328T205849Z
UID:10039657-1712134800-1712161800@chewelah.org
SUMMARY:49 Degrees North Spring Discount & Food Drive
DESCRIPTION:Spring Discount & Food Drive\nApr 01\, 2024 – Apr 07\, 2024\nYou Give. you Get!\nWhen you bring in 3 cans of food from 4/1-4/7 \nDiscounted Lift Ticket pricing from 4/1 -4/4  Monday-Thursday\n*$29 Adult  *$24 Youth  *$0 Child *With 3 cans of food  Otherwise Midweek Pricing \nDiscounted Lift ticket pricing for Friday 4/5\n*$49 Adult  *$39 Youth  *$0 Child *With 3 cans of food  Otherwise Friday Pricing \nDiscounted Lift ticket pricing for Saturday-Sunday 4/6-4/7\n*$49 Adult  *$39 Youth  *$0 Child *With 3 cans of food  Otherwise Weekend Pricing \nBuy Tickets Here \nCanned Food Donations will go to the Chewelah Food Bank to benefit the Chewelah community. 
URL:https://chewelah.org/event/9-degrees-north-spriong-discount-food-drive/2024-04-03/
LOCATION:49°North\, 3311 Flowery Trail Rd\, Chewelah\, 99109\, United States
CATEGORIES:Community Event,Family Friendly,Spring Events
END:VEVENT
BEGIN:VEVENT
DTSTART;TZID=America/Los_Angeles:20240404T090000
DTEND;TZID=America/Los_Angeles:20240404T163000
DTSTAMP:20260422T160109
CREATED:20240328T205813Z
LAST-MODIFIED:20240328T205849Z
UID:10039658-1712221200-1712248200@chewelah.org
SUMMARY:49 Degrees North Spring Discount & Food Drive
DESCRIPTION:Spring Discount & Food Drive\nApr 01\, 2024 – Apr 07\, 2024\nYou Give. you Get!\nWhen you bring in 3 cans of food from 4/1-4/7 \nDiscounted Lift Ticket pricing from 4/1 -4/4  Monday-Thursday\n*$29 Adult  *$24 Youth  *$0 Child *With 3 cans of food  Otherwise Midweek Pricing \nDiscounted Lift ticket pricing for Friday 4/5\n*$49 Adult  *$39 Youth  *$0 Child *With 3 cans of food  Otherwise Friday Pricing \nDiscounted Lift ticket pricing for Saturday-Sunday 4/6-4/7\n*$49 Adult  *$39 Youth  *$0 Child *With 3 cans of food  Otherwise Weekend Pricing \nBuy Tickets Here \nCanned Food Donations will go to the Chewelah Food Bank to benefit the Chewelah community. 
URL:https://chewelah.org/event/9-degrees-north-spriong-discount-food-drive/2024-04-04/
LOCATION:49°North\, 3311 Flowery Trail Rd\, Chewelah\, 99109\, United States
CATEGORIES:Community Event,Family Friendly,Spring Events
END:VEVENT
BEGIN:VEVENT
DTSTART;TZID=America/Los_Angeles:20240405T090000
DTEND;TZID=America/Los_Angeles:20240405T113000
DTSTAMP:20260422T160109
CREATED:20240119T165144Z
LAST-MODIFIED:20240402T215925Z
UID:10038949-1712307600-1712316600@chewelah.org
SUMMARY:Adult Pickleball
DESCRIPTION:Monday & Friday 9:00am-11:30am\n243 Par Place by the Chewelah Golf Course\nFree to Everyone! “No Partner? No Problem!”\nContact: sueschlatter17@gmail.com
URL:https://chewelah.org/event/adult-pickleball-3/2024-04-05/
LOCATION:Chewelah Golf & Country Club\, 2537 Sand Canyon Rd\, Chewelah\, WA\, 99109\, United States
CATEGORIES:Family Friendly,Winter Events
END:VEVENT
BEGIN:VEVENT
DTSTART;TZID=America/Los_Angeles:20240405T090000
DTEND;TZID=America/Los_Angeles:20240405T163000
DTSTAMP:20260422T160109
CREATED:20240328T205813Z
LAST-MODIFIED:20240328T205849Z
UID:10039659-1712307600-1712334600@chewelah.org
SUMMARY:49 Degrees North Spring Discount & Food Drive
DESCRIPTION:Spring Discount & Food Drive\nApr 01\, 2024 – Apr 07\, 2024\nYou Give. you Get!\nWhen you bring in 3 cans of food from 4/1-4/7 \nDiscounted Lift Ticket pricing from 4/1 -4/4  Monday-Thursday\n*$29 Adult  *$24 Youth  *$0 Child *With 3 cans of food  Otherwise Midweek Pricing \nDiscounted Lift ticket pricing for Friday 4/5\n*$49 Adult  *$39 Youth  *$0 Child *With 3 cans of food  Otherwise Friday Pricing \nDiscounted Lift ticket pricing for Saturday-Sunday 4/6-4/7\n*$49 Adult  *$39 Youth  *$0 Child *With 3 cans of food  Otherwise Weekend Pricing \nBuy Tickets Here \nCanned Food Donations will go to the Chewelah Food Bank to benefit the Chewelah community. 
URL:https://chewelah.org/event/9-degrees-north-spriong-discount-food-drive/2024-04-05/
LOCATION:49°North\, 3311 Flowery Trail Rd\, Chewelah\, 99109\, United States
CATEGORIES:Community Event,Family Friendly,Spring Events
END:VEVENT
BEGIN:VEVENT
DTSTART;TZID=America/Los_Angeles:20240406T090000
DTEND;TZID=America/Los_Angeles:20240406T160000
DTSTAMP:20260422T160109
CREATED:20240403T010805Z
LAST-MODIFIED:20240507T180045Z
UID:10039664-1712394000-1712419200@chewelah.org
SUMMARY:Gold Hill Trail Work Party
DESCRIPTION:
URL:https://chewelah.org/event/gold-hill-trail-work-party/2024-04-06/
LOCATION:Gold Hill Community Forest parking lot
CATEGORIES:Community Event,Spring Events
END:VEVENT
BEGIN:VEVENT
DTSTART;TZID=America/Los_Angeles:20240406T090000
DTEND;TZID=America/Los_Angeles:20240406T163000
DTSTAMP:20260422T160109
CREATED:20240328T205813Z
LAST-MODIFIED:20240328T205849Z
UID:10039660-1712394000-1712421000@chewelah.org
SUMMARY:49 Degrees North Spring Discount & Food Drive
DESCRIPTION:Spring Discount & Food Drive\nApr 01\, 2024 – Apr 07\, 2024\nYou Give. you Get!\nWhen you bring in 3 cans of food from 4/1-4/7 \nDiscounted Lift Ticket pricing from 4/1 -4/4  Monday-Thursday\n*$29 Adult  *$24 Youth  *$0 Child *With 3 cans of food  Otherwise Midweek Pricing \nDiscounted Lift ticket pricing for Friday 4/5\n*$49 Adult  *$39 Youth  *$0 Child *With 3 cans of food  Otherwise Friday Pricing \nDiscounted Lift ticket pricing for Saturday-Sunday 4/6-4/7\n*$49 Adult  *$39 Youth  *$0 Child *With 3 cans of food  Otherwise Weekend Pricing \nBuy Tickets Here \nCanned Food Donations will go to the Chewelah Food Bank to benefit the Chewelah community. 
URL:https://chewelah.org/event/9-degrees-north-spriong-discount-food-drive/2024-04-06/
LOCATION:49°North\, 3311 Flowery Trail Rd\, Chewelah\, 99109\, United States
CATEGORIES:Community Event,Family Friendly,Spring Events
END:VEVENT
BEGIN:VEVENT
DTSTART;TZID=America/Los_Angeles:20240407T090000
DTEND;TZID=America/Los_Angeles:20240407T163000
DTSTAMP:20260422T160109
CREATED:20240328T205813Z
LAST-MODIFIED:20240328T205849Z
UID:10039661-1712480400-1712507400@chewelah.org
SUMMARY:49 Degrees North Spring Discount & Food Drive
DESCRIPTION:Spring Discount & Food Drive\nApr 01\, 2024 – Apr 07\, 2024\nYou Give. you Get!\nWhen you bring in 3 cans of food from 4/1-4/7 \nDiscounted Lift Ticket pricing from 4/1 -4/4  Monday-Thursday\n*$29 Adult  *$24 Youth  *$0 Child *With 3 cans of food  Otherwise Midweek Pricing \nDiscounted Lift ticket pricing for Friday 4/5\n*$49 Adult  *$39 Youth  *$0 Child *With 3 cans of food  Otherwise Friday Pricing \nDiscounted Lift ticket pricing for Saturday-Sunday 4/6-4/7\n*$49 Adult  *$39 Youth  *$0 Child *With 3 cans of food  Otherwise Weekend Pricing \nBuy Tickets Here \nCanned Food Donations will go to the Chewelah Food Bank to benefit the Chewelah community. 
URL:https://chewelah.org/event/9-degrees-north-spriong-discount-food-drive/2024-04-07/
LOCATION:49°North\, 3311 Flowery Trail Rd\, Chewelah\, 99109\, United States
CATEGORIES:Community Event,Family Friendly,Spring Events
END:VEVENT
BEGIN:VEVENT
DTSTART;TZID=America/Los_Angeles:20240408T090000
DTEND;TZID=America/Los_Angeles:20240408T113000
DTSTAMP:20260422T160110
CREATED:20240119T165144Z
LAST-MODIFIED:20240402T215925Z
UID:10038950-1712566800-1712575800@chewelah.org
SUMMARY:Adult Pickleball
DESCRIPTION:Monday & Friday 9:00am-11:30am\n243 Par Place by the Chewelah Golf Course\nFree to Everyone! “No Partner? No Problem!”\nContact: sueschlatter17@gmail.com
URL:https://chewelah.org/event/adult-pickleball-3/2024-04-08/
LOCATION:Chewelah Golf & Country Club\, 2537 Sand Canyon Rd\, Chewelah\, WA\, 99109\, United States
CATEGORIES:Family Friendly,Winter Events
END:VEVENT
BEGIN:VEVENT
DTSTART;TZID=America/Los_Angeles:20240412T090000
DTEND;TZID=America/Los_Angeles:20240412T113000
DTSTAMP:20260422T160110
CREATED:20240119T165144Z
LAST-MODIFIED:20240402T215925Z
UID:10038951-1712912400-1712921400@chewelah.org
SUMMARY:Adult Pickleball
DESCRIPTION:Monday & Friday 9:00am-11:30am\n243 Par Place by the Chewelah Golf Course\nFree to Everyone! “No Partner? No Problem!”\nContact: sueschlatter17@gmail.com
URL:https://chewelah.org/event/adult-pickleball-3/2024-04-12/
LOCATION:Chewelah Golf & Country Club\, 2537 Sand Canyon Rd\, Chewelah\, WA\, 99109\, United States
CATEGORIES:Family Friendly,Winter Events
END:VEVENT
BEGIN:VEVENT
DTSTART;TZID=America/Los_Angeles:20240413T080000
DTEND;TZID=America/Los_Angeles:20240413T120000
DTSTAMP:20260422T160110
CREATED:20240111T181251Z
LAST-MODIFIED:20240315T190319Z
UID:10038859-1712995200-1713009600@chewelah.org
SUMMARY:City Wide Clean Up
DESCRIPTION:  \n  \nMeet at Napa Parking Lot
URL:https://chewelah.org/event/city-wide-clean-up-3/
LOCATION:Downtown Chewelah\, Main Ave & 2nd Street\, Chewelah\, WA\, 99109\, United States
CATEGORIES:Family Friendly,Spring Events
ORGANIZER;CN="Chewelah Chamber of Commerce":MAILTO:info@chewelah.org
END:VEVENT
BEGIN:VEVENT
DTSTART;TZID=America/Los_Angeles:20240413T090000
DTEND;TZID=America/Los_Angeles:20240413T160000
DTSTAMP:20260422T160110
CREATED:20240403T010805Z
LAST-MODIFIED:20240507T180045Z
UID:10039665-1712998800-1713024000@chewelah.org
SUMMARY:Gold Hill Trail Work Party
DESCRIPTION:
URL:https://chewelah.org/event/gold-hill-trail-work-party/2024-04-13/
LOCATION:Gold Hill Community Forest parking lot
CATEGORIES:Community Event,Spring Events
END:VEVENT
BEGIN:VEVENT
DTSTART;TZID=America/Los_Angeles:20240415T090000
DTEND;TZID=America/Los_Angeles:20240415T113000
DTSTAMP:20260422T160110
CREATED:20240119T165144Z
LAST-MODIFIED:20240402T215925Z
UID:10038952-1713171600-1713180600@chewelah.org
SUMMARY:Adult Pickleball
DESCRIPTION:Monday & Friday 9:00am-11:30am\n243 Par Place by the Chewelah Golf Course\nFree to Everyone! “No Partner? No Problem!”\nContact: sueschlatter17@gmail.com
URL:https://chewelah.org/event/adult-pickleball-3/2024-04-15/
LOCATION:Chewelah Golf & Country Club\, 2537 Sand Canyon Rd\, Chewelah\, WA\, 99109\, United States
CATEGORIES:Family Friendly,Winter Events
END:VEVENT
BEGIN:VEVENT
DTSTART;TZID=America/Los_Angeles:20240419T090000
DTEND;TZID=America/Los_Angeles:20240419T113000
DTSTAMP:20260422T160110
CREATED:20240119T165144Z
LAST-MODIFIED:20240402T215925Z
UID:10038953-1713517200-1713526200@chewelah.org
SUMMARY:Adult Pickleball
DESCRIPTION:Monday & Friday 9:00am-11:30am\n243 Par Place by the Chewelah Golf Course\nFree to Everyone! “No Partner? No Problem!”\nContact: sueschlatter17@gmail.com
URL:https://chewelah.org/event/adult-pickleball-3/2024-04-19/
LOCATION:Chewelah Golf & Country Club\, 2537 Sand Canyon Rd\, Chewelah\, WA\, 99109\, United States
CATEGORIES:Family Friendly,Winter Events
END:VEVENT
BEGIN:VEVENT
DTSTART;TZID=America/Los_Angeles:20240420T090000
DTEND;TZID=America/Los_Angeles:20240420T160000
DTSTAMP:20260422T160110
CREATED:20240403T010805Z
LAST-MODIFIED:20240507T180045Z
UID:10039670-1713603600-1713628800@chewelah.org
SUMMARY:Gold Hill Trail Work Party
DESCRIPTION:
URL:https://chewelah.org/event/gold-hill-trail-work-party/2024-04-20/
LOCATION:Gold Hill Community Forest parking lot
CATEGORIES:Community Event,Spring Events
END:VEVENT
BEGIN:VEVENT
DTSTART;TZID=America/Los_Angeles:20240421T100000
DTEND;TZID=America/Los_Angeles:20240421T140000
DTSTAMP:20260422T160110
CREATED:20240417T182916Z
LAST-MODIFIED:20240417T200044Z
UID:10039684-1713693600-1713708000@chewelah.org
SUMMARY:395 Coffee Roasters launches Buddy Beans
DESCRIPTION:Innovative Fundraiser for Rescue Dogs in Stevens County \nBecky Washington\nBecky’s Best Buddies\nbeckywashington2016@gmail.com \nJohn Raymond\, Owner\n395 Coffee Roasters\npress@395.coffee \n395 Coffee Roasters launched Buddy Beans🐾 this month\, a portion of all proceeds\ngoing directly to Becky’s Best Buddies. “We saw an opportunity to support the work of\na high-impact organization making a real difference in our community\,” says John\nRaymond\, owner of 395 Coffee Roasters. “Becky Washington is a force of nature but\nshe needs our community’s help to cover the costs that come with this work.” \nSupporters can buy Buddy Beans🐾 online at www.395.coffee. Online shoppers can\npick up their beans locally at retail partners in Chewelah\, Colville\, Kettle Falls\, and\nDeer Park\, or have them shipped anywhere in US. “We’ve shipped Buddy Beans🐾 to\nPalouse\, Spokane Valley\, and elsewhere. Turns out a lot of people in the region know\nabout Becky’s work\,” said Raymond. \nBecky’s Best Buddies and 395 Coffee Roasters will hold two (and possibly more)\n“Buddies & Beans” events\, where folks can meet and adopt pups and also buy bags of\nfresh-roasted Buddy Beans🐾. Scheduled events include: \n• April 21\, 10am-2pm: Chewelah City Park\n• May 4\, 10 am -1 pm: St. Paul Lutheran Church 110 N 2nd St W\, Chewelah\,\nWA\nFollow 395 Coffee Roasters on Facebook for event announcements:\nfacebook.com/395.coffee \n  \n 
URL:https://chewelah.org/event/395-coffee-roasters-launches-buddy-beans/
LOCATION:Chewelah City Park\, Chewelah\, WA\, 99109\, United States
CATEGORIES:Community Event,Family Friendly,Spring Events
END:VEVENT
END:VCALENDAR