BEGIN:VCALENDAR
VERSION:2.0
PRODID:-//Chewelah Chamber of Commerce - ECPv6.15.17//NONSGML v1.0//EN
CALSCALE:GREGORIAN
METHOD:PUBLISH
X-ORIGINAL-URL:https://chewelah.org
X-WR-CALDESC:Events for Chewelah Chamber of Commerce
REFRESH-INTERVAL;VALUE=DURATION:PT1H
X-Robots-Tag:noindex
X-PUBLISHED-TTL:PT1H
BEGIN:VTIMEZONE
TZID:America/Los_Angeles
BEGIN:DAYLIGHT
TZOFFSETFROM:-0800
TZOFFSETTO:-0700
TZNAME:PDT
DTSTART:20240310T100000
END:DAYLIGHT
BEGIN:STANDARD
TZOFFSETFROM:-0700
TZOFFSETTO:-0800
TZNAME:PST
DTSTART:20241103T090000
END:STANDARD
BEGIN:DAYLIGHT
TZOFFSETFROM:-0800
TZOFFSETTO:-0700
TZNAME:PDT
DTSTART:20250309T100000
END:DAYLIGHT
BEGIN:STANDARD
TZOFFSETFROM:-0700
TZOFFSETTO:-0800
TZNAME:PST
DTSTART:20251102T090000
END:STANDARD
BEGIN:DAYLIGHT
TZOFFSETFROM:-0800
TZOFFSETTO:-0700
TZNAME:PDT
DTSTART:20260308T100000
END:DAYLIGHT
BEGIN:STANDARD
TZOFFSETFROM:-0700
TZOFFSETTO:-0800
TZNAME:PST
DTSTART:20261101T090000
END:STANDARD
END:VTIMEZONE
BEGIN:VEVENT
DTSTART;TZID=America/Los_Angeles:20251018T170000
DTEND;TZID=America/Los_Angeles:20251018T210000
DTSTAMP:20260419T215107
CREATED:20251013T190320Z
LAST-MODIFIED:20251013T190320Z
UID:10043748-1760806800-1760821200@chewelah.org
SUMMARY:Carnevil Haunted House
DESCRIPTION:
URL:https://chewelah.org/event/carnevil-haunted-house/2025-10-18/
LOCATION:Bradley’s Taekwondo\, 114 E Main Ave\, Chewelah\, WA\, 99109\, United States
CATEGORIES:Arts & Cultural Events,Community Event,Fall Events
END:VEVENT
BEGIN:VEVENT
DTSTART;TZID=America/Los_Angeles:20251021T183000
DTEND;TZID=America/Los_Angeles:20251021T203000
DTSTAMP:20260419T215107
CREATED:20251015T213016Z
LAST-MODIFIED:20251015T213016Z
UID:10043755-1761071400-1761078600@chewelah.org
SUMMARY:Nevermore Radio Live Studio Recording: Episode 3
DESCRIPTION:
URL:https://chewelah.org/event/nevermore-radio-live-studio-recording-episode-3/
LOCATION:KCHW\, 214 E Clay\, Chewelah\, WA\, 99109\, United States
CATEGORIES:Arts & Cultural Events,Fall Events
END:VEVENT
BEGIN:VEVENT
DTSTART;TZID=America/Los_Angeles:20251022T120000
DTEND;TZID=America/Los_Angeles:20251022T163000
DTSTAMP:20260419T215107
CREATED:20251015T213609Z
LAST-MODIFIED:20251015T213609Z
UID:10043756-1761134400-1761150600@chewelah.org
SUMMARY:Chewelah Community Blood Drive
DESCRIPTION:
URL:https://chewelah.org/event/chewelah-community-blood-drive-11/
LOCATION:American Legion Post 54
CATEGORIES:Fall Events
END:VEVENT
BEGIN:VEVENT
DTSTART;TZID=America/Los_Angeles:20251024T170000
DTEND;TZID=America/Los_Angeles:20251024T210000
DTSTAMP:20260419T215107
CREATED:20251007T221346Z
LAST-MODIFIED:20251007T221346Z
UID:10043742-1761325200-1761339600@chewelah.org
SUMMARY:Family Friendly Haunted Path
DESCRIPTION:
URL:https://chewelah.org/event/family-friendly-haunted-path/2025-10-24/
LOCATION:701 W Valley Ave.\, Chewelah
CATEGORIES:Community Event,Fall Events,Featured Events
END:VEVENT
BEGIN:VEVENT
DTSTART;TZID=America/Los_Angeles:20251024T170000
DTEND;TZID=America/Los_Angeles:20251024T210000
DTSTAMP:20260419T215107
CREATED:20251013T190320Z
LAST-MODIFIED:20251013T190320Z
UID:10043749-1761325200-1761339600@chewelah.org
SUMMARY:Carnevil Haunted House
DESCRIPTION:
URL:https://chewelah.org/event/carnevil-haunted-house/2025-10-24/
LOCATION:Bradley’s Taekwondo\, 114 E Main Ave\, Chewelah\, WA\, 99109\, United States
CATEGORIES:Arts & Cultural Events,Community Event,Fall Events
END:VEVENT
BEGIN:VEVENT
DTSTART;TZID=America/Los_Angeles:20251025T080000
DTEND;TZID=America/Los_Angeles:20251025T170000
DTSTAMP:20260419T215107
CREATED:20251007T220404Z
LAST-MODIFIED:20251007T220405Z
UID:10043739-1761379200-1761411600@chewelah.org
SUMMARY:Octoberfest
DESCRIPTION:
URL:https://chewelah.org/event/octoberfest/
LOCATION:Quartzite Brewing Co\, 105 W Main\, Chewelah\, WA\, 99109\, United States
CATEGORIES:Arts & Cultural Events,Community Event,Fall Events
END:VEVENT
BEGIN:VEVENT
DTSTART;TZID=America/Los_Angeles:20251025T140000
DTEND;TZID=America/Los_Angeles:20251025T170000
DTSTAMP:20260419T215107
CREATED:20251015T212814Z
LAST-MODIFIED:20251015T212814Z
UID:10043754-1761400800-1761411600@chewelah.org
SUMMARY:Trunk or Treat
DESCRIPTION:
URL:https://chewelah.org/event/trunk-or-treat/
LOCATION:Chewelah Golf & Country Club\, 2537 Sand Canyon Rd\, Chewelah\, WA\, 99109\, United States
CATEGORIES:Arts & Cultural Events,Community Event,Fall Events,Family Friendly
ORGANIZER;CN="Chewelah Golf & Country Club":MAILTO:proshop@chewelahgolf.com
END:VEVENT
BEGIN:VEVENT
DTSTART;TZID=America/Los_Angeles:20251025T170000
DTEND;TZID=America/Los_Angeles:20251025T210000
DTSTAMP:20260419T215107
CREATED:20251007T221346Z
LAST-MODIFIED:20251007T221346Z
UID:10043743-1761411600-1761426000@chewelah.org
SUMMARY:Family Friendly Haunted Path
DESCRIPTION:
URL:https://chewelah.org/event/family-friendly-haunted-path/2025-10-25/
LOCATION:701 W Valley Ave.\, Chewelah
CATEGORIES:Community Event,Fall Events,Featured Events
END:VEVENT
BEGIN:VEVENT
DTSTART;TZID=America/Los_Angeles:20251025T170000
DTEND;TZID=America/Los_Angeles:20251025T210000
DTSTAMP:20260419T215107
CREATED:20251013T190320Z
LAST-MODIFIED:20251013T190320Z
UID:10043750-1761411600-1761426000@chewelah.org
SUMMARY:Carnevil Haunted House
DESCRIPTION:
URL:https://chewelah.org/event/carnevil-haunted-house/2025-10-25/
LOCATION:Bradley’s Taekwondo\, 114 E Main Ave\, Chewelah\, WA\, 99109\, United States
CATEGORIES:Arts & Cultural Events,Community Event,Fall Events
END:VEVENT
BEGIN:VEVENT
DTSTART;TZID=America/Los_Angeles:20251025T190000
DTEND;TZID=America/Los_Angeles:20251025T203000
DTSTAMP:20260419T215107
CREATED:20251015T212602Z
LAST-MODIFIED:20251015T212602Z
UID:10043753-1761418800-1761424200@chewelah.org
SUMMARY:The Greatest Stomp
DESCRIPTION:
URL:https://chewelah.org/event/the-greatest-stomp/
LOCATION:Chewelah Center for the Arts
CATEGORIES:Arts & Cultural Events,Community Event,Fall Events,Family Friendly
END:VEVENT
BEGIN:VEVENT
DTSTART;TZID=America/Los_Angeles:20251027T180000
DTEND;TZID=America/Los_Angeles:20251027T200000
DTSTAMP:20260419T215107
CREATED:20251017T164851Z
LAST-MODIFIED:20251017T164911Z
UID:10043758-1761588000-1761595200@chewelah.org
SUMMARY:Nevermore Radio - Live on Stage
DESCRIPTION:
URL:https://chewelah.org/event/nevermore-radio-live-on-stage/
LOCATION:Chewelah Center for the Arts
CATEGORIES:Arts & Cultural Events,Fall Events
END:VEVENT
BEGIN:VEVENT
DTSTART;TZID=America/Los_Angeles:20251028T183000
DTEND;TZID=America/Los_Angeles:20251028T193000
DTSTAMP:20260419T215107
CREATED:20251016T210623Z
LAST-MODIFIED:20251016T210624Z
UID:10043757-1761676200-1761679800@chewelah.org
SUMMARY:Downtown Business Brainstorm
DESCRIPTION:
URL:https://chewelah.org/event/downtown-business-brainstorm/
LOCATION:Wuesthoff Excavation\, Inc.\, 119 N Park Street\, Chewelah\, 99109\, United States
CATEGORIES:Business Events,Fall Events
END:VEVENT
BEGIN:VEVENT
DTSTART;TZID=America/Los_Angeles:20251030T170000
DTEND;TZID=America/Los_Angeles:20251030T190000
DTSTAMP:20260419T215107
CREATED:20251021T162515Z
LAST-MODIFIED:20251021T162515Z
UID:10043760-1761843600-1761850800@chewelah.org
SUMMARY:Chewelah Valley Lions Club Q&A
DESCRIPTION:
URL:https://chewelah.org/event/chewelah-valley-lions-club-qa/
LOCATION:Quartzite Brewing Co\, 105 W Main\, Chewelah\, WA\, 99109\, United States
CATEGORIES:Business Events,Fall Events
END:VEVENT
BEGIN:VEVENT
DTSTART;TZID=America/Los_Angeles:20251031T120000
DTEND;TZID=America/Los_Angeles:20251031T190000
DTSTAMP:20260419T215107
CREATED:20251023T173958Z
LAST-MODIFIED:20251023T173958Z
UID:10043761-1761912000-1761937200@chewelah.org
SUMMARY:Boo Bowl Family Party
DESCRIPTION:
URL:https://chewelah.org/event/boo-bowl-family-party/
LOCATION:Fools Lanes
CATEGORIES:Fall Events,Family Friendly
END:VEVENT
BEGIN:VEVENT
DTSTART;TZID=America/Los_Angeles:20251031T153000
DTEND;TZID=America/Los_Angeles:20251031T173000
DTSTAMP:20260419T215107
CREATED:20250930T214137Z
LAST-MODIFIED:20250930T214138Z
UID:10043604-1761924600-1761931800@chewelah.org
SUMMARY:Boofest 2025
DESCRIPTION:
URL:https://chewelah.org/event/boofest-2025/
LOCATION:Downtown Chewelah\, Main Ave & 2nd Street\, Chewelah\, WA\, 99109\, United States
CATEGORIES:Arts & Cultural Events,Community Event,Fall Events,Family Friendly
ORGANIZER;CN="Chewelah Chamber of Commerce":MAILTO:info@chewelah.org
END:VEVENT
BEGIN:VEVENT
DTSTART;TZID=America/Los_Angeles:20251031T160000
DTEND;TZID=America/Los_Angeles:20251031T210000
DTSTAMP:20260419T215107
CREATED:20251007T221346Z
LAST-MODIFIED:20251007T221346Z
UID:10043744-1761926400-1761944400@chewelah.org
SUMMARY:Family Friendly Haunted Path
DESCRIPTION:
URL:https://chewelah.org/event/family-friendly-haunted-path/2025-10-31/
LOCATION:701 W Valley Ave.\, Chewelah
CATEGORIES:Community Event,Fall Events,Featured Events
END:VEVENT
BEGIN:VEVENT
DTSTART;TZID=America/Los_Angeles:20251031T160000
DTEND;TZID=America/Los_Angeles:20251031T210000
DTSTAMP:20260419T215107
CREATED:20251013T190320Z
LAST-MODIFIED:20251013T190320Z
UID:10043751-1761926400-1761944400@chewelah.org
SUMMARY:Carnevil Haunted House
DESCRIPTION:
URL:https://chewelah.org/event/carnevil-haunted-house/2025-10-31/
LOCATION:Bradley’s Taekwondo\, 114 E Main Ave\, Chewelah\, WA\, 99109\, United States
CATEGORIES:Arts & Cultural Events,Community Event,Fall Events
END:VEVENT
BEGIN:VEVENT
DTSTART;TZID=America/Los_Angeles:20251031T170000
DTEND;TZID=America/Los_Angeles:20251031T200000
DTSTAMP:20260419T215107
CREATED:20251023T174212Z
LAST-MODIFIED:20251023T174212Z
UID:10043762-1761930000-1761940800@chewelah.org
SUMMARY:Rusty Putter Halloween Party
DESCRIPTION:
URL:https://chewelah.org/event/rusty-putter-halloween-party/
LOCATION:Rusty Putter Bar & Grille\, 2537 San Canyon Rd\, Chewelah\, WA\, 99109\, United States
CATEGORIES:Fall Events
END:VEVENT
BEGIN:VEVENT
DTSTART;TZID=America/Los_Angeles:20251031T170000
DTEND;TZID=America/Los_Angeles:20251031T210000
DTSTAMP:20260419T215107
CREATED:20251023T174616Z
LAST-MODIFIED:20251023T174617Z
UID:10043763-1761930000-1761944400@chewelah.org
SUMMARY:Halloween Boo Bash
DESCRIPTION:
URL:https://chewelah.org/event/halloween-boo-bash-2/
LOCATION:Mistequa Casino Hotel
CATEGORIES:Fall Events
END:VEVENT
BEGIN:VEVENT
DTSTART;TZID=America/Los_Angeles:20251104T090000
DTEND;TZID=America/Los_Angeles:20251124T150000
DTSTAMP:20260419T215107
CREATED:20251104T201907Z
LAST-MODIFIED:20251104T201908Z
UID:10043771-1762246800-1763996400@chewelah.org
SUMMARY:Thanksgiving Food Drive
DESCRIPTION:
URL:https://chewelah.org/event/thanksgiving-food-drive/
CATEGORIES:Community Event,Fall Events
END:VEVENT
BEGIN:VEVENT
DTSTART;TZID=America/Los_Angeles:20251106T170000
DTEND;TZID=America/Los_Angeles:20251106T200000
DTSTAMP:20260419T215107
CREATED:20251024T193005Z
LAST-MODIFIED:20251024T193006Z
UID:10043764-1762448400-1762459200@chewelah.org
SUMMARY:First Thursday Art Walk
DESCRIPTION:
URL:https://chewelah.org/event/first-thursday-art-walk-28/
LOCATION:Downtown Chewelah\, Main Ave & 2nd Street\, Chewelah\, WA\, 99109\, United States
CATEGORIES:Arts & Cultural Events,Community Event,Fall Events,Family Friendly
END:VEVENT
BEGIN:VEVENT
DTSTART;TZID=America/Los_Angeles:20251106T180000
DTEND;TZID=America/Los_Angeles:20251106T200000
DTSTAMP:20260419T215107
CREATED:20251024T193222Z
LAST-MODIFIED:20251024T193223Z
UID:10043765-1762452000-1762459200@chewelah.org
SUMMARY:Spotlight Gallery & Gathering
DESCRIPTION:
URL:https://chewelah.org/event/spotlight-gallery-gathering-2/
LOCATION:Aaron Huff Memorial Cultural Center\, 214 E Main St\, Chewelah\, WA\, 99109\, United States
CATEGORIES:Arts & Cultural Events,Fall Events
END:VEVENT
BEGIN:VEVENT
DTSTART;TZID=America/Los_Angeles:20251108T093000
DTEND;TZID=America/Los_Angeles:20251108T130000
DTSTAMP:20260419T215108
CREATED:20250307T170624Z
LAST-MODIFIED:20250307T170625Z
UID:10042497-1762594200-1762606800@chewelah.org
SUMMARY:CVAS Drive Through Vaccination Clinic
DESCRIPTION:
URL:https://chewelah.org/event/cvas-drive-through-vaccination-clinic/2025-11-08/
LOCATION:501 Old Arden Highway
CATEGORIES:Spring Events,Summer Events,Winter Events
END:VEVENT
BEGIN:VEVENT
DTSTART;TZID=America/Los_Angeles:20251112T120000
DTEND;TZID=America/Los_Angeles:20251112T130000
DTSTAMP:20260419T215108
CREATED:20251014T203544Z
LAST-MODIFIED:20251014T203544Z
UID:10043752-1762948800-1762952400@chewelah.org
SUMMARY:Chill with the Chamber!
DESCRIPTION:
URL:https://chewelah.org/event/chill-with-the-chamber/
LOCATION:Fired Up Pizza\, 206 E Main Ave\, Chewelah\, WA\, 99109\, United States
CATEGORIES:Arts & Cultural Events,Business Events,Fall Events
ORGANIZER;CN="Chewelah Chamber of Commerce":MAILTO:info@chewelah.org
END:VEVENT
BEGIN:VEVENT
DTSTART;TZID=America/Los_Angeles:20251114T140000
DTEND;TZID=America/Los_Angeles:20251114T163000
DTSTAMP:20260419T215108
CREATED:20251017T171120Z
LAST-MODIFIED:20251017T171121Z
UID:10043759-1763128800-1763137800@chewelah.org
SUMMARY:Chewelah Farmers Market Annual Meeting
DESCRIPTION:
URL:https://chewelah.org/event/chewelah-farmers-market-annual-meeting-2/
LOCATION:Chewelah Senior Center
CATEGORIES:Arts & Cultural Events,Community Event,Fall Events
END:VEVENT
BEGIN:VEVENT
DTSTART;TZID=America/Los_Angeles:20251114T190000
DTEND;TZID=America/Los_Angeles:20251114T210000
DTSTAMP:20260419T215108
CREATED:20251105T185940Z
LAST-MODIFIED:20251105T185941Z
UID:10043772-1763146800-1763154000@chewelah.org
SUMMARY:Curtain Call: A Night of One-Acts
DESCRIPTION:
URL:https://chewelah.org/event/curtain-call-a-night-of-one-acts/2025-11-14/
LOCATION:Chewelah Center for the Arts
CATEGORIES:Arts & Cultural Events,Fall Events
END:VEVENT
BEGIN:VEVENT
DTSTART;TZID=America/Los_Angeles:20251115T140000
DTEND;TZID=America/Los_Angeles:20251115T160000
DTSTAMP:20260419T215108
CREATED:20251105T185940Z
LAST-MODIFIED:20251105T185941Z
UID:10043773-1763215200-1763222400@chewelah.org
SUMMARY:Curtain Call: A Night of One-Acts
DESCRIPTION:
URL:https://chewelah.org/event/curtain-call-a-night-of-one-acts/2025-11-15/
LOCATION:Chewelah Center for the Arts
CATEGORIES:Arts & Cultural Events,Fall Events
END:VEVENT
BEGIN:VEVENT
DTSTART;TZID=America/Los_Angeles:20251116T100000
DTEND;TZID=America/Los_Angeles:20251116T160000
DTSTAMP:20260419T215108
CREATED:20251031T170213Z
LAST-MODIFIED:20251031T170214Z
UID:10043766-1763287200-1763308800@chewelah.org
SUMMARY:Mistequa Holiday Marketplace
DESCRIPTION:
URL:https://chewelah.org/event/mistequa-holiday-marketplace/
LOCATION:Mistequa Hotel\, 2555 Smith Rd.\, CHEWELAH\, WA\, 99109\, United States
CATEGORIES:Arts & Cultural Events,Fall Events
END:VEVENT
BEGIN:VEVENT
DTSTART;TZID=America/Los_Angeles:20251116T190000
DTEND;TZID=America/Los_Angeles:20251116T210000
DTSTAMP:20260419T215108
CREATED:20251105T185940Z
LAST-MODIFIED:20251105T185941Z
UID:10043774-1763319600-1763326800@chewelah.org
SUMMARY:Curtain Call: A Night of One-Acts
DESCRIPTION:
URL:https://chewelah.org/event/curtain-call-a-night-of-one-acts/2025-11-16/
LOCATION:Chewelah Center for the Arts
CATEGORIES:Arts & Cultural Events,Fall Events
END:VEVENT
BEGIN:VEVENT
DTSTART;TZID=America/Los_Angeles:20251118T090000
DTEND;TZID=America/Los_Angeles:20251118T140000
DTSTAMP:20260419T215108
CREATED:20251114T162906Z
LAST-MODIFIED:20251114T162907Z
UID:10043777-1763456400-1763474400@chewelah.org
SUMMARY:Medicare Open Enrollment
DESCRIPTION:
URL:https://chewelah.org/event/medicare-open-enrollment-2/
LOCATION:NEW Health Colville Dental\, 161 E. 3rd Ave\, Colville
CATEGORIES:Community Event,Winter Events
END:VEVENT
END:VCALENDAR