BEGIN:VCALENDAR
VERSION:2.0
PRODID:-//Chewelah Chamber of Commerce - ECPv6.15.17//NONSGML v1.0//EN
CALSCALE:GREGORIAN
METHOD:PUBLISH
X-ORIGINAL-URL:https://chewelah.org
X-WR-CALDESC:Events for Chewelah Chamber of Commerce
REFRESH-INTERVAL;VALUE=DURATION:PT1H
X-Robots-Tag:noindex
X-PUBLISHED-TTL:PT1H
BEGIN:VTIMEZONE
TZID:America/Los_Angeles
BEGIN:DAYLIGHT
TZOFFSETFROM:-0800
TZOFFSETTO:-0700
TZNAME:PDT
DTSTART:20230312T100000
END:DAYLIGHT
BEGIN:STANDARD
TZOFFSETFROM:-0700
TZOFFSETTO:-0800
TZNAME:PST
DTSTART:20231105T090000
END:STANDARD
BEGIN:DAYLIGHT
TZOFFSETFROM:-0800
TZOFFSETTO:-0700
TZNAME:PDT
DTSTART:20240310T100000
END:DAYLIGHT
BEGIN:STANDARD
TZOFFSETFROM:-0700
TZOFFSETTO:-0800
TZNAME:PST
DTSTART:20241103T090000
END:STANDARD
BEGIN:DAYLIGHT
TZOFFSETFROM:-0800
TZOFFSETTO:-0700
TZNAME:PDT
DTSTART:20250309T100000
END:DAYLIGHT
BEGIN:STANDARD
TZOFFSETFROM:-0700
TZOFFSETTO:-0800
TZNAME:PST
DTSTART:20251102T090000
END:STANDARD
END:VTIMEZONE
BEGIN:VEVENT
DTSTART;TZID=America/Los_Angeles:20240621T180000
DTEND;TZID=America/Los_Angeles:20240621T210000
DTSTAMP:20260420T221710
CREATED:20240501T190442Z
LAST-MODIFIED:20240501T193224Z
UID:10039871-1718992800-1719003600@chewelah.org
SUMMARY:Fired Up Pizza features Kraigmire Karaoke
DESCRIPTION:More to Come!
URL:https://chewelah.org/event/kraigmire-karaoke-2/2024-06-21/
LOCATION:Fired Up Pizza\, 206 E Main Ave\, Chewelah\, WA\, 99109\, United States
CATEGORIES:Family Friendly,Summer Events
END:VEVENT
BEGIN:VEVENT
DTSTART;TZID=America/Los_Angeles:20240622T100000
DTEND;TZID=America/Los_Angeles:20240622T160000
DTSTAMP:20260420T221710
CREATED:20240528T213653Z
LAST-MODIFIED:20240528T213653Z
UID:10040089-1719050400-1719072000@chewelah.org
SUMMARY:Front Porch Garden Tours
DESCRIPTION:
URL:https://chewelah.org/event/front-porch-garden-tours/
LOCATION:Front Porch Farm\, 896 Hwy 395 S\, Addy\, WA\, 99101\, United States
CATEGORIES:Community Event,Family Friendly,Summer Events
END:VEVENT
BEGIN:VEVENT
DTSTART;TZID=America/Los_Angeles:20240622T100000
DTEND;TZID=America/Los_Angeles:20240622T160000
DTSTAMP:20260420T221710
CREATED:20240612T164407Z
LAST-MODIFIED:20240612T164408Z
UID:10040519-1719050400-1719072000@chewelah.org
SUMMARY:Fun In The Sun Fair
DESCRIPTION:
URL:https://chewelah.org/event/fun-in-the-sun-fair-4/
LOCATION:Chewelah City Park\, Chewelah\, WA\, 99109\, United States
CATEGORIES:Family Friendly,Summer Events
END:VEVENT
BEGIN:VEVENT
DTSTART;TZID=America/Los_Angeles:20240622T120000
DTEND;TZID=America/Los_Angeles:20240622T150000
DTSTAMP:20260420T221710
CREATED:20240619T184841Z
LAST-MODIFIED:20240619T184842Z
UID:10041053-1719057600-1719068400@chewelah.org
SUMMARY:Columbia Community Creamery 1st Anniversary Celebration
DESCRIPTION: 
URL:https://chewelah.org/event/columbia-community-creamery-1st-anniversary-celebration/
LOCATION:Columbia Community Creamery\, 519 N. Park st.\, Chewelahj\, WA\, 99109\, United States
CATEGORIES:Family Friendly,Featured Events,Summer Events
END:VEVENT
BEGIN:VEVENT
DTSTART;TZID=America/Los_Angeles:20240624T090000
DTEND;TZID=America/Los_Angeles:20240624T113000
DTSTAMP:20260420T221710
CREATED:20240119T165144Z
LAST-MODIFIED:20240402T215925Z
UID:10038972-1719219600-1719228600@chewelah.org
SUMMARY:Adult Pickleball
DESCRIPTION:Monday & Friday 9:00am-11:30am\n243 Par Place by the Chewelah Golf Course\nFree to Everyone! “No Partner? No Problem!”\nContact: sueschlatter17@gmail.com
URL:https://chewelah.org/event/adult-pickleball-3/2024-06-24/
LOCATION:Chewelah Golf & Country Club\, 2537 Sand Canyon Rd\, Chewelah\, WA\, 99109\, United States
CATEGORIES:Family Friendly,Winter Events
END:VEVENT
BEGIN:VEVENT
DTSTART;TZID=America/Los_Angeles:20240628T080000
DTEND;TZID=America/Los_Angeles:20240628T180000
DTSTAMP:20260420T221710
CREATED:20240605T171404Z
LAST-MODIFIED:20240619T191238Z
UID:10040510-1719561600-1719597600@chewelah.org
SUMMARY:Charity Golf Tournament
DESCRIPTION:
URL:https://chewelah.org/event/charity-golf-tournament/
LOCATION:Chewelah Golf & Country Club\, 2537 Sand Canyon Rd\, Chewelah\, WA\, 99109\, United States
CATEGORIES:Community Event,Family Friendly,Summer Events
END:VEVENT
BEGIN:VEVENT
DTSTART;TZID=America/Los_Angeles:20240628T090000
DTEND;TZID=America/Los_Angeles:20240628T113000
DTSTAMP:20260420T221710
CREATED:20240119T165144Z
LAST-MODIFIED:20240402T215925Z
UID:10038973-1719565200-1719574200@chewelah.org
SUMMARY:Adult Pickleball
DESCRIPTION:Monday & Friday 9:00am-11:30am\n243 Par Place by the Chewelah Golf Course\nFree to Everyone! “No Partner? No Problem!”\nContact: sueschlatter17@gmail.com
URL:https://chewelah.org/event/adult-pickleball-3/2024-06-28/
LOCATION:Chewelah Golf & Country Club\, 2537 Sand Canyon Rd\, Chewelah\, WA\, 99109\, United States
CATEGORIES:Family Friendly,Winter Events
END:VEVENT
BEGIN:VEVENT
DTSTART;TZID=America/Los_Angeles:20240628T110000
DTEND;TZID=America/Los_Angeles:20240628T153000
DTSTAMP:20260420T221710
CREATED:20240228T184003Z
LAST-MODIFIED:20240502T182231Z
UID:10039540-1719572400-1719588600@chewelah.org
SUMMARY:Chewelah Farmers Market
DESCRIPTION:
URL:https://chewelah.org/event/chewelah-farmers-market-2/2024-06-28/
LOCATION:Chewelah City Park\, Chewelah\, WA\, 99109\, United States
CATEGORIES:Family Friendly,Summer Events
END:VEVENT
BEGIN:VEVENT
DTSTART;TZID=America/Los_Angeles:20240629T180000
DTEND;TZID=America/Los_Angeles:20240629T200000
DTSTAMP:20260420T221710
CREATED:20240619T181416Z
LAST-MODIFIED:20240619T181416Z
UID:10041050-1719684000-1719691200@chewelah.org
SUMMARY:Rusty Putter features Fool's Paradise Band
DESCRIPTION:
URL:https://chewelah.org/event/rusty-putter-features-fools-paradise-band/
LOCATION:Rusty Putter Bar & Grille\, 2537 San Canyon Rd\, Chewelah\, WA\, 99109\, United States
CATEGORIES:Family Friendly,Summer Events
END:VEVENT
BEGIN:VEVENT
DTSTART;TZID=America/Los_Angeles:20240629T190000
DTEND;TZID=America/Los_Angeles:20240629T210000
DTSTAMP:20260420T221710
CREATED:20240626T181605Z
LAST-MODIFIED:20240626T181606Z
UID:10041055-1719687600-1719694800@chewelah.org
SUMMARY:Coffee House Concerts at The Yale Press
DESCRIPTION:
URL:https://chewelah.org/event/coffee-house-concerts-at-the-yale-press/
LOCATION:The Yale Press
CATEGORIES:Family Friendly,Summer Events
END:VEVENT
BEGIN:VEVENT
DTSTART;TZID=America/Los_Angeles:20240701T090000
DTEND;TZID=America/Los_Angeles:20240701T113000
DTSTAMP:20260420T221710
CREATED:20240119T165144Z
LAST-MODIFIED:20240402T215925Z
UID:10038974-1719824400-1719833400@chewelah.org
SUMMARY:Adult Pickleball
DESCRIPTION:Monday & Friday 9:00am-11:30am\n243 Par Place by the Chewelah Golf Course\nFree to Everyone! “No Partner? No Problem!”\nContact: sueschlatter17@gmail.com
URL:https://chewelah.org/event/adult-pickleball-3/2024-07-01/
LOCATION:Chewelah Golf & Country Club\, 2537 Sand Canyon Rd\, Chewelah\, WA\, 99109\, United States
CATEGORIES:Family Friendly,Winter Events
END:VEVENT
BEGIN:VEVENT
DTSTART;TZID=America/Los_Angeles:20240705T090000
DTEND;TZID=America/Los_Angeles:20240705T113000
DTSTAMP:20260420T221710
CREATED:20240119T165144Z
LAST-MODIFIED:20240402T215925Z
UID:10038975-1720170000-1720179000@chewelah.org
SUMMARY:Adult Pickleball
DESCRIPTION:Monday & Friday 9:00am-11:30am\n243 Par Place by the Chewelah Golf Course\nFree to Everyone! “No Partner? No Problem!”\nContact: sueschlatter17@gmail.com
URL:https://chewelah.org/event/adult-pickleball-3/2024-07-05/
LOCATION:Chewelah Golf & Country Club\, 2537 Sand Canyon Rd\, Chewelah\, WA\, 99109\, United States
CATEGORIES:Family Friendly,Winter Events
END:VEVENT
BEGIN:VEVENT
DTSTART;TZID=America/Los_Angeles:20240705T110000
DTEND;TZID=America/Los_Angeles:20240705T153000
DTSTAMP:20260420T221710
CREATED:20240228T184003Z
LAST-MODIFIED:20240502T182231Z
UID:10039541-1720177200-1720193400@chewelah.org
SUMMARY:Chewelah Farmers Market
DESCRIPTION:
URL:https://chewelah.org/event/chewelah-farmers-market-2/2024-07-05/
LOCATION:Chewelah City Park\, Chewelah\, WA\, 99109\, United States
CATEGORIES:Family Friendly,Summer Events
END:VEVENT
BEGIN:VEVENT
DTSTART;TZID=America/Los_Angeles:20240705T110000
DTEND;TZID=America/Los_Angeles:20240705T153000
DTSTAMP:20260420T221710
CREATED:20240703T220743Z
LAST-MODIFIED:20240703T220744Z
UID:10041064-1720177200-1720193400@chewelah.org
SUMMARY:Patriotic Festivities at Chewelah Farmers Market
DESCRIPTION:
URL:https://chewelah.org/event/patriotic-festivities-at-chewelah-farmers-market/
LOCATION:Chewelah City Park\, Chewelah\, WA\, 99109\, United States
CATEGORIES:Community Event,Family Friendly,Summer Events
END:VEVENT
BEGIN:VEVENT
DTSTART;TZID=America/Los_Angeles:20240708T090000
DTEND;TZID=America/Los_Angeles:20240708T113000
DTSTAMP:20260420T221710
CREATED:20240119T165144Z
LAST-MODIFIED:20240402T215925Z
UID:10038976-1720429200-1720438200@chewelah.org
SUMMARY:Adult Pickleball
DESCRIPTION:Monday & Friday 9:00am-11:30am\n243 Par Place by the Chewelah Golf Course\nFree to Everyone! “No Partner? No Problem!”\nContact: sueschlatter17@gmail.com
URL:https://chewelah.org/event/adult-pickleball-3/2024-07-08/
LOCATION:Chewelah Golf & Country Club\, 2537 Sand Canyon Rd\, Chewelah\, WA\, 99109\, United States
CATEGORIES:Family Friendly,Winter Events
END:VEVENT
BEGIN:VEVENT
DTSTART;TZID=America/Los_Angeles:20240708T090000
DTEND;TZID=America/Los_Angeles:20240708T140000
DTSTAMP:20260420T221710
CREATED:20240612T171527Z
LAST-MODIFIED:20240703T221311Z
UID:10040521-1720429200-1720447200@chewelah.org
SUMMARY:Sounds Like Mayhem!
DESCRIPTION:
URL:https://chewelah.org/event/sounds-like-mayhem/2024-07-08/
LOCATION:Chewelah Center for the Arts
CATEGORIES:Arts & Cultural Events,Community Event,Family Friendly,Summer Events
END:VEVENT
BEGIN:VEVENT
DTSTART;TZID=America/Los_Angeles:20240709T090000
DTEND;TZID=America/Los_Angeles:20240709T140000
DTSTAMP:20260420T221710
CREATED:20240612T171527Z
LAST-MODIFIED:20240703T221311Z
UID:10040522-1720515600-1720533600@chewelah.org
SUMMARY:Sounds Like Mayhem!
DESCRIPTION:
URL:https://chewelah.org/event/sounds-like-mayhem/2024-07-09/
LOCATION:Chewelah Center for the Arts
CATEGORIES:Arts & Cultural Events,Community Event,Family Friendly,Summer Events
END:VEVENT
BEGIN:VEVENT
DTSTART;TZID=America/Los_Angeles:20240710T090000
DTEND;TZID=America/Los_Angeles:20240710T140000
DTSTAMP:20260420T221711
CREATED:20240612T171527Z
LAST-MODIFIED:20240703T221311Z
UID:10040523-1720602000-1720620000@chewelah.org
SUMMARY:Sounds Like Mayhem!
DESCRIPTION:
URL:https://chewelah.org/event/sounds-like-mayhem/2024-07-10/
LOCATION:Chewelah Center for the Arts
CATEGORIES:Arts & Cultural Events,Community Event,Family Friendly,Summer Events
END:VEVENT
BEGIN:VEVENT
DTSTART;TZID=America/Los_Angeles:20240710T110000
DTEND;TZID=America/Los_Angeles:20240710T120000
DTSTAMP:20260420T221711
CREATED:20240626T183651Z
LAST-MODIFIED:20240626T183652Z
UID:10041057-1720609200-1720612800@chewelah.org
SUMMARY:Chewelah Library Forest Discovery
DESCRIPTION:
URL:https://chewelah.org/event/chewelah-library-forest-discovery/
LOCATION:Chewelah Library\, 311 East Clay\, Chewelah\, WA\, 99109
CATEGORIES:Family Friendly,Summer Events
END:VEVENT
BEGIN:VEVENT
DTSTART;TZID=America/Los_Angeles:20240711T090000
DTEND;TZID=America/Los_Angeles:20240711T140000
DTSTAMP:20260420T221711
CREATED:20240612T171527Z
LAST-MODIFIED:20240703T221311Z
UID:10040524-1720688400-1720706400@chewelah.org
SUMMARY:Sounds Like Mayhem!
DESCRIPTION:
URL:https://chewelah.org/event/sounds-like-mayhem/2024-07-11/
LOCATION:Chewelah Center for the Arts
CATEGORIES:Arts & Cultural Events,Community Event,Family Friendly,Summer Events
END:VEVENT
BEGIN:VEVENT
DTSTART;TZID=America/Los_Angeles:20240712T090000
DTEND;TZID=America/Los_Angeles:20240712T113000
DTSTAMP:20260420T221711
CREATED:20240119T165144Z
LAST-MODIFIED:20240402T215925Z
UID:10038977-1720774800-1720783800@chewelah.org
SUMMARY:Adult Pickleball
DESCRIPTION:Monday & Friday 9:00am-11:30am\n243 Par Place by the Chewelah Golf Course\nFree to Everyone! “No Partner? No Problem!”\nContact: sueschlatter17@gmail.com
URL:https://chewelah.org/event/adult-pickleball-3/2024-07-12/
LOCATION:Chewelah Golf & Country Club\, 2537 Sand Canyon Rd\, Chewelah\, WA\, 99109\, United States
CATEGORIES:Family Friendly,Winter Events
END:VEVENT
BEGIN:VEVENT
DTSTART;TZID=America/Los_Angeles:20240712T090000
DTEND;TZID=America/Los_Angeles:20240712T140000
DTSTAMP:20260420T221711
CREATED:20240612T171527Z
LAST-MODIFIED:20240703T221311Z
UID:10040525-1720774800-1720792800@chewelah.org
SUMMARY:Sounds Like Mayhem!
DESCRIPTION:
URL:https://chewelah.org/event/sounds-like-mayhem/2024-07-12/
LOCATION:Chewelah Center for the Arts
CATEGORIES:Arts & Cultural Events,Community Event,Family Friendly,Summer Events
END:VEVENT
BEGIN:VEVENT
DTSTART;TZID=America/Los_Angeles:20240712T110000
DTEND;TZID=America/Los_Angeles:20240712T153000
DTSTAMP:20260420T221711
CREATED:20240228T184003Z
LAST-MODIFIED:20240502T182231Z
UID:10039542-1720782000-1720798200@chewelah.org
SUMMARY:Chewelah Farmers Market
DESCRIPTION:
URL:https://chewelah.org/event/chewelah-farmers-market-2/2024-07-12/
LOCATION:Chewelah City Park\, Chewelah\, WA\, 99109\, United States
CATEGORIES:Family Friendly,Summer Events
END:VEVENT
BEGIN:VEVENT
DTSTART;TZID=America/Los_Angeles:20240713T090000
DTEND;TZID=America/Los_Angeles:20240713T140000
DTSTAMP:20260420T221711
CREATED:20240612T171527Z
LAST-MODIFIED:20240703T221311Z
UID:10040526-1720861200-1720879200@chewelah.org
SUMMARY:Sounds Like Mayhem!
DESCRIPTION:
URL:https://chewelah.org/event/sounds-like-mayhem/2024-07-13/
LOCATION:Chewelah Center for the Arts
CATEGORIES:Arts & Cultural Events,Community Event,Family Friendly,Summer Events
END:VEVENT
BEGIN:VEVENT
DTSTART;TZID=America/Los_Angeles:20240713T090000
DTEND;TZID=America/Los_Angeles:20240713T160000
DTSTAMP:20260420T221711
CREATED:20240703T220319Z
LAST-MODIFIED:20240703T220320Z
UID:10041062-1720861200-1720886400@chewelah.org
SUMMARY:Children's Art Festival
DESCRIPTION:
URL:https://chewelah.org/event/childrens-art-festival-2/
LOCATION:Chewelah City Park\, Chewelah\, WA\, 99109\, United States
CATEGORIES:Arts & Cultural Events,Family Friendly,Summer Events
END:VEVENT
BEGIN:VEVENT
DTSTART;TZID=America/Los_Angeles:20240713T100000
DTEND;TZID=America/Los_Angeles:20240713T160000
DTSTAMP:20260420T221711
CREATED:20240228T182925Z
LAST-MODIFIED:20240228T182925Z
UID:10039529-1720864800-1720886400@chewelah.org
SUMMARY:Fun in the Sun Vendor Fair
DESCRIPTION:More to Come!
URL:https://chewelah.org/event/fun-in-the-sun-vendor-fair-3/
LOCATION:Chewelah City Park\, Chewelah\, WA\, 99109\, United States
CATEGORIES:Family Friendly,Summer Events
END:VEVENT
BEGIN:VEVENT
DTSTART;TZID=America/Los_Angeles:20240713T160000
DTEND;TZID=America/Los_Angeles:20240713T193000
DTSTAMP:20260420T221711
CREATED:20240710T214912Z
LAST-MODIFIED:20240711T192436Z
UID:10041065-1720886400-1720899000@chewelah.org
SUMMARY:A Midsummer Night's Dream by Center Stage Productions
DESCRIPTION:
URL:https://chewelah.org/event/a-midsummer-nights-dream-by-center-stage-productions/
LOCATION:Chewelah City Park\, Chewelah\, WA\, 99109\, United States
CATEGORIES:Arts & Cultural Events,Community Event,Family Friendly,Summer Events
END:VEVENT
BEGIN:VEVENT
DTSTART;TZID=America/Los_Angeles:20240715T090000
DTEND;TZID=America/Los_Angeles:20240715T113000
DTSTAMP:20260420T221711
CREATED:20240119T165144Z
LAST-MODIFIED:20240402T215925Z
UID:10038978-1721034000-1721043000@chewelah.org
SUMMARY:Adult Pickleball
DESCRIPTION:Monday & Friday 9:00am-11:30am\n243 Par Place by the Chewelah Golf Course\nFree to Everyone! “No Partner? No Problem!”\nContact: sueschlatter17@gmail.com
URL:https://chewelah.org/event/adult-pickleball-3/2024-07-15/
LOCATION:Chewelah Golf & Country Club\, 2537 Sand Canyon Rd\, Chewelah\, WA\, 99109\, United States
CATEGORIES:Family Friendly,Winter Events
END:VEVENT
BEGIN:VEVENT
DTSTART;TZID=America/Los_Angeles:20240719T090000
DTEND;TZID=America/Los_Angeles:20240719T113000
DTSTAMP:20260420T221711
CREATED:20240119T165144Z
LAST-MODIFIED:20240402T215925Z
UID:10038979-1721379600-1721388600@chewelah.org
SUMMARY:Adult Pickleball
DESCRIPTION:Monday & Friday 9:00am-11:30am\n243 Par Place by the Chewelah Golf Course\nFree to Everyone! “No Partner? No Problem!”\nContact: sueschlatter17@gmail.com
URL:https://chewelah.org/event/adult-pickleball-3/2024-07-19/
LOCATION:Chewelah Golf & Country Club\, 2537 Sand Canyon Rd\, Chewelah\, WA\, 99109\, United States
CATEGORIES:Family Friendly,Winter Events
END:VEVENT
BEGIN:VEVENT
DTSTART;TZID=America/Los_Angeles:20240719T110000
DTEND;TZID=America/Los_Angeles:20240719T120000
DTSTAMP:20260420T221711
CREATED:20240626T182149Z
LAST-MODIFIED:20240626T182150Z
UID:10041056-1721386800-1721390400@chewelah.org
SUMMARY:Chewelah Library Leave no Trace
DESCRIPTION:
URL:https://chewelah.org/event/chewelah-library-leave-no-trace/
LOCATION:Chewelah Library\, 311 East Clay\, Chewelah\, WA\, 99109
CATEGORIES:Family Friendly,Summer Events
END:VEVENT
END:VCALENDAR