BEGIN:VCALENDAR
VERSION:2.0
PRODID:-//Chewelah Chamber of Commerce - ECPv6.15.17//NONSGML v1.0//EN
CALSCALE:GREGORIAN
METHOD:PUBLISH
X-WR-CALNAME:Chewelah Chamber of Commerce
X-ORIGINAL-URL:https://chewelah.org
X-WR-CALDESC:Events for Chewelah Chamber of Commerce
REFRESH-INTERVAL;VALUE=DURATION:PT1H
X-Robots-Tag:noindex
X-PUBLISHED-TTL:PT1H
BEGIN:VTIMEZONE
TZID:America/Los_Angeles
BEGIN:DAYLIGHT
TZOFFSETFROM:-0800
TZOFFSETTO:-0700
TZNAME:PDT
DTSTART:20230312T100000
END:DAYLIGHT
BEGIN:STANDARD
TZOFFSETFROM:-0700
TZOFFSETTO:-0800
TZNAME:PST
DTSTART:20231105T090000
END:STANDARD
BEGIN:DAYLIGHT
TZOFFSETFROM:-0800
TZOFFSETTO:-0700
TZNAME:PDT
DTSTART:20240310T100000
END:DAYLIGHT
BEGIN:STANDARD
TZOFFSETFROM:-0700
TZOFFSETTO:-0800
TZNAME:PST
DTSTART:20241103T090000
END:STANDARD
BEGIN:DAYLIGHT
TZOFFSETFROM:-0800
TZOFFSETTO:-0700
TZNAME:PDT
DTSTART:20250309T100000
END:DAYLIGHT
BEGIN:STANDARD
TZOFFSETFROM:-0700
TZOFFSETTO:-0800
TZNAME:PST
DTSTART:20251102T090000
END:STANDARD
END:VTIMEZONE
BEGIN:VEVENT
DTSTART;TZID=America/Los_Angeles:20240913T110000
DTEND;TZID=America/Los_Angeles:20240913T153000
DTSTAMP:20260419T175343
CREATED:20240228T184003Z
LAST-MODIFIED:20240502T182231Z
UID:10039551-1726225200-1726241400@chewelah.org
SUMMARY:Chewelah Farmers Market
DESCRIPTION:
URL:https://chewelah.org/event/chewelah-farmers-market-2/2024-09-13/
LOCATION:Chewelah City Park\, Chewelah\, WA\, 99109\, United States
CATEGORIES:Family Friendly,Summer Events
END:VEVENT
BEGIN:VEVENT
DTSTART;TZID=America/Los_Angeles:20240913T153000
DTEND;TZID=America/Los_Angeles:20240913T160000
DTSTAMP:20260419T175343
CREATED:20240902T205942Z
LAST-MODIFIED:20240902T205943Z
UID:10041762-1726241400-1726243200@chewelah.org
SUMMARY:Apple Eating Contest at Farmers Market
DESCRIPTION:
URL:https://chewelah.org/event/apple-eating-contest-at-farmers-market/
LOCATION:Chewelah City Park\, Chewelah\, WA\, 99109\, United States
CATEGORIES:Community Event,Fall Events,Family Friendly
END:VEVENT
BEGIN:VEVENT
DTSTART;TZID=America/Los_Angeles:20240914T073000
DTEND;TZID=America/Los_Angeles:20240914T180000
DTSTAMP:20260419T175343
CREATED:20240821T165655Z
LAST-MODIFIED:20240821T165749Z
UID:10041393-1726299000-1726336800@chewelah.org
SUMMARY:2 Person Open Best Ball/ Scramble
DESCRIPTION:
URL:https://chewelah.org/event/2-person-open-best-ball-scramble/2024-09-14/
LOCATION:Chewelah Golf & Country Club\, 2537 Sand Canyon Rd\, Chewelah\, WA\, 99109\, United States
CATEGORIES:Summer Events
ORGANIZER;CN="Chewelah Golf & Country Club":MAILTO:proshop@chewelahgolf.com
END:VEVENT
BEGIN:VEVENT
DTSTART;TZID=America/Los_Angeles:20240914T100000
DTEND;TZID=America/Los_Angeles:20240914T160000
DTSTAMP:20260419T175343
CREATED:20240228T183506Z
LAST-MODIFIED:20240228T183506Z
UID:10039532-1726308000-1726329600@chewelah.org
SUMMARY:Fun in the Sun Vendor Fair
DESCRIPTION:More to Come!
URL:https://chewelah.org/event/fun-in-the-sun-vendor-fair-6/
LOCATION:Chewelah City Park\, Chewelah\, WA\, 99109\, United States
CATEGORIES:Fall Events,Family Friendly
END:VEVENT
BEGIN:VEVENT
DTSTART;TZID=America/Los_Angeles:20240915T073000
DTEND;TZID=America/Los_Angeles:20240915T180000
DTSTAMP:20260419T175343
CREATED:20240821T165655Z
LAST-MODIFIED:20240821T165749Z
UID:10041394-1726385400-1726423200@chewelah.org
SUMMARY:2 Person Open Best Ball/ Scramble
DESCRIPTION:
URL:https://chewelah.org/event/2-person-open-best-ball-scramble/2024-09-15/
LOCATION:Chewelah Golf & Country Club\, 2537 Sand Canyon Rd\, Chewelah\, WA\, 99109\, United States
CATEGORIES:Summer Events
ORGANIZER;CN="Chewelah Golf & Country Club":MAILTO:proshop@chewelahgolf.com
END:VEVENT
BEGIN:VEVENT
DTSTART;TZID=America/Los_Angeles:20240916T090000
DTEND;TZID=America/Los_Angeles:20240916T113000
DTSTAMP:20260419T175343
CREATED:20240119T165144Z
LAST-MODIFIED:20240402T215925Z
UID:10038996-1726477200-1726486200@chewelah.org
SUMMARY:Adult Pickleball
DESCRIPTION:Monday & Friday 9:00am-11:30am\n243 Par Place by the Chewelah Golf Course\nFree to Everyone! “No Partner? No Problem!”\nContact: sueschlatter17@gmail.com
URL:https://chewelah.org/event/adult-pickleball-3/2024-09-16/
LOCATION:Chewelah Golf & Country Club\, 2537 Sand Canyon Rd\, Chewelah\, WA\, 99109\, United States
CATEGORIES:Family Friendly,Winter Events
END:VEVENT
BEGIN:VEVENT
DTSTART;TZID=America/Los_Angeles:20240920T090000
DTEND;TZID=America/Los_Angeles:20240920T113000
DTSTAMP:20260419T175343
CREATED:20240119T165144Z
LAST-MODIFIED:20240402T215925Z
UID:10038997-1726822800-1726831800@chewelah.org
SUMMARY:Adult Pickleball
DESCRIPTION:Monday & Friday 9:00am-11:30am\n243 Par Place by the Chewelah Golf Course\nFree to Everyone! “No Partner? No Problem!”\nContact: sueschlatter17@gmail.com
URL:https://chewelah.org/event/adult-pickleball-3/2024-09-20/
LOCATION:Chewelah Golf & Country Club\, 2537 Sand Canyon Rd\, Chewelah\, WA\, 99109\, United States
CATEGORIES:Family Friendly,Winter Events
END:VEVENT
BEGIN:VEVENT
DTSTART;TZID=America/Los_Angeles:20240920T110000
DTEND;TZID=America/Los_Angeles:20240920T153000
DTSTAMP:20260419T175343
CREATED:20240228T184003Z
LAST-MODIFIED:20240502T182231Z
UID:10039552-1726830000-1726846200@chewelah.org
SUMMARY:Chewelah Farmers Market
DESCRIPTION:
URL:https://chewelah.org/event/chewelah-farmers-market-2/2024-09-20/
LOCATION:Chewelah City Park\, Chewelah\, WA\, 99109\, United States
CATEGORIES:Family Friendly,Summer Events
END:VEVENT
BEGIN:VEVENT
DTSTART;TZID=America/Los_Angeles:20240921T083000
DTEND;TZID=America/Los_Angeles:20240921T160000
DTSTAMP:20260419T175343
CREATED:20240815T190431Z
LAST-MODIFIED:20240815T190431Z
UID:10041128-1726907400-1726934400@chewelah.org
SUMMARY:Lions Club 8th Annual Romp 'n Roar
DESCRIPTION:
URL:https://chewelah.org/event/lions-club-8th-annual-romp-n-roar/
LOCATION:Chewelah Golf & Country Club\, 2537 Sand Canyon Rd\, Chewelah\, WA\, 99109\, United States
CATEGORIES:Fall Events,Family Friendly
END:VEVENT
BEGIN:VEVENT
DTSTART;TZID=America/Los_Angeles:20240923T090000
DTEND;TZID=America/Los_Angeles:20240923T113000
DTSTAMP:20260419T175343
CREATED:20240119T165144Z
LAST-MODIFIED:20240402T215925Z
UID:10038998-1727082000-1727091000@chewelah.org
SUMMARY:Adult Pickleball
DESCRIPTION:Monday & Friday 9:00am-11:30am\n243 Par Place by the Chewelah Golf Course\nFree to Everyone! “No Partner? No Problem!”\nContact: sueschlatter17@gmail.com
URL:https://chewelah.org/event/adult-pickleball-3/2024-09-23/
LOCATION:Chewelah Golf & Country Club\, 2537 Sand Canyon Rd\, Chewelah\, WA\, 99109\, United States
CATEGORIES:Family Friendly,Winter Events
END:VEVENT
BEGIN:VEVENT
DTSTART;TZID=America/Los_Angeles:20240923T110000
DTEND;TZID=America/Los_Angeles:20240923T130000
DTSTAMP:20260419T175343
CREATED:20240711T195234Z
LAST-MODIFIED:20240821T163840Z
UID:10041097-1727089200-1727096400@chewelah.org
SUMMARY:Potluck at Chewelah Senior Center
DESCRIPTION:
URL:https://chewelah.org/event/potluck-at-chewelah-senior-center-2/2024-09-23/
LOCATION:Chewelah Senior Center
CATEGORIES:Community Event,Senior Event,Summer Events
END:VEVENT
BEGIN:VEVENT
DTSTART;TZID=America/Los_Angeles:20240924T183000
DTEND;TZID=America/Los_Angeles:20240924T203000
DTSTAMP:20260419T175344
CREATED:20240814T210425Z
LAST-MODIFIED:20240814T210425Z
UID:10041127-1727202600-1727209800@chewelah.org
SUMMARY:CVLT Sunset Fun Run
DESCRIPTION:
URL:https://chewelah.org/event/cvlt-sunset-fun-run/2024-09-24/
LOCATION:Gold Hill Community Forest parking lot
CATEGORIES:Community Event,Family Friendly,Summer Events
END:VEVENT
BEGIN:VEVENT
DTSTART;TZID=America/Los_Angeles:20240926T180000
DTEND;TZID=America/Los_Angeles:20240926T200000
DTSTAMP:20260419T175344
CREATED:20240815T191622Z
LAST-MODIFIED:20240912T204136Z
UID:10041130-1727373600-1727380800@chewelah.org
SUMMARY:Spokane Salish Culture Day
DESCRIPTION:
URL:https://chewelah.org/event/spokane-salish-culture-day/
LOCATION:Walt Goodman Historical Museum\, 3rd and Washington\, Chewelah\, WA\, 99109\, United States
CATEGORIES:Community Event,Fall Events
END:VEVENT
BEGIN:VEVENT
DTSTART;TZID=America/Los_Angeles:20240927T090000
DTEND;TZID=America/Los_Angeles:20240927T113000
DTSTAMP:20260419T175344
CREATED:20240119T165144Z
LAST-MODIFIED:20240402T215925Z
UID:10038999-1727427600-1727436600@chewelah.org
SUMMARY:Adult Pickleball
DESCRIPTION:Monday & Friday 9:00am-11:30am\n243 Par Place by the Chewelah Golf Course\nFree to Everyone! “No Partner? No Problem!”\nContact: sueschlatter17@gmail.com
URL:https://chewelah.org/event/adult-pickleball-3/2024-09-27/
LOCATION:Chewelah Golf & Country Club\, 2537 Sand Canyon Rd\, Chewelah\, WA\, 99109\, United States
CATEGORIES:Family Friendly,Winter Events
END:VEVENT
BEGIN:VEVENT
DTSTART;TZID=America/Los_Angeles:20240927T110000
DTEND;TZID=America/Los_Angeles:20240927T153000
DTSTAMP:20260419T175344
CREATED:20240228T184003Z
LAST-MODIFIED:20240502T182231Z
UID:10039553-1727434800-1727451000@chewelah.org
SUMMARY:Chewelah Farmers Market
DESCRIPTION:
URL:https://chewelah.org/event/chewelah-farmers-market-2/2024-09-27/
LOCATION:Chewelah City Park\, Chewelah\, WA\, 99109\, United States
CATEGORIES:Family Friendly,Summer Events
END:VEVENT
BEGIN:VEVENT
DTSTART;TZID=America/Los_Angeles:20240930T090000
DTEND;TZID=America/Los_Angeles:20240930T113000
DTSTAMP:20260419T175344
CREATED:20240119T165144Z
LAST-MODIFIED:20240402T215925Z
UID:10039000-1727686800-1727695800@chewelah.org
SUMMARY:Adult Pickleball
DESCRIPTION:Monday & Friday 9:00am-11:30am\n243 Par Place by the Chewelah Golf Course\nFree to Everyone! “No Partner? No Problem!”\nContact: sueschlatter17@gmail.com
URL:https://chewelah.org/event/adult-pickleball-3/2024-09-30/
LOCATION:Chewelah Golf & Country Club\, 2537 Sand Canyon Rd\, Chewelah\, WA\, 99109\, United States
CATEGORIES:Family Friendly,Winter Events
END:VEVENT
BEGIN:VEVENT
DTSTART;TZID=America/Los_Angeles:20241003T170000
DTEND;TZID=America/Los_Angeles:20241003T200000
DTSTAMP:20260419T175344
CREATED:20241003T223913Z
LAST-MODIFIED:20241003T223913Z
UID:10041769-1727974800-1727985600@chewelah.org
SUMMARY:First Thursday Art Walk
DESCRIPTION:
URL:https://chewelah.org/event/first-thursday-art-walk-8/
LOCATION:Downtown Chewelah Art Walk\, Chewelah\, WA\, 99109\, United States
CATEGORIES:Arts & Cultural Events,Fall Events,Family Friendly
END:VEVENT
BEGIN:VEVENT
DTSTART;TZID=America/Los_Angeles:20241004T090000
DTEND;TZID=America/Los_Angeles:20241004T113000
DTSTAMP:20260419T175344
CREATED:20240119T165144Z
LAST-MODIFIED:20240402T215925Z
UID:10039001-1728032400-1728041400@chewelah.org
SUMMARY:Adult Pickleball
DESCRIPTION:Monday & Friday 9:00am-11:30am\n243 Par Place by the Chewelah Golf Course\nFree to Everyone! “No Partner? No Problem!”\nContact: sueschlatter17@gmail.com
URL:https://chewelah.org/event/adult-pickleball-3/2024-10-04/
LOCATION:Chewelah Golf & Country Club\, 2537 Sand Canyon Rd\, Chewelah\, WA\, 99109\, United States
CATEGORIES:Family Friendly,Winter Events
END:VEVENT
BEGIN:VEVENT
DTSTART;TZID=America/Los_Angeles:20241004T110000
DTEND;TZID=America/Los_Angeles:20241004T153000
DTSTAMP:20260419T175344
CREATED:20240228T184003Z
LAST-MODIFIED:20240502T182231Z
UID:10039554-1728039600-1728055800@chewelah.org
SUMMARY:Chewelah Farmers Market
DESCRIPTION:
URL:https://chewelah.org/event/chewelah-farmers-market-2/2024-10-04/
LOCATION:Chewelah City Park\, Chewelah\, WA\, 99109\, United States
CATEGORIES:Family Friendly,Summer Events
END:VEVENT
BEGIN:VEVENT
DTSTART;TZID=America/Los_Angeles:20241005T100000
DTEND;TZID=America/Los_Angeles:20241005T153000
DTSTAMP:20260419T175344
CREATED:20241003T224937Z
LAST-MODIFIED:20241003T225348Z
UID:10041770-1728122400-1728142200@chewelah.org
SUMMARY:Fall Classic Show & Shine
DESCRIPTION:
URL:https://chewelah.org/event/fall-classic-show-shine/
LOCATION:Mountain Market on Main\, 508 E Main Ave\, Chewelah\, WA\, 99109\, United States
CATEGORIES:Fall Events,Family Friendly
END:VEVENT
BEGIN:VEVENT
DTSTART;TZID=America/Los_Angeles:20241005T100000
DTEND;TZID=America/Los_Angeles:20241005T210000
DTSTAMP:20260419T175344
CREATED:20240819T165711Z
LAST-MODIFIED:20240819T165716Z
UID:10041131-1728122400-1728162000@chewelah.org
SUMMARY:Fall Fest
DESCRIPTION:
URL:https://chewelah.org/event/fall-fest-2/
LOCATION:Downtown Chewelah\, Main Ave & 2nd Street\, Chewelah\, WA\, 99109\, United States
CATEGORIES:Community Event,Fall Events,Family Friendly
END:VEVENT
BEGIN:VEVENT
DTSTART;TZID=America/Los_Angeles:20241005T120000
DTEND;TZID=America/Los_Angeles:20241005T190000
DTSTAMP:20260419T175344
CREATED:20241002T184921Z
LAST-MODIFIED:20241003T230612Z
UID:10041767-1728129600-1728154800@chewelah.org
SUMMARY:American Legion Fall Fest Fundraiser Dinner
DESCRIPTION:
URL:https://chewelah.org/event/american-legion-fall-fest-fundraiser-dinner/
LOCATION:American Legion Post 54
CATEGORIES:Fall Events,Family Friendly
END:VEVENT
BEGIN:VEVENT
DTSTART;TZID=America/Los_Angeles:20241006T083000
DTEND;TZID=America/Los_Angeles:20241006T160000
DTSTAMP:20260419T175344
CREATED:20240822T204321Z
LAST-MODIFIED:20240822T204321Z
UID:10041760-1728203400-1728230400@chewelah.org
SUMMARY:Half Century Bicycle Tour
DESCRIPTION:
URL:https://chewelah.org/event/half-century-bicycle-tour/
LOCATION:Chewelah City Park\, Chewelah\, WA\, 99109\, United States
CATEGORIES:Community Event,Fall Events,Family Friendly
END:VEVENT
BEGIN:VEVENT
DTSTART;TZID=America/Los_Angeles:20241006T100000
DTEND;TZID=America/Los_Angeles:20241006T170000
DTSTAMP:20260419T175344
CREATED:20241003T210232Z
LAST-MODIFIED:20241003T210232Z
UID:10041768-1728208800-1728234000@chewelah.org
SUMMARY:Rocktoberfest
DESCRIPTION:
URL:https://chewelah.org/event/rocktoberfest/
LOCATION:49°North\, 3311 Flowery Trail Rd\, Chewelah\, 99109\, United States
CATEGORIES:Fall Events,Family Friendly
END:VEVENT
BEGIN:VEVENT
DTSTART;TZID=America/Los_Angeles:20241007T090000
DTEND;TZID=America/Los_Angeles:20241007T113000
DTSTAMP:20260419T175344
CREATED:20240119T165144Z
LAST-MODIFIED:20240402T215925Z
UID:10039002-1728291600-1728300600@chewelah.org
SUMMARY:Adult Pickleball
DESCRIPTION:Monday & Friday 9:00am-11:30am\n243 Par Place by the Chewelah Golf Course\nFree to Everyone! “No Partner? No Problem!”\nContact: sueschlatter17@gmail.com
URL:https://chewelah.org/event/adult-pickleball-3/2024-10-07/
LOCATION:Chewelah Golf & Country Club\, 2537 Sand Canyon Rd\, Chewelah\, WA\, 99109\, United States
CATEGORIES:Family Friendly,Winter Events
END:VEVENT
BEGIN:VEVENT
DTSTART;TZID=America/Los_Angeles:20241011T090000
DTEND;TZID=America/Los_Angeles:20241011T113000
DTSTAMP:20260419T175344
CREATED:20240119T165144Z
LAST-MODIFIED:20240402T215925Z
UID:10039003-1728637200-1728646200@chewelah.org
SUMMARY:Adult Pickleball
DESCRIPTION:Monday & Friday 9:00am-11:30am\n243 Par Place by the Chewelah Golf Course\nFree to Everyone! “No Partner? No Problem!”\nContact: sueschlatter17@gmail.com
URL:https://chewelah.org/event/adult-pickleball-3/2024-10-11/
LOCATION:Chewelah Golf & Country Club\, 2537 Sand Canyon Rd\, Chewelah\, WA\, 99109\, United States
CATEGORIES:Family Friendly,Winter Events
END:VEVENT
BEGIN:VEVENT
DTSTART;TZID=America/Los_Angeles:20241011T110000
DTEND;TZID=America/Los_Angeles:20241011T153000
DTSTAMP:20260419T175344
CREATED:20240228T184003Z
LAST-MODIFIED:20240502T182231Z
UID:10039555-1728644400-1728660600@chewelah.org
SUMMARY:Chewelah Farmers Market
DESCRIPTION:
URL:https://chewelah.org/event/chewelah-farmers-market-2/2024-10-11/
LOCATION:Chewelah City Park\, Chewelah\, WA\, 99109\, United States
CATEGORIES:Family Friendly,Summer Events
END:VEVENT
BEGIN:VEVENT
DTSTART;TZID=America/Los_Angeles:20241011T153000
DTEND;TZID=America/Los_Angeles:20241011T170000
DTSTAMP:20260419T175344
CREATED:20241009T174626Z
LAST-MODIFIED:20241009T215013Z
UID:10041771-1728660600-1728666000@chewelah.org
SUMMARY:Pumpkin Bowling Tournament
DESCRIPTION:
URL:https://chewelah.org/event/pumpkin-bowling-tournament/
LOCATION:Chewelah City Park\, Chewelah\, WA\, 99109\, United States
CATEGORIES:Community Event,Fall Events,Family Friendly
END:VEVENT
BEGIN:VEVENT
DTSTART;TZID=America/Los_Angeles:20241012T173000
DTEND;TZID=America/Los_Angeles:20241012T200000
DTSTAMP:20260419T175344
CREATED:20241002T162634Z
LAST-MODIFIED:20241002T162634Z
UID:10041766-1728754200-1728763200@chewelah.org
SUMMARY:Hands Across Nations
DESCRIPTION:
URL:https://chewelah.org/event/hands-across-nations/
LOCATION:Abundant Life Fellowship\, 203 E Clay & 2nd Street\, Chewelah\, WA\, 99109\, United States
CATEGORIES:Annual Events,Arts & Cultural Events,Community Event,Family Friendly
END:VEVENT
BEGIN:VEVENT
DTSTART;TZID=America/Los_Angeles:20241014T090000
DTEND;TZID=America/Los_Angeles:20241014T113000
DTSTAMP:20260419T175344
CREATED:20240119T165144Z
LAST-MODIFIED:20240402T215925Z
UID:10039004-1728896400-1728905400@chewelah.org
SUMMARY:Adult Pickleball
DESCRIPTION:Monday & Friday 9:00am-11:30am\n243 Par Place by the Chewelah Golf Course\nFree to Everyone! “No Partner? No Problem!”\nContact: sueschlatter17@gmail.com
URL:https://chewelah.org/event/adult-pickleball-3/2024-10-14/
LOCATION:Chewelah Golf & Country Club\, 2537 Sand Canyon Rd\, Chewelah\, WA\, 99109\, United States
CATEGORIES:Family Friendly,Winter Events
END:VEVENT
END:VCALENDAR