BEGIN:VCALENDAR
VERSION:2.0
PRODID:-//Chewelah Chamber of Commerce - ECPv6.15.17//NONSGML v1.0//EN
CALSCALE:GREGORIAN
METHOD:PUBLISH
X-WR-CALNAME:Chewelah Chamber of Commerce
X-ORIGINAL-URL:https://chewelah.org
X-WR-CALDESC:Events for Chewelah Chamber of Commerce
REFRESH-INTERVAL;VALUE=DURATION:PT1H
X-Robots-Tag:noindex
X-PUBLISHED-TTL:PT1H
BEGIN:VTIMEZONE
TZID:America/Los_Angeles
BEGIN:DAYLIGHT
TZOFFSETFROM:-0800
TZOFFSETTO:-0700
TZNAME:PDT
DTSTART:20230312T100000
END:DAYLIGHT
BEGIN:STANDARD
TZOFFSETFROM:-0700
TZOFFSETTO:-0800
TZNAME:PST
DTSTART:20231105T090000
END:STANDARD
BEGIN:DAYLIGHT
TZOFFSETFROM:-0800
TZOFFSETTO:-0700
TZNAME:PDT
DTSTART:20240310T100000
END:DAYLIGHT
BEGIN:STANDARD
TZOFFSETFROM:-0700
TZOFFSETTO:-0800
TZNAME:PST
DTSTART:20241103T090000
END:STANDARD
BEGIN:DAYLIGHT
TZOFFSETFROM:-0800
TZOFFSETTO:-0700
TZNAME:PDT
DTSTART:20250309T100000
END:DAYLIGHT
BEGIN:STANDARD
TZOFFSETFROM:-0700
TZOFFSETTO:-0800
TZNAME:PST
DTSTART:20251102T090000
END:STANDARD
END:VTIMEZONE
BEGIN:VEVENT
DTSTART;TZID=America/Los_Angeles:20240511T090000
DTEND;TZID=America/Los_Angeles:20240511T120000
DTSTAMP:20260421T132728
CREATED:20240403T010805Z
LAST-MODIFIED:20240507T180045Z
UID:10039672-1715418000-1715428800@chewelah.org
SUMMARY:Gold Hill Trail Work Party
DESCRIPTION:
URL:https://chewelah.org/event/gold-hill-trail-work-party/2024-05-11/
LOCATION:Gold Hill Community Forest parking lot
CATEGORIES:Community Event,Spring Events
END:VEVENT
BEGIN:VEVENT
DTSTART;TZID=America/Los_Angeles:20240513T090000
DTEND;TZID=America/Los_Angeles:20240513T113000
DTSTAMP:20260421T132728
CREATED:20240119T165144Z
LAST-MODIFIED:20240402T215925Z
UID:10038960-1715590800-1715599800@chewelah.org
SUMMARY:Adult Pickleball
DESCRIPTION:Monday & Friday 9:00am-11:30am\n243 Par Place by the Chewelah Golf Course\nFree to Everyone! “No Partner? No Problem!”\nContact: sueschlatter17@gmail.com
URL:https://chewelah.org/event/adult-pickleball-3/2024-05-13/
LOCATION:Chewelah Golf & Country Club\, 2537 Sand Canyon Rd\, Chewelah\, WA\, 99109\, United States
CATEGORIES:Family Friendly,Winter Events
END:VEVENT
BEGIN:VEVENT
DTSTART;TZID=America/Los_Angeles:20240517T090000
DTEND;TZID=America/Los_Angeles:20240517T113000
DTSTAMP:20260421T132728
CREATED:20240119T165144Z
LAST-MODIFIED:20240402T215925Z
UID:10038961-1715936400-1715945400@chewelah.org
SUMMARY:Adult Pickleball
DESCRIPTION:Monday & Friday 9:00am-11:30am\n243 Par Place by the Chewelah Golf Course\nFree to Everyone! “No Partner? No Problem!”\nContact: sueschlatter17@gmail.com
URL:https://chewelah.org/event/adult-pickleball-3/2024-05-17/
LOCATION:Chewelah Golf & Country Club\, 2537 Sand Canyon Rd\, Chewelah\, WA\, 99109\, United States
CATEGORIES:Family Friendly,Winter Events
END:VEVENT
BEGIN:VEVENT
DTSTART;TZID=America/Los_Angeles:20240517T110000
DTEND;TZID=America/Los_Angeles:20240517T153000
DTSTAMP:20260421T132728
CREATED:20240228T184003Z
LAST-MODIFIED:20240502T182231Z
UID:10039534-1715943600-1715959800@chewelah.org
SUMMARY:Chewelah Farmers Market
DESCRIPTION:
URL:https://chewelah.org/event/chewelah-farmers-market-2/2024-05-17/
LOCATION:Chewelah City Park\, Chewelah\, WA\, 99109\, United States
CATEGORIES:Family Friendly,Summer Events
END:VEVENT
BEGIN:VEVENT
DTSTART;TZID=America/Los_Angeles:20240518T080000
DTEND;TZID=America/Los_Angeles:20240518T170000
DTSTAMP:20260421T132728
CREATED:20240515T200642Z
LAST-MODIFIED:20240515T203842Z
UID:10040066-1716019200-1716051600@chewelah.org
SUMMARY:Valley Warriors at Work
DESCRIPTION:
URL:https://chewelah.org/event/valley-warriors-at-work/2024-05-18/
LOCATION:Dawns’ Memorial Park\, Valley\, WA
CATEGORIES:Annual Events,Community Event
END:VEVENT
BEGIN:VEVENT
DTSTART;TZID=America/Los_Angeles:20240519T080000
DTEND;TZID=America/Los_Angeles:20240519T170000
DTSTAMP:20260421T132728
CREATED:20240515T200642Z
LAST-MODIFIED:20240515T203842Z
UID:10040067-1716105600-1716138000@chewelah.org
SUMMARY:Valley Warriors at Work
DESCRIPTION:
URL:https://chewelah.org/event/valley-warriors-at-work/2024-05-19/
LOCATION:Dawns’ Memorial Park\, Valley\, WA
CATEGORIES:Annual Events,Community Event
END:VEVENT
BEGIN:VEVENT
DTSTART;TZID=America/Los_Angeles:20240520T090000
DTEND;TZID=America/Los_Angeles:20240520T113000
DTSTAMP:20260421T132728
CREATED:20240119T165144Z
LAST-MODIFIED:20240402T215925Z
UID:10038962-1716195600-1716204600@chewelah.org
SUMMARY:Adult Pickleball
DESCRIPTION:Monday & Friday 9:00am-11:30am\n243 Par Place by the Chewelah Golf Course\nFree to Everyone! “No Partner? No Problem!”\nContact: sueschlatter17@gmail.com
URL:https://chewelah.org/event/adult-pickleball-3/2024-05-20/
LOCATION:Chewelah Golf & Country Club\, 2537 Sand Canyon Rd\, Chewelah\, WA\, 99109\, United States
CATEGORIES:Family Friendly,Winter Events
END:VEVENT
BEGIN:VEVENT
DTSTART;TZID=America/Los_Angeles:20240524T090000
DTEND;TZID=America/Los_Angeles:20240524T113000
DTSTAMP:20260421T132728
CREATED:20240119T165144Z
LAST-MODIFIED:20240402T215925Z
UID:10038963-1716541200-1716550200@chewelah.org
SUMMARY:Adult Pickleball
DESCRIPTION:Monday & Friday 9:00am-11:30am\n243 Par Place by the Chewelah Golf Course\nFree to Everyone! “No Partner? No Problem!”\nContact: sueschlatter17@gmail.com
URL:https://chewelah.org/event/adult-pickleball-3/2024-05-24/
LOCATION:Chewelah Golf & Country Club\, 2537 Sand Canyon Rd\, Chewelah\, WA\, 99109\, United States
CATEGORIES:Family Friendly,Winter Events
END:VEVENT
BEGIN:VEVENT
DTSTART;TZID=America/Los_Angeles:20240524T110000
DTEND;TZID=America/Los_Angeles:20240524T153000
DTSTAMP:20260421T132728
CREATED:20240228T184003Z
LAST-MODIFIED:20240502T182231Z
UID:10039535-1716548400-1716564600@chewelah.org
SUMMARY:Chewelah Farmers Market
DESCRIPTION:
URL:https://chewelah.org/event/chewelah-farmers-market-2/2024-05-24/
LOCATION:Chewelah City Park\, Chewelah\, WA\, 99109\, United States
CATEGORIES:Family Friendly,Summer Events
END:VEVENT
BEGIN:VEVENT
DTSTART;TZID=America/Los_Angeles:20240524T180000
DTEND;TZID=America/Los_Angeles:20240524T210000
DTSTAMP:20260421T132728
CREATED:20240501T190442Z
LAST-MODIFIED:20240501T193224Z
UID:10039869-1716573600-1716584400@chewelah.org
SUMMARY:Fired Up Pizza features Kraigmire Karaoke
DESCRIPTION:More to Come!
URL:https://chewelah.org/event/kraigmire-karaoke-2/2024-05-24/
LOCATION:Fired Up Pizza\, 206 E Main Ave\, Chewelah\, WA\, 99109\, United States
CATEGORIES:Family Friendly,Summer Events
END:VEVENT
BEGIN:VEVENT
DTSTART;TZID=America/Los_Angeles:20240525T090000
DTEND;TZID=America/Los_Angeles:20240525T160000
DTSTAMP:20260421T132728
CREATED:20240417T202210Z
LAST-MODIFIED:20240417T202210Z
UID:10039687-1716627600-1716652800@chewelah.org
SUMMARY:Nostalgia Days
DESCRIPTION:
URL:https://chewelah.org/event/nostalgia-days/
LOCATION:Chewelah City Park\, Chewelah\, WA\, 99109\, United States
CATEGORIES:Community Event,Family Friendly,Summer Events
END:VEVENT
BEGIN:VEVENT
DTSTART;TZID=America/Los_Angeles:20240527T090000
DTEND;TZID=America/Los_Angeles:20240527T113000
DTSTAMP:20260421T132728
CREATED:20240119T165144Z
LAST-MODIFIED:20240402T215925Z
UID:10038964-1716800400-1716809400@chewelah.org
SUMMARY:Adult Pickleball
DESCRIPTION:Monday & Friday 9:00am-11:30am\n243 Par Place by the Chewelah Golf Course\nFree to Everyone! “No Partner? No Problem!”\nContact: sueschlatter17@gmail.com
URL:https://chewelah.org/event/adult-pickleball-3/2024-05-27/
LOCATION:Chewelah Golf & Country Club\, 2537 Sand Canyon Rd\, Chewelah\, WA\, 99109\, United States
CATEGORIES:Family Friendly,Winter Events
END:VEVENT
BEGIN:VEVENT
DTSTART;TZID=America/Los_Angeles:20240531T090000
DTEND;TZID=America/Los_Angeles:20240531T113000
DTSTAMP:20260421T132728
CREATED:20240119T165144Z
LAST-MODIFIED:20240402T215925Z
UID:10038965-1717146000-1717155000@chewelah.org
SUMMARY:Adult Pickleball
DESCRIPTION:Monday & Friday 9:00am-11:30am\n243 Par Place by the Chewelah Golf Course\nFree to Everyone! “No Partner? No Problem!”\nContact: sueschlatter17@gmail.com
URL:https://chewelah.org/event/adult-pickleball-3/2024-05-31/
LOCATION:Chewelah Golf & Country Club\, 2537 Sand Canyon Rd\, Chewelah\, WA\, 99109\, United States
CATEGORIES:Family Friendly,Winter Events
END:VEVENT
BEGIN:VEVENT
DTSTART;TZID=America/Los_Angeles:20240531T110000
DTEND;TZID=America/Los_Angeles:20240531T153000
DTSTAMP:20260421T132728
CREATED:20240228T184003Z
LAST-MODIFIED:20240502T182231Z
UID:10039536-1717153200-1717169400@chewelah.org
SUMMARY:Chewelah Farmers Market
DESCRIPTION:
URL:https://chewelah.org/event/chewelah-farmers-market-2/2024-05-31/
LOCATION:Chewelah City Park\, Chewelah\, WA\, 99109\, United States
CATEGORIES:Family Friendly,Summer Events
END:VEVENT
BEGIN:VEVENT
DTSTART;TZID=America/Los_Angeles:20240601T100000
DTEND;TZID=America/Los_Angeles:20240601T160000
DTSTAMP:20260421T132728
CREATED:20240228T182458Z
LAST-MODIFIED:20240528T214410Z
UID:10039527-1717236000-1717257600@chewelah.org
SUMMARY:Fun in the Sun Vendor Fair
DESCRIPTION:  \n 
URL:https://chewelah.org/event/fun-in-the-sun-vendor-fair/
LOCATION:Chewelah City Park\, Chewelah\, WA\, 99109\, United States
CATEGORIES:Family Friendly,Summer Events
END:VEVENT
BEGIN:VEVENT
DTSTART;TZID=America/Los_Angeles:20240601T170000
DTEND;TZID=America/Los_Angeles:20240601T200000
DTSTAMP:20260421T132728
CREATED:20240529T221214Z
LAST-MODIFIED:20240529T221214Z
UID:10040094-1717261200-1717272000@chewelah.org
SUMMARY:Fool's Paradise Band at Rusty Putter
DESCRIPTION:
URL:https://chewelah.org/event/fools-paradise-band-at-rusty-putter/
LOCATION:Rusty Putter Bar & Grille\, 2537 San Canyon Rd\, Chewelah\, WA\, 99109\, United States
CATEGORIES:Family Friendly,Summer Events
END:VEVENT
BEGIN:VEVENT
DTSTART;TZID=America/Los_Angeles:20240603T090000
DTEND;TZID=America/Los_Angeles:20240603T113000
DTSTAMP:20260421T132728
CREATED:20240119T165144Z
LAST-MODIFIED:20240402T215925Z
UID:10038966-1717405200-1717414200@chewelah.org
SUMMARY:Adult Pickleball
DESCRIPTION:Monday & Friday 9:00am-11:30am\n243 Par Place by the Chewelah Golf Course\nFree to Everyone! “No Partner? No Problem!”\nContact: sueschlatter17@gmail.com
URL:https://chewelah.org/event/adult-pickleball-3/2024-06-03/
LOCATION:Chewelah Golf & Country Club\, 2537 Sand Canyon Rd\, Chewelah\, WA\, 99109\, United States
CATEGORIES:Family Friendly,Winter Events
END:VEVENT
BEGIN:VEVENT
DTSTART;TZID=America/Los_Angeles:20240607T090000
DTEND;TZID=America/Los_Angeles:20240607T113000
DTSTAMP:20260421T132728
CREATED:20240119T165144Z
LAST-MODIFIED:20240402T215925Z
UID:10038967-1717750800-1717759800@chewelah.org
SUMMARY:Adult Pickleball
DESCRIPTION:Monday & Friday 9:00am-11:30am\n243 Par Place by the Chewelah Golf Course\nFree to Everyone! “No Partner? No Problem!”\nContact: sueschlatter17@gmail.com
URL:https://chewelah.org/event/adult-pickleball-3/2024-06-07/
LOCATION:Chewelah Golf & Country Club\, 2537 Sand Canyon Rd\, Chewelah\, WA\, 99109\, United States
CATEGORIES:Family Friendly,Winter Events
END:VEVENT
BEGIN:VEVENT
DTSTART;TZID=America/Los_Angeles:20240607T110000
DTEND;TZID=America/Los_Angeles:20240607T153000
DTSTAMP:20260421T132728
CREATED:20240228T184003Z
LAST-MODIFIED:20240502T182231Z
UID:10039537-1717758000-1717774200@chewelah.org
SUMMARY:Chewelah Farmers Market
DESCRIPTION:
URL:https://chewelah.org/event/chewelah-farmers-market-2/2024-06-07/
LOCATION:Chewelah City Park\, Chewelah\, WA\, 99109\, United States
CATEGORIES:Family Friendly,Summer Events
END:VEVENT
BEGIN:VEVENT
DTSTART;TZID=America/Los_Angeles:20240607T170000
DTEND;TZID=America/Los_Angeles:20240607T190000
DTSTAMP:20260421T132728
CREATED:20240604T214711Z
LAST-MODIFIED:20240604T214714Z
UID:10040095-1717779600-1717786800@chewelah.org
SUMMARY:Rusty Putter Live Music
DESCRIPTION:
URL:https://chewelah.org/event/rusty-putter-live-music/
LOCATION:Rusty Putter Bar & Grille\, 2537 San Canyon Rd\, Chewelah\, WA\, 99109\, United States
CATEGORIES:Community Event,Family Friendly,Summer Events
END:VEVENT
BEGIN:VEVENT
DTSTART;TZID=America/Los_Angeles:20240607T180000
DTEND;TZID=America/Los_Angeles:20240607T210000
DTSTAMP:20260421T132728
CREATED:20240501T190442Z
LAST-MODIFIED:20240501T193224Z
UID:10039870-1717783200-1717794000@chewelah.org
SUMMARY:Fired Up Pizza features Kraigmire Karaoke
DESCRIPTION:More to Come!
URL:https://chewelah.org/event/kraigmire-karaoke-2/2024-06-07/
LOCATION:Fired Up Pizza\, 206 E Main Ave\, Chewelah\, WA\, 99109\, United States
CATEGORIES:Family Friendly,Summer Events
END:VEVENT
BEGIN:VEVENT
DTSTART;TZID=America/Los_Angeles:20240608T080000
DTEND;TZID=America/Los_Angeles:20240608T170000
DTSTAMP:20260421T132729
CREATED:20240605T171046Z
LAST-MODIFIED:20240605T175730Z
UID:10040509-1717833600-1717866000@chewelah.org
SUMMARY:Sally Burge Memorial Day One-day Horse Trial
DESCRIPTION:
URL:https://chewelah.org/event/sally-burge-memorial-day-one-day-horse-trial/
LOCATION:Legacy Farm & Stable\, 4061 WA-292\, Loon Lake\, WA\, 33148
CATEGORIES:Family Friendly,Summer Events
END:VEVENT
BEGIN:VEVENT
DTSTART;TZID=America/Los_Angeles:20240610T090000
DTEND;TZID=America/Los_Angeles:20240610T113000
DTSTAMP:20260421T132729
CREATED:20240119T165144Z
LAST-MODIFIED:20240402T215925Z
UID:10038968-1718010000-1718019000@chewelah.org
SUMMARY:Adult Pickleball
DESCRIPTION:Monday & Friday 9:00am-11:30am\n243 Par Place by the Chewelah Golf Course\nFree to Everyone! “No Partner? No Problem!”\nContact: sueschlatter17@gmail.com
URL:https://chewelah.org/event/adult-pickleball-3/2024-06-10/
LOCATION:Chewelah Golf & Country Club\, 2537 Sand Canyon Rd\, Chewelah\, WA\, 99109\, United States
CATEGORIES:Family Friendly,Winter Events
END:VEVENT
BEGIN:VEVENT
DTSTART;TZID=America/Los_Angeles:20240613T170000
DTEND;TZID=America/Los_Angeles:20240613T190000
DTSTAMP:20260421T132729
CREATED:20240605T182827Z
LAST-MODIFIED:20240605T182827Z
UID:10040518-1718298000-1718305200@chewelah.org
SUMMARY:Free Community Barbeque
DESCRIPTION:
URL:https://chewelah.org/event/free-community-barbeque/
LOCATION:St. Mary’s Catholic Church
CATEGORIES:Community Event,Family Friendly,Summer Events
END:VEVENT
BEGIN:VEVENT
DTSTART;TZID=America/Los_Angeles:20240614T090000
DTEND;TZID=America/Los_Angeles:20240614T113000
DTSTAMP:20260421T132729
CREATED:20240119T165144Z
LAST-MODIFIED:20240402T215925Z
UID:10038969-1718355600-1718364600@chewelah.org
SUMMARY:Adult Pickleball
DESCRIPTION:Monday & Friday 9:00am-11:30am\n243 Par Place by the Chewelah Golf Course\nFree to Everyone! “No Partner? No Problem!”\nContact: sueschlatter17@gmail.com
URL:https://chewelah.org/event/adult-pickleball-3/2024-06-14/
LOCATION:Chewelah Golf & Country Club\, 2537 Sand Canyon Rd\, Chewelah\, WA\, 99109\, United States
CATEGORIES:Family Friendly,Winter Events
END:VEVENT
BEGIN:VEVENT
DTSTART;TZID=America/Los_Angeles:20240614T110000
DTEND;TZID=America/Los_Angeles:20240614T153000
DTSTAMP:20260421T132729
CREATED:20240228T184003Z
LAST-MODIFIED:20240502T182231Z
UID:10039538-1718362800-1718379000@chewelah.org
SUMMARY:Chewelah Farmers Market
DESCRIPTION:
URL:https://chewelah.org/event/chewelah-farmers-market-2/2024-06-14/
LOCATION:Chewelah City Park\, Chewelah\, WA\, 99109\, United States
CATEGORIES:Family Friendly,Summer Events
END:VEVENT
BEGIN:VEVENT
DTSTART;TZID=America/Los_Angeles:20240614T170000
DTEND;TZID=America/Los_Angeles:20240614T200000
DTSTAMP:20260421T132729
CREATED:20240605T171941Z
LAST-MODIFIED:20240605T174444Z
UID:10040511-1718384400-1718395200@chewelah.org
SUMMARY:Colville Valley Animal Sanctuary Fundraiser
DESCRIPTION:
URL:https://chewelah.org/event/colville-valley-animal-sanctuary-fundraiser/
LOCATION:Quartzite Brewery
CATEGORIES:Community Event,Summer Events
END:VEVENT
BEGIN:VEVENT
DTSTART;TZID=America/Los_Angeles:20240616T160000
DTEND;TZID=America/Los_Angeles:20240616T193000
DTSTAMP:20260421T132729
CREATED:20240614T201858Z
LAST-MODIFIED:20240614T201858Z
UID:10041049-1718553600-1718566200@chewelah.org
SUMMARY:Father's Day BBQ Buffet
DESCRIPTION:
URL:https://chewelah.org/event/fathers-day-bbq-buffet/
LOCATION:Mistequa Hotel\, 2555 Smith Rd.\, CHEWELAH\, WA\, 99109\, United States
CATEGORIES:Family Friendly,Summer Events
END:VEVENT
BEGIN:VEVENT
DTSTART;TZID=America/Los_Angeles:20240617T090000
DTEND;TZID=America/Los_Angeles:20240617T113000
DTSTAMP:20260421T132729
CREATED:20240119T165144Z
LAST-MODIFIED:20240402T215925Z
UID:10038970-1718614800-1718623800@chewelah.org
SUMMARY:Adult Pickleball
DESCRIPTION:Monday & Friday 9:00am-11:30am\n243 Par Place by the Chewelah Golf Course\nFree to Everyone! “No Partner? No Problem!”\nContact: sueschlatter17@gmail.com
URL:https://chewelah.org/event/adult-pickleball-3/2024-06-17/
LOCATION:Chewelah Golf & Country Club\, 2537 Sand Canyon Rd\, Chewelah\, WA\, 99109\, United States
CATEGORIES:Family Friendly,Winter Events
END:VEVENT
BEGIN:VEVENT
DTSTART;TZID=America/Los_Angeles:20240621T090000
DTEND;TZID=America/Los_Angeles:20240621T113000
DTSTAMP:20260421T132729
CREATED:20240119T165144Z
LAST-MODIFIED:20240402T215925Z
UID:10038971-1718960400-1718969400@chewelah.org
SUMMARY:Adult Pickleball
DESCRIPTION:Monday & Friday 9:00am-11:30am\n243 Par Place by the Chewelah Golf Course\nFree to Everyone! “No Partner? No Problem!”\nContact: sueschlatter17@gmail.com
URL:https://chewelah.org/event/adult-pickleball-3/2024-06-21/
LOCATION:Chewelah Golf & Country Club\, 2537 Sand Canyon Rd\, Chewelah\, WA\, 99109\, United States
CATEGORIES:Family Friendly,Winter Events
END:VEVENT
END:VCALENDAR