BEGIN:VCALENDAR
VERSION:2.0
PRODID:-//Chewelah Chamber of Commerce - ECPv6.15.17//NONSGML v1.0//EN
CALSCALE:GREGORIAN
METHOD:PUBLISH
X-ORIGINAL-URL:https://chewelah.org
X-WR-CALDESC:Events for Chewelah Chamber of Commerce
REFRESH-INTERVAL;VALUE=DURATION:PT1H
X-Robots-Tag:noindex
X-PUBLISHED-TTL:PT1H
BEGIN:VTIMEZONE
TZID:America/Los_Angeles
BEGIN:DAYLIGHT
TZOFFSETFROM:-0800
TZOFFSETTO:-0700
TZNAME:PDT
DTSTART:20240310T100000
END:DAYLIGHT
BEGIN:STANDARD
TZOFFSETFROM:-0700
TZOFFSETTO:-0800
TZNAME:PST
DTSTART:20241103T090000
END:STANDARD
BEGIN:DAYLIGHT
TZOFFSETFROM:-0800
TZOFFSETTO:-0700
TZNAME:PDT
DTSTART:20250309T100000
END:DAYLIGHT
BEGIN:STANDARD
TZOFFSETFROM:-0700
TZOFFSETTO:-0800
TZNAME:PST
DTSTART:20251102T090000
END:STANDARD
BEGIN:DAYLIGHT
TZOFFSETFROM:-0800
TZOFFSETTO:-0700
TZNAME:PDT
DTSTART:20260308T100000
END:DAYLIGHT
BEGIN:STANDARD
TZOFFSETFROM:-0700
TZOFFSETTO:-0800
TZNAME:PST
DTSTART:20261101T090000
END:STANDARD
END:VTIMEZONE
BEGIN:VEVENT
DTSTART;TZID=America/Los_Angeles:20250416T120000
DTEND;TZID=America/Los_Angeles:20250416T173000
DTSTAMP:20260420T033602
CREATED:20250404T175412Z
LAST-MODIFIED:20250404T175413Z
UID:10042601-1744804800-1744824600@chewelah.org
SUMMARY:Chewelah Community Blood Drive
DESCRIPTION:
URL:https://chewelah.org/event/chewelah-community-blood-drive-8/
LOCATION:American Legion Post 54
CATEGORIES:Community Event,Spring Events
END:VEVENT
BEGIN:VEVENT
DTSTART;TZID=America/Los_Angeles:20250416T190000
DTEND;TZID=America/Los_Angeles:20250416T210000
DTSTAMP:20260420T033602
CREATED:20250403T194407Z
LAST-MODIFIED:20250403T194408Z
UID:10042600-1744830000-1744837200@chewelah.org
SUMMARY:Pecha Kucha Night
DESCRIPTION:
URL:https://chewelah.org/event/pecha-kucha-night/
LOCATION:Quartzite Brewery
CATEGORIES:Arts & Cultural Events,Spring Events
ORGANIZER;CN="Chewelah Arts Guild":MAILTO:info@chewelahartsguild.org
END:VEVENT
END:VCALENDAR