BEGIN:VCALENDAR
VERSION:2.0
PRODID:-//Chewelah Chamber of Commerce - ECPv6.15.17//NONSGML v1.0//EN
CALSCALE:GREGORIAN
METHOD:PUBLISH
X-ORIGINAL-URL:https://chewelah.org
X-WR-CALDESC:Events for Chewelah Chamber of Commerce
REFRESH-INTERVAL;VALUE=DURATION:PT1H
X-Robots-Tag:noindex
X-PUBLISHED-TTL:PT1H
BEGIN:VTIMEZONE
TZID:America/Los_Angeles
BEGIN:DAYLIGHT
TZOFFSETFROM:-0800
TZOFFSETTO:-0700
TZNAME:PDT
DTSTART:20230312T100000
END:DAYLIGHT
BEGIN:STANDARD
TZOFFSETFROM:-0700
TZOFFSETTO:-0800
TZNAME:PST
DTSTART:20231105T090000
END:STANDARD
BEGIN:DAYLIGHT
TZOFFSETFROM:-0800
TZOFFSETTO:-0700
TZNAME:PDT
DTSTART:20240310T100000
END:DAYLIGHT
BEGIN:STANDARD
TZOFFSETFROM:-0700
TZOFFSETTO:-0800
TZNAME:PST
DTSTART:20241103T090000
END:STANDARD
BEGIN:DAYLIGHT
TZOFFSETFROM:-0800
TZOFFSETTO:-0700
TZNAME:PDT
DTSTART:20250309T100000
END:DAYLIGHT
BEGIN:STANDARD
TZOFFSETFROM:-0700
TZOFFSETTO:-0800
TZNAME:PST
DTSTART:20251102T090000
END:STANDARD
END:VTIMEZONE
BEGIN:VEVENT
DTSTART;TZID=America/Los_Angeles:20240710T090000
DTEND;TZID=America/Los_Angeles:20240710T140000
DTSTAMP:20260420T033615
CREATED:20240612T171527Z
LAST-MODIFIED:20240703T221311Z
UID:10040523-1720602000-1720620000@chewelah.org
SUMMARY:Sounds Like Mayhem!
DESCRIPTION:
URL:https://chewelah.org/event/sounds-like-mayhem/2024-07-10/
LOCATION:Chewelah Center for the Arts
CATEGORIES:Arts & Cultural Events,Community Event,Family Friendly,Summer Events
END:VEVENT
BEGIN:VEVENT
DTSTART;TZID=America/Los_Angeles:20240710T110000
DTEND;TZID=America/Los_Angeles:20240710T120000
DTSTAMP:20260420T033615
CREATED:20240626T183651Z
LAST-MODIFIED:20240626T183652Z
UID:10041057-1720609200-1720612800@chewelah.org
SUMMARY:Chewelah Library Forest Discovery
DESCRIPTION:
URL:https://chewelah.org/event/chewelah-library-forest-discovery/
LOCATION:Chewelah Library\, 311 East Clay\, Chewelah\, WA\, 99109
CATEGORIES:Family Friendly,Summer Events
END:VEVENT
END:VCALENDAR