BEGIN:VCALENDAR
VERSION:2.0
PRODID:-//Chewelah Chamber of Commerce - ECPv6.15.17//NONSGML v1.0//EN
CALSCALE:GREGORIAN
METHOD:PUBLISH
X-WR-CALNAME:Chewelah Chamber of Commerce
X-ORIGINAL-URL:https://chewelah.org
X-WR-CALDESC:Events for Chewelah Chamber of Commerce
REFRESH-INTERVAL;VALUE=DURATION:PT1H
X-Robots-Tag:noindex
X-PUBLISHED-TTL:PT1H
BEGIN:VTIMEZONE
TZID:America/Los_Angeles
BEGIN:DAYLIGHT
TZOFFSETFROM:-0800
TZOFFSETTO:-0700
TZNAME:PDT
DTSTART:20230312T100000
END:DAYLIGHT
BEGIN:STANDARD
TZOFFSETFROM:-0700
TZOFFSETTO:-0800
TZNAME:PST
DTSTART:20231105T090000
END:STANDARD
BEGIN:DAYLIGHT
TZOFFSETFROM:-0800
TZOFFSETTO:-0700
TZNAME:PDT
DTSTART:20240310T100000
END:DAYLIGHT
BEGIN:STANDARD
TZOFFSETFROM:-0700
TZOFFSETTO:-0800
TZNAME:PST
DTSTART:20241103T090000
END:STANDARD
BEGIN:DAYLIGHT
TZOFFSETFROM:-0800
TZOFFSETTO:-0700
TZNAME:PDT
DTSTART:20250309T100000
END:DAYLIGHT
BEGIN:STANDARD
TZOFFSETFROM:-0700
TZOFFSETTO:-0800
TZNAME:PST
DTSTART:20251102T090000
END:STANDARD
END:VTIMEZONE
BEGIN:VEVENT
DTSTART;TZID=America/Los_Angeles:20240331T090000
DTEND;TZID=America/Los_Angeles:20240331T120000
DTSTAMP:20260421T142446
CREATED:20240320T234253Z
LAST-MODIFIED:20240320T234253Z
UID:10039635-1711875600-1711886400@chewelah.org
SUMMARY:Easter Brunch at Mistequa Casino
DESCRIPTION:
URL:https://chewelah.org/event/easter-brunch-at-mistequa-casino/
LOCATION:Mistequa Casino\, 2555 Smith Rd.\, Chewelah\, WA\, 99109\, United States
CATEGORIES:Family Friendly,Spring Events
END:VEVENT
BEGIN:VEVENT
DTSTART;TZID=America/Los_Angeles:20240331T090000
DTEND;TZID=America/Los_Angeles:20240331T140000
DTSTAMP:20260421T142446
CREATED:20240328T191154Z
LAST-MODIFIED:20240328T191155Z
UID:10039646-1711875600-1711893600@chewelah.org
SUMMARY:Rusty Putter Easter Brunch
DESCRIPTION:
URL:https://chewelah.org/event/rusty-putter-easter-brunch/
LOCATION:Rusty Putter Bar & Grille\, 2537 San Canyon Rd\, Chewelah\, WA\, 99109\, United States
CATEGORIES:Community Event,Family Friendly,Spring Events
ORGANIZER;CN="Chewelah Golf & Country Club":MAILTO:proshop@chewelahgolf.com
END:VEVENT
BEGIN:VEVENT
DTSTART;TZID=America/Los_Angeles:20240331T110000
DTEND;TZID=America/Los_Angeles:20240331T163000
DTSTAMP:20260421T142446
CREATED:20240328T201643Z
LAST-MODIFIED:20240328T201643Z
UID:10039650-1711882800-1711902600@chewelah.org
SUMMARY:49 Degrees North Out like a Lion
DESCRIPTION:
URL:https://chewelah.org/event/49-degrees-north-out-like-a-lion/2024-03-31/
LOCATION:49°North\, 3311 Flowery Trail Rd\, Chewelah\, 99109\, United States
CATEGORIES:Family Friendly,Spring Events
END:VEVENT
END:VCALENDAR