BEGIN:VCALENDAR
VERSION:2.0
PRODID:-//Chewelah Chamber of Commerce - ECPv6.15.17//NONSGML v1.0//EN
CALSCALE:GREGORIAN
METHOD:PUBLISH
X-WR-CALNAME:Chewelah Chamber of Commerce
X-ORIGINAL-URL:https://chewelah.org
X-WR-CALDESC:Events for Chewelah Chamber of Commerce
REFRESH-INTERVAL;VALUE=DURATION:PT1H
X-Robots-Tag:noindex
X-PUBLISHED-TTL:PT1H
BEGIN:VTIMEZONE
TZID:America/Los_Angeles
BEGIN:DAYLIGHT
TZOFFSETFROM:-0800
TZOFFSETTO:-0700
TZNAME:PDT
DTSTART:20240310T100000
END:DAYLIGHT
BEGIN:STANDARD
TZOFFSETFROM:-0700
TZOFFSETTO:-0800
TZNAME:PST
DTSTART:20241103T090000
END:STANDARD
BEGIN:DAYLIGHT
TZOFFSETFROM:-0800
TZOFFSETTO:-0700
TZNAME:PDT
DTSTART:20250309T100000
END:DAYLIGHT
BEGIN:STANDARD
TZOFFSETFROM:-0700
TZOFFSETTO:-0800
TZNAME:PST
DTSTART:20251102T090000
END:STANDARD
BEGIN:DAYLIGHT
TZOFFSETFROM:-0800
TZOFFSETTO:-0700
TZNAME:PDT
DTSTART:20260308T100000
END:DAYLIGHT
BEGIN:STANDARD
TZOFFSETFROM:-0700
TZOFFSETTO:-0800
TZNAME:PST
DTSTART:20261101T090000
END:STANDARD
END:VTIMEZONE
BEGIN:VEVENT
DTSTART;TZID=America/Los_Angeles:20250904T170000
DTEND;TZID=America/Los_Angeles:20250904T200000
DTSTAMP:20260420T040816
CREATED:20250819T214139Z
LAST-MODIFIED:20250819T214140Z
UID:10043589-1757005200-1757016000@chewelah.org
SUMMARY:First Thursday Art Walk
DESCRIPTION:
URL:https://chewelah.org/event/first-thursday-art-walk-27/
LOCATION:Downtown Chewelah\, Main Ave & 2nd Street\, Chewelah\, WA\, 99109\, United States
CATEGORIES:Summer Events
END:VEVENT
BEGIN:VEVENT
DTSTART;TZID=America/Los_Angeles:20250905T100000
DTEND;TZID=America/Los_Angeles:20250905T160000
DTSTAMP:20260420T040816
CREATED:20250902T163003Z
LAST-MODIFIED:20250902T163003Z
UID:10043593-1757066400-1757088000@chewelah.org
SUMMARY:WaFd Open House
DESCRIPTION: 
URL:https://chewelah.org/event/wafd-open-house/
LOCATION:WaFd Bank – Chewelah
CATEGORIES:Business Events,Summer Events
END:VEVENT
BEGIN:VEVENT
DTSTART;TZID=America/Los_Angeles:20250905T110000
DTEND;TZID=America/Los_Angeles:20250905T153000
DTSTAMP:20260420T040816
CREATED:20250408T201309Z
LAST-MODIFIED:20250527T214737Z
UID:10042627-1757070000-1757086200@chewelah.org
SUMMARY:Chewelah Farmer's Market
DESCRIPTION:
URL:https://chewelah.org/event/chewelah-farmers-market/2025-09-05/
LOCATION:Chewelah City Park\, Chewelah\, WA\, 99109\, United States
CATEGORIES:Community Event,Fall Events,Family Friendly,Spring Events,Summer Events
END:VEVENT
BEGIN:VEVENT
DTSTART;TZID=America/Los_Angeles:20250912T110000
DTEND;TZID=America/Los_Angeles:20250912T153000
DTSTAMP:20260420T040816
CREATED:20250408T201309Z
LAST-MODIFIED:20250527T214737Z
UID:10042628-1757674800-1757691000@chewelah.org
SUMMARY:Chewelah Farmer's Market
DESCRIPTION:
URL:https://chewelah.org/event/chewelah-farmers-market/2025-09-12/
LOCATION:Chewelah City Park\, Chewelah\, WA\, 99109\, United States
CATEGORIES:Community Event,Fall Events,Family Friendly,Spring Events,Summer Events
END:VEVENT
BEGIN:VEVENT
DTSTART;TZID=America/Los_Angeles:20250912T153000
DTEND;TZID=America/Los_Angeles:20250912T160000
DTSTAMP:20260420T040816
CREATED:20250902T205300Z
LAST-MODIFIED:20250902T205301Z
UID:10043594-1757691000-1757692800@chewelah.org
SUMMARY:Apple Pie Eating Contest
DESCRIPTION:
URL:https://chewelah.org/event/apple-pie-eating-contest-2/
LOCATION:Chewelah Farmers Market\, Park Street\, Chewelah\, WA\, 99109\, United States
CATEGORIES:Community Event,Family Friendly,Summer Events
END:VEVENT
BEGIN:VEVENT
DTSTART;TZID=America/Los_Angeles:20250913T093000
DTEND;TZID=America/Los_Angeles:20250913T130000
DTSTAMP:20260420T040816
CREATED:20250307T170624Z
LAST-MODIFIED:20250307T170625Z
UID:10042495-1757755800-1757768400@chewelah.org
SUMMARY:CVAS Drive Through Vaccination Clinic
DESCRIPTION:
URL:https://chewelah.org/event/cvas-drive-through-vaccination-clinic/2025-09-13/
LOCATION:501 Old Arden Highway
CATEGORIES:Spring Events,Summer Events,Winter Events
END:VEVENT
BEGIN:VEVENT
DTSTART;TZID=America/Los_Angeles:20250913T163000
DTEND;TZID=America/Los_Angeles:20250913T213000
DTSTAMP:20260420T040816
CREATED:20250718T162722Z
LAST-MODIFIED:20250718T162723Z
UID:10043567-1757781000-1757799000@chewelah.org
SUMMARY:Annual Auction & Dinner
DESCRIPTION:
URL:https://chewelah.org/event/annual-auction-dinner/
LOCATION:Mistequa Hotel\, 2555 Smith Rd.\, CHEWELAH\, WA\, 99109\, United States
CATEGORIES:Business Events,Summer Events
ORGANIZER;CN="Chewelah Chamber of Commerce":MAILTO:info@chewelah.org
END:VEVENT
BEGIN:VEVENT
DTSTART;TZID=America/Los_Angeles:20250918T163000
DTEND;TZID=America/Los_Angeles:20250918T200000
DTSTAMP:20260420T040816
CREATED:20250805T214147Z
LAST-MODIFIED:20250805T214147Z
UID:10043578-1758213000-1758225600@chewelah.org
SUMMARY:Taste of Chewelah
DESCRIPTION:
URL:https://chewelah.org/event/taste-of-chewelah/
LOCATION:Downtown Chewelah\, Main Ave & 2nd Street\, Chewelah\, WA\, 99109\, United States
CATEGORIES:Community Event,Summer Events
ORGANIZER;CN="Chewelah Arts Guild":MAILTO:info@chewelahartsguild.org
END:VEVENT
BEGIN:VEVENT
DTSTART;TZID=America/Los_Angeles:20250919T110000
DTEND;TZID=America/Los_Angeles:20250919T153000
DTSTAMP:20260420T040816
CREATED:20250408T201309Z
LAST-MODIFIED:20250527T214737Z
UID:10042629-1758279600-1758295800@chewelah.org
SUMMARY:Chewelah Farmer's Market
DESCRIPTION:
URL:https://chewelah.org/event/chewelah-farmers-market/2025-09-19/
LOCATION:Chewelah City Park\, Chewelah\, WA\, 99109\, United States
CATEGORIES:Community Event,Fall Events,Family Friendly,Spring Events,Summer Events
END:VEVENT
BEGIN:VEVENT
DTSTART;TZID=America/Los_Angeles:20250920T083000
DTEND;TZID=America/Los_Angeles:20250920T170000
DTSTAMP:20260420T040816
CREATED:20250911T153231Z
LAST-MODIFIED:20250911T153232Z
UID:10043596-1758357000-1758387600@chewelah.org
SUMMARY:9th Annual Romp n' Roar Tournament & Fundraiser
DESCRIPTION:
URL:https://chewelah.org/event/9th-annual-romp-n-roar-tournament-fundraiser/
LOCATION:Chewelah Golf & Country Club\, 2537 Sand Canyon Rd\, Chewelah\, WA\, 99109\, United States
CATEGORIES:Community Event,Summer Events
END:VEVENT
BEGIN:VEVENT
DTSTART;TZID=America/Los_Angeles:20250922T110000
DTEND;TZID=America/Los_Angeles:20250922T130000
DTSTAMP:20260420T040816
CREATED:20240711T195234Z
LAST-MODIFIED:20240821T163840Z
UID:10041109-1758538800-1758546000@chewelah.org
SUMMARY:Potluck at Chewelah Senior Center
DESCRIPTION:
URL:https://chewelah.org/event/potluck-at-chewelah-senior-center-2/2025-09-22/
LOCATION:Chewelah Senior Center
CATEGORIES:Community Event,Senior Event,Summer Events
END:VEVENT
BEGIN:VEVENT
DTSTART;TZID=America/Los_Angeles:20250925T163000
DTEND;TZID=America/Los_Angeles:20250925T193000
DTSTAMP:20260420T040816
CREATED:20250911T153417Z
LAST-MODIFIED:20250911T153417Z
UID:10043597-1758817800-1758828600@chewelah.org
SUMMARY:Spokane Salish Cultural Event
DESCRIPTION:
URL:https://chewelah.org/event/spokane-salish-cultural-event/
LOCATION:Chewelah Center for the Arts
CATEGORIES:Arts & Cultural Events,Family Friendly,Summer Events
END:VEVENT
BEGIN:VEVENT
DTSTART;TZID=America/Los_Angeles:20250926T110000
DTEND;TZID=America/Los_Angeles:20250926T153000
DTSTAMP:20260420T040816
CREATED:20250408T201309Z
LAST-MODIFIED:20250527T214737Z
UID:10042630-1758884400-1758900600@chewelah.org
SUMMARY:Chewelah Farmer's Market
DESCRIPTION:
URL:https://chewelah.org/event/chewelah-farmers-market/2025-09-26/
LOCATION:Chewelah City Park\, Chewelah\, WA\, 99109\, United States
CATEGORIES:Community Event,Fall Events,Family Friendly,Spring Events,Summer Events
END:VEVENT
BEGIN:VEVENT
DTSTART;TZID=America/Los_Angeles:20250927T100000
DTEND;TZID=America/Los_Angeles:20250927T220000
DTSTAMP:20260420T040816
CREATED:20250904T155118Z
LAST-MODIFIED:20250904T155153Z
UID:10043595-1758967200-1759010400@chewelah.org
SUMMARY:Chewelah Fallfest
DESCRIPTION:
URL:https://chewelah.org/event/chewelah-fallfest/
LOCATION:Downtown Chewelah\, Main Ave & 2nd Street\, Chewelah\, WA\, 99109\, United States
CATEGORIES:Fall Events
END:VEVENT
BEGIN:VEVENT
DTSTART;TZID=America/Los_Angeles:20250927T130000
DTEND;TZID=America/Los_Angeles:20250927T150000
DTSTAMP:20260420T040816
CREATED:20250922T183437Z
LAST-MODIFIED:20250922T183438Z
UID:10043598-1758978000-1758985200@chewelah.org
SUMMARY:CVAS Open House
DESCRIPTION:
URL:https://chewelah.org/event/cvas-open-house-2/
LOCATION:Colville Valley Animal Sanctuary\, 501 Old Arden HWY\, Colville\, 99114\, United States
CATEGORIES:Arts & Cultural Events,Community Event,Fall Events
END:VEVENT
BEGIN:VEVENT
DTSTART;TZID=America/Los_Angeles:20250929T060000
DTEND;TZID=America/Los_Angeles:20250929T200000
DTSTAMP:20260420T040816
CREATED:20250926T192656Z
LAST-MODIFIED:20250926T192657Z
UID:10043599-1759125600-1759176000@chewelah.org
SUMMARY:Auditions: 'A Night of One-Acts'
DESCRIPTION:
URL:https://chewelah.org/event/auditions-a-night-of-one-acts/2025-09-29/
LOCATION:WA
CATEGORIES:Arts & Cultural Events,Fall Events
END:VEVENT
BEGIN:VEVENT
DTSTART;TZID=America/Los_Angeles:20250930T060000
DTEND;TZID=America/Los_Angeles:20250930T200000
DTSTAMP:20260420T040816
CREATED:20250926T192656Z
LAST-MODIFIED:20250926T192657Z
UID:10043600-1759212000-1759262400@chewelah.org
SUMMARY:Auditions: 'A Night of One-Acts'
DESCRIPTION:
URL:https://chewelah.org/event/auditions-a-night-of-one-acts/2025-09-30/
LOCATION:WA
CATEGORIES:Arts & Cultural Events,Fall Events
END:VEVENT
END:VCALENDAR