BEGIN:VCALENDAR
VERSION:2.0
PRODID:-//Chewelah Chamber of Commerce - ECPv6.15.17//NONSGML v1.0//EN
CALSCALE:GREGORIAN
METHOD:PUBLISH
X-WR-CALNAME:Chewelah Chamber of Commerce
X-ORIGINAL-URL:https://chewelah.org
X-WR-CALDESC:Events for Chewelah Chamber of Commerce
REFRESH-INTERVAL;VALUE=DURATION:PT1H
X-Robots-Tag:noindex
X-PUBLISHED-TTL:PT1H
BEGIN:VTIMEZONE
TZID:America/Los_Angeles
BEGIN:DAYLIGHT
TZOFFSETFROM:-0800
TZOFFSETTO:-0700
TZNAME:PDT
DTSTART:20240310T100000
END:DAYLIGHT
BEGIN:STANDARD
TZOFFSETFROM:-0700
TZOFFSETTO:-0800
TZNAME:PST
DTSTART:20241103T090000
END:STANDARD
BEGIN:DAYLIGHT
TZOFFSETFROM:-0800
TZOFFSETTO:-0700
TZNAME:PDT
DTSTART:20250309T100000
END:DAYLIGHT
BEGIN:STANDARD
TZOFFSETFROM:-0700
TZOFFSETTO:-0800
TZNAME:PST
DTSTART:20251102T090000
END:STANDARD
BEGIN:DAYLIGHT
TZOFFSETFROM:-0800
TZOFFSETTO:-0700
TZNAME:PDT
DTSTART:20260308T100000
END:DAYLIGHT
BEGIN:STANDARD
TZOFFSETFROM:-0700
TZOFFSETTO:-0800
TZNAME:PST
DTSTART:20261101T090000
END:STANDARD
END:VTIMEZONE
BEGIN:VEVENT
DTSTART;TZID=America/Los_Angeles:20250703T170000
DTEND;TZID=America/Los_Angeles:20250703T200000
DTSTAMP:20260420T192145
CREATED:20250630T155550Z
LAST-MODIFIED:20250630T155551Z
UID:10043182-1751562000-1751572800@chewelah.org
SUMMARY:Spotlight Gallery & Gathering
DESCRIPTION:
URL:https://chewelah.org/event/spotlight-gallery-gathering/
LOCATION:Aaron Huff Memorial Cultural Center\, 214 E Main St\, Chewelah\, WA\, 99109\, United States
CATEGORIES:Arts & Cultural Events,Summer Events
ORGANIZER;CN="Chewelah Arts Guild":MAILTO:info@chewelahartsguild.org
END:VEVENT
BEGIN:VEVENT
DTSTART;TZID=America/Los_Angeles:20250703T170000
DTEND;TZID=America/Los_Angeles:20250703T200000
DTSTAMP:20260420T192145
CREATED:20250630T155709Z
LAST-MODIFIED:20250630T155710Z
UID:10043183-1751562000-1751572800@chewelah.org
SUMMARY:First Thursday Artwalk
DESCRIPTION:
URL:https://chewelah.org/event/first-thursday-artwalk-4/
LOCATION:Downtown Chewelah Art Walk\, Chewelah\, WA\, 99109\, United States
CATEGORIES:Arts & Cultural Events,Summer Events
END:VEVENT
BEGIN:VEVENT
DTSTART;TZID=America/Los_Angeles:20250704T100000
DTEND;TZID=America/Los_Angeles:20250704T140000
DTSTAMP:20260420T192145
CREATED:20250630T154952Z
LAST-MODIFIED:20250630T154953Z
UID:10043181-1751623200-1751637600@chewelah.org
SUMMARY:Chewelah Farmers Market - Independence Day!
DESCRIPTION:
URL:https://chewelah.org/event/chewelah-farmers-market-independence-day/
LOCATION:Chewelah City Park\, Chewelah\, WA\, 99109\, United States
CATEGORIES:Arts & Cultural Events,Community Event,Family Friendly,Summer Events
END:VEVENT
BEGIN:VEVENT
DTSTART;TZID=America/Los_Angeles:20250704T110000
DTEND;TZID=America/Los_Angeles:20250704T153000
DTSTAMP:20260420T192145
CREATED:20250408T201309Z
LAST-MODIFIED:20250527T214737Z
UID:10042618-1751626800-1751643000@chewelah.org
SUMMARY:Chewelah Farmer's Market
DESCRIPTION:
URL:https://chewelah.org/event/chewelah-farmers-market/2025-07-04/
LOCATION:Chewelah City Park\, Chewelah\, WA\, 99109\, United States
CATEGORIES:Community Event,Fall Events,Family Friendly,Spring Events,Summer Events
END:VEVENT
BEGIN:VEVENT
DTSTART;TZID=America/Los_Angeles:20250707T090000
DTEND;TZID=America/Los_Angeles:20250707T140000
DTSTAMP:20260420T192145
CREATED:20250630T164142Z
LAST-MODIFIED:20250707T165616Z
UID:10043186-1751878800-1751896800@chewelah.org
SUMMARY:Boxes & Hats
DESCRIPTION:
URL:https://chewelah.org/event/boxes-hats/2025-07-07/
LOCATION:Chewelah Center for the Arts
CATEGORIES:Arts & Cultural Events,Summer Events
ORGANIZER;CN="StageTime Theatre School":MAILTO:janetlmc1951@yahoo.com
END:VEVENT
BEGIN:VEVENT
DTSTART;TZID=America/Los_Angeles:20250708T090000
DTEND;TZID=America/Los_Angeles:20250708T140000
DTSTAMP:20260420T192145
CREATED:20250630T164142Z
LAST-MODIFIED:20250707T165616Z
UID:10043187-1751965200-1751983200@chewelah.org
SUMMARY:Boxes & Hats
DESCRIPTION:
URL:https://chewelah.org/event/boxes-hats/2025-07-08/
LOCATION:Chewelah Center for the Arts
CATEGORIES:Arts & Cultural Events,Summer Events
ORGANIZER;CN="StageTime Theatre School":MAILTO:janetlmc1951@yahoo.com
END:VEVENT
BEGIN:VEVENT
DTSTART;TZID=America/Los_Angeles:20250709T090000
DTEND;TZID=America/Los_Angeles:20250709T140000
DTSTAMP:20260420T192145
CREATED:20250630T164142Z
LAST-MODIFIED:20250707T165616Z
UID:10043188-1752051600-1752069600@chewelah.org
SUMMARY:Boxes & Hats
DESCRIPTION:
URL:https://chewelah.org/event/boxes-hats/2025-07-09/
LOCATION:Chewelah Center for the Arts
CATEGORIES:Arts & Cultural Events,Summer Events
ORGANIZER;CN="StageTime Theatre School":MAILTO:janetlmc1951@yahoo.com
END:VEVENT
BEGIN:VEVENT
DTSTART;TZID=America/Los_Angeles:20250710T090000
DTEND;TZID=America/Los_Angeles:20250710T140000
DTSTAMP:20260420T192145
CREATED:20250630T164142Z
LAST-MODIFIED:20250707T165616Z
UID:10043189-1752138000-1752156000@chewelah.org
SUMMARY:Boxes & Hats
DESCRIPTION:
URL:https://chewelah.org/event/boxes-hats/2025-07-10/
LOCATION:Chewelah Center for the Arts
CATEGORIES:Arts & Cultural Events,Summer Events
ORGANIZER;CN="StageTime Theatre School":MAILTO:janetlmc1951@yahoo.com
END:VEVENT
BEGIN:VEVENT
DTSTART;TZID=America/Los_Angeles:20250711T090000
DTEND;TZID=America/Los_Angeles:20250711T140000
DTSTAMP:20260420T192145
CREATED:20250630T164142Z
LAST-MODIFIED:20250707T165616Z
UID:10043190-1752224400-1752242400@chewelah.org
SUMMARY:Boxes & Hats
DESCRIPTION:
URL:https://chewelah.org/event/boxes-hats/2025-07-11/
LOCATION:Chewelah Center for the Arts
CATEGORIES:Arts & Cultural Events,Summer Events
ORGANIZER;CN="StageTime Theatre School":MAILTO:janetlmc1951@yahoo.com
END:VEVENT
BEGIN:VEVENT
DTSTART;TZID=America/Los_Angeles:20250711T110000
DTEND;TZID=America/Los_Angeles:20250711T153000
DTSTAMP:20260420T192145
CREATED:20250408T201309Z
LAST-MODIFIED:20250527T214737Z
UID:10042619-1752231600-1752247800@chewelah.org
SUMMARY:Chewelah Farmer's Market
DESCRIPTION:
URL:https://chewelah.org/event/chewelah-farmers-market/2025-07-11/
LOCATION:Chewelah City Park\, Chewelah\, WA\, 99109\, United States
CATEGORIES:Community Event,Fall Events,Family Friendly,Spring Events,Summer Events
END:VEVENT
BEGIN:VEVENT
DTSTART;TZID=America/Los_Angeles:20250712T083000
DTEND;TZID=America/Los_Angeles:20250712T120000
DTSTAMP:20260420T192145
CREATED:20250630T163808Z
LAST-MODIFIED:20250630T163808Z
UID:10043185-1752309000-1752321600@chewelah.org
SUMMARY:Mike Carpenter Memorial Tournament
DESCRIPTION:
URL:https://chewelah.org/event/mike-carpenter-memorial-tournament/
LOCATION:WA
CATEGORIES:Community Event,Family Friendly,Summer Events
END:VEVENT
BEGIN:VEVENT
DTSTART;TZID=America/Los_Angeles:20250712T090000
DTEND;TZID=America/Los_Angeles:20250712T140000
DTSTAMP:20260420T192145
CREATED:20250630T164142Z
LAST-MODIFIED:20250707T165616Z
UID:10043191-1752310800-1752328800@chewelah.org
SUMMARY:Boxes & Hats
DESCRIPTION:
URL:https://chewelah.org/event/boxes-hats/2025-07-12/
LOCATION:Chewelah Center for the Arts
CATEGORIES:Arts & Cultural Events,Summer Events
ORGANIZER;CN="StageTime Theatre School":MAILTO:janetlmc1951@yahoo.com
END:VEVENT
BEGIN:VEVENT
DTSTART;TZID=America/Los_Angeles:20250712T090000
DTEND;TZID=America/Los_Angeles:20250712T163000
DTSTAMP:20260420T192145
CREATED:20250707T164850Z
LAST-MODIFIED:20250707T164850Z
UID:10043558-1752310800-1752337800@chewelah.org
SUMMARY:Children's Art Festival
DESCRIPTION:
URL:https://chewelah.org/event/childrens-art-festival/
LOCATION:Children’s Pavilion – Chewelah City Park
CATEGORIES:Arts & Cultural Events,Family Friendly,Summer Events
ORGANIZER;CN="Chewelah Arts Guild":MAILTO:info@chewelahartsguild.org
END:VEVENT
BEGIN:VEVENT
DTSTART;TZID=America/Los_Angeles:20250712T100000
DTEND;TZID=America/Los_Angeles:20250712T220000
DTSTAMP:20260420T192145
CREATED:20250523T195028Z
LAST-MODIFIED:20250523T195028Z
UID:10042777-1752314400-1752357600@chewelah.org
SUMMARY:Chewelah Summerfest!
DESCRIPTION:
URL:https://chewelah.org/event/chewelah-summerfest-2/
LOCATION:Chewelah City Park\, Chewelah\, WA\, 99109\, United States
CATEGORIES:Arts & Cultural Events,Community Event,Family Friendly,Summer Events
END:VEVENT
BEGIN:VEVENT
DTSTART;TZID=America/Los_Angeles:20250712T110000
DTEND;TZID=America/Los_Angeles:20250712T170000
DTSTAMP:20260420T192145
CREATED:20250630T163615Z
LAST-MODIFIED:20250630T163615Z
UID:10043184-1752318000-1752339600@chewelah.org
SUMMARY:Mistequa Casino Hotel Bike Show & Swap
DESCRIPTION:
URL:https://chewelah.org/event/mistequa-casino-hotel-bike-show-swap/
LOCATION:Mistequa Casino & Hotel
CATEGORIES:Community Event,Family Friendly,Summer Events
END:VEVENT
BEGIN:VEVENT
DTSTART;TZID=America/Los_Angeles:20250712T160000
DTEND;TZID=America/Los_Angeles:20250712T163000
DTSTAMP:20260420T192145
CREATED:20250707T163129Z
LAST-MODIFIED:20250707T164655Z
UID:10043557-1752336000-1752337800@chewelah.org
SUMMARY:Rubber Duck Regatta
DESCRIPTION:
URL:https://chewelah.org/event/rubber-duck-regatta-2/
LOCATION:Chewelah City Park\, Chewelah\, WA\, 99109\, United States
CATEGORIES:Community Event,Summer Events
END:VEVENT
BEGIN:VEVENT
DTSTART;TZID=America/Los_Angeles:20250718T110000
DTEND;TZID=America/Los_Angeles:20250718T153000
DTSTAMP:20260420T192145
CREATED:20250408T201309Z
LAST-MODIFIED:20250527T214737Z
UID:10042620-1752836400-1752852600@chewelah.org
SUMMARY:Chewelah Farmer's Market
DESCRIPTION:
URL:https://chewelah.org/event/chewelah-farmers-market/2025-07-18/
LOCATION:Chewelah City Park\, Chewelah\, WA\, 99109\, United States
CATEGORIES:Community Event,Fall Events,Family Friendly,Spring Events,Summer Events
END:VEVENT
BEGIN:VEVENT
DTSTART;TZID=America/Los_Angeles:20250718T160000
DTEND;TZID=America/Los_Angeles:20250718T190000
DTSTAMP:20260420T192145
CREATED:20250715T153434Z
LAST-MODIFIED:20250715T153435Z
UID:10043561-1752854400-1752865200@chewelah.org
SUMMARY:Shakespeare on the Green - The Tempest
DESCRIPTION:
URL:https://chewelah.org/event/shakespeare-on-the-green-the-tempest/2025-07-18/
LOCATION:Chewelah Center for the Arts
CATEGORIES:Arts & Cultural Events,Community Event,Family Friendly,Summer Events
END:VEVENT
BEGIN:VEVENT
DTSTART;TZID=America/Los_Angeles:20250719T090000
DTEND;TZID=America/Los_Angeles:20250719T130000
DTSTAMP:20260420T192145
CREATED:20250307T170624Z
LAST-MODIFIED:20250307T170625Z
UID:10042493-1752915600-1752930000@chewelah.org
SUMMARY:CVAS Drive Through Vaccination Clinic
DESCRIPTION:
URL:https://chewelah.org/event/cvas-drive-through-vaccination-clinic/2025-07-19/
LOCATION:501 Old Arden Highway
CATEGORIES:Spring Events,Summer Events,Winter Events
END:VEVENT
BEGIN:VEVENT
DTSTART;TZID=America/Los_Angeles:20250719T160000
DTEND;TZID=America/Los_Angeles:20250719T190000
DTSTAMP:20260420T192146
CREATED:20250715T153434Z
LAST-MODIFIED:20250715T153435Z
UID:10043562-1752940800-1752951600@chewelah.org
SUMMARY:Shakespeare on the Green - The Tempest
DESCRIPTION:
URL:https://chewelah.org/event/shakespeare-on-the-green-the-tempest/2025-07-19/
LOCATION:Chewelah Center for the Arts
CATEGORIES:Arts & Cultural Events,Community Event,Family Friendly,Summer Events
END:VEVENT
BEGIN:VEVENT
DTSTART;TZID=America/Los_Angeles:20250723T110000
DTEND;TZID=America/Los_Angeles:20250723T113000
DTSTAMP:20260420T192146
CREATED:20250624T151503Z
LAST-MODIFIED:20250624T151503Z
UID:10043178-1753268400-1753270200@chewelah.org
SUMMARY:Story Time with the Cats
DESCRIPTION:
URL:https://chewelah.org/event/story-time-with-the-cats/2025-07-23/
LOCATION:WA
CATEGORIES:Family Friendly,Summer Events
END:VEVENT
BEGIN:VEVENT
DTSTART;TZID=America/Los_Angeles:20250725T110000
DTEND;TZID=America/Los_Angeles:20250725T153000
DTSTAMP:20260420T192146
CREATED:20250408T201309Z
LAST-MODIFIED:20250527T214737Z
UID:10042621-1753441200-1753457400@chewelah.org
SUMMARY:Chewelah Farmer's Market
DESCRIPTION:
URL:https://chewelah.org/event/chewelah-farmers-market/2025-07-25/
LOCATION:Chewelah City Park\, Chewelah\, WA\, 99109\, United States
CATEGORIES:Community Event,Fall Events,Family Friendly,Spring Events,Summer Events
END:VEVENT
BEGIN:VEVENT
DTSTART;TZID=America/Los_Angeles:20250726T080000
DTEND;TZID=America/Los_Angeles:20250726T170000
DTSTAMP:20260420T192146
CREATED:20250718T182248Z
LAST-MODIFIED:20250718T182248Z
UID:10043568-1753516800-1753549200@chewelah.org
SUMMARY:3rd Annual Courtzite 3v3 Tournament
DESCRIPTION:
URL:https://chewelah.org/event/3rd-annual-courtzite-3v3-tournament/
LOCATION:Downtown Chewelah\, Main Ave & 2nd Street\, Chewelah\, WA\, 99109\, United States
CATEGORIES:Arts & Cultural Events,Community Event,Family Friendly,Summer Events
END:VEVENT
BEGIN:VEVENT
DTSTART;TZID=America/Los_Angeles:20250726T110000
DTEND;TZID=America/Los_Angeles:20250726T160000
DTSTAMP:20260420T192146
CREATED:20250715T154357Z
LAST-MODIFIED:20250715T154357Z
UID:10043563-1753527600-1753545600@chewelah.org
SUMMARY:Chewelah Kids Festival
DESCRIPTION:
URL:https://chewelah.org/event/chewelah-kids-festival-5/
LOCATION:Chewelah City Park\, Chewelah\, WA\, 99109\, United States
CATEGORIES:Arts & Cultural Events,Community Event,Family Friendly,Summer Events
END:VEVENT
BEGIN:VEVENT
DTSTART;TZID=America/Los_Angeles:20250726T110000
DTEND;TZID=America/Los_Angeles:20250726T200000
DTSTAMP:20260420T192146
CREATED:20250718T162235Z
LAST-MODIFIED:20250718T162235Z
UID:10043565-1753527600-1753560000@chewelah.org
SUMMARY:Heroes & Horsepower
DESCRIPTION:
URL:https://chewelah.org/event/heroes-horsepower/
LOCATION:Colville Toyota
CATEGORIES:Community Event,Family Friendly,Summer Events
END:VEVENT
BEGIN:VEVENT
DTSTART;TZID=America/Los_Angeles:20250728T110000
DTEND;TZID=America/Los_Angeles:20250728T130000
DTSTAMP:20260420T192146
CREATED:20240711T195234Z
LAST-MODIFIED:20240821T163840Z
UID:10041107-1753700400-1753707600@chewelah.org
SUMMARY:Potluck at Chewelah Senior Center
DESCRIPTION:
URL:https://chewelah.org/event/potluck-at-chewelah-senior-center-2/2025-07-28/
LOCATION:Chewelah Senior Center
CATEGORIES:Community Event,Senior Event,Summer Events
END:VEVENT
BEGIN:VEVENT
DTSTART;TZID=America/Los_Angeles:20250731T190000
DTEND;TZID=America/Los_Angeles:20250731T203000
DTSTAMP:20260420T192146
CREATED:20250718T162453Z
LAST-MODIFIED:20250725T214906Z
UID:10043566-1753988400-1753993800@chewelah.org
SUMMARY:Anne of Green Gables
DESCRIPTION:
URL:https://chewelah.org/event/anne-of-green-gables/2025-07-31/
LOCATION:Chewelah Center for the Arts
CATEGORIES:Arts & Cultural Events,Community Event,Summer Events
END:VEVENT
END:VCALENDAR