BEGIN:VCALENDAR
VERSION:2.0
PRODID:-//Chewelah Chamber of Commerce - ECPv6.15.17//NONSGML v1.0//EN
CALSCALE:GREGORIAN
METHOD:PUBLISH
X-ORIGINAL-URL:https://chewelah.org
X-WR-CALDESC:Events for Chewelah Chamber of Commerce
REFRESH-INTERVAL;VALUE=DURATION:PT1H
X-Robots-Tag:noindex
X-PUBLISHED-TTL:PT1H
BEGIN:VTIMEZONE
TZID:America/Los_Angeles
BEGIN:DAYLIGHT
TZOFFSETFROM:-0800
TZOFFSETTO:-0700
TZNAME:PDT
DTSTART:20230312T100000
END:DAYLIGHT
BEGIN:STANDARD
TZOFFSETFROM:-0700
TZOFFSETTO:-0800
TZNAME:PST
DTSTART:20231105T090000
END:STANDARD
BEGIN:DAYLIGHT
TZOFFSETFROM:-0800
TZOFFSETTO:-0700
TZNAME:PDT
DTSTART:20240310T100000
END:DAYLIGHT
BEGIN:STANDARD
TZOFFSETFROM:-0700
TZOFFSETTO:-0800
TZNAME:PST
DTSTART:20241103T090000
END:STANDARD
BEGIN:DAYLIGHT
TZOFFSETFROM:-0800
TZOFFSETTO:-0700
TZNAME:PDT
DTSTART:20250309T100000
END:DAYLIGHT
BEGIN:STANDARD
TZOFFSETFROM:-0700
TZOFFSETTO:-0800
TZNAME:PST
DTSTART:20251102T090000
END:STANDARD
END:VTIMEZONE
BEGIN:VEVENT
DTSTART;TZID=America/Los_Angeles:20240201T170000
DTEND;TZID=America/Los_Angeles:20240201T200000
DTSTAMP:20260421T192613
CREATED:20240125T233140Z
LAST-MODIFIED:20240125T233140Z
UID:10039388-1706806800-1706817600@chewelah.org
SUMMARY:First Thursday Winterfest Art Walk
DESCRIPTION:
URL:https://chewelah.org/event/first-thursday-winterfest-art-walk/
LOCATION:Downtown Chewelah Art Walk\, Chewelah\, WA\, 99109\, United States
CATEGORIES:Arts & Cultural Events,Family Friendly,Winter Events
END:VEVENT
BEGIN:VEVENT
DTSTART;TZID=America/Los_Angeles:20240202T090000
DTEND;TZID=America/Los_Angeles:20240202T113000
DTSTAMP:20260421T192613
CREATED:20240119T165144Z
LAST-MODIFIED:20240402T215925Z
UID:10038931-1706864400-1706873400@chewelah.org
SUMMARY:Adult Pickleball
DESCRIPTION:Monday & Friday 9:00am-11:30am\n243 Par Place by the Chewelah Golf Course\nFree to Everyone! “No Partner? No Problem!”\nContact: sueschlatter17@gmail.com
URL:https://chewelah.org/event/adult-pickleball-3/2024-02-02/
LOCATION:Chewelah Golf & Country Club\, 2537 Sand Canyon Rd\, Chewelah\, WA\, 99109\, United States
CATEGORIES:Family Friendly,Winter Events
END:VEVENT
BEGIN:VEVENT
DTSTART;TZID=America/Los_Angeles:20240202T100000
DTEND;TZID=America/Los_Angeles:20240202T133000
DTSTAMP:20260421T192613
CREATED:20240201T222234Z
LAST-MODIFIED:20240201T222235Z
UID:10039391-1706868000-1706880600@chewelah.org
SUMMARY:Nordic Youth Program
DESCRIPTION:Welcome to the Nordic Youth Program! \nProgram Dates: Fridays\,  February 2nd\, 9th\, and 16th 2024\nStudent Ages:  9-17\nLessons: 90-minute classes\nBeginner Group Lessons: Friday 10:00 am- 11:30 am\nBeyond the Basics Group Lessons: Friday 12:00 pm- 1:30 pm\nContact: If you have any questions\, please contact the Nordic Director\, Greg Mohr\, at 509-680-2490 \nClick Here to register \n 
URL:https://chewelah.org/event/nordic-youth-program/2024-02-02/
LOCATION:49°North\, 3311 Flowery Trail Rd\, Chewelah\, 99109\, United States
CATEGORIES:Family Friendly,Winter Events
END:VEVENT
BEGIN:VEVENT
DTSTART;TZID=America/Los_Angeles:20240203T110000
DTEND;TZID=America/Los_Angeles:20240203T210000
DTSTAMP:20260421T192613
CREATED:20240105T164156Z
LAST-MODIFIED:20240201T235316Z
UID:10038848-1706958000-1706994000@chewelah.org
SUMMARY:Winter Fest
DESCRIPTION:Festival Information Booth at 209 E. Main Ave \nSchedule of Events \n11 am – Opening Ceremony \n11:15 – Center Stage music begins \n11:30 – Skijor behind Mountain Market on Main (approximately 2 hours) \n12 – 5 pm – Winterfest for the Arts  exhibits. Fine Art at Trails End Gallery – 204 E Main Ave;  Photography at McCunn Gallery – Mountain Market on Main – 508 E Main Ave. \n12 – 8 pm – Bingo at 209 E. Main Ave. \n2:30 – Rail Jam next to Center Stage at 2nd and Main (approximately 1.5 hours) \n9 pm – Festival Ends \n  \nCenter Stage Schedule \n11:15 am – 12:15 pm – Spectra \n12:30 – 1:30 – Joshua Jacobson \n1:40 – 2:30 – Steve Schennum \n3:00 – 4:00 – The Sara Brown Band \n4:30 – 5:30 – Firecreek \n6:00 – 9:00 – The Usual Suspects \n 
URL:https://chewelah.org/event/winter-fest/
LOCATION:Downtown Chewelah\, Main Ave & 2nd Street\, Chewelah\, WA\, 99109\, United States
CATEGORIES:Arts & Cultural Events,Winter Events
END:VEVENT
BEGIN:VEVENT
DTSTART;TZID=America/Los_Angeles:20240205T090000
DTEND;TZID=America/Los_Angeles:20240205T113000
DTSTAMP:20260421T192613
CREATED:20240119T165144Z
LAST-MODIFIED:20240402T215925Z
UID:10038932-1707123600-1707132600@chewelah.org
SUMMARY:Adult Pickleball
DESCRIPTION:Monday & Friday 9:00am-11:30am\n243 Par Place by the Chewelah Golf Course\nFree to Everyone! “No Partner? No Problem!”\nContact: sueschlatter17@gmail.com
URL:https://chewelah.org/event/adult-pickleball-3/2024-02-05/
LOCATION:Chewelah Golf & Country Club\, 2537 Sand Canyon Rd\, Chewelah\, WA\, 99109\, United States
CATEGORIES:Family Friendly,Winter Events
END:VEVENT
BEGIN:VEVENT
DTSTART;TZID=America/Los_Angeles:20240209T090000
DTEND;TZID=America/Los_Angeles:20240209T113000
DTSTAMP:20260421T192613
CREATED:20240119T165144Z
LAST-MODIFIED:20240402T215925Z
UID:10038933-1707469200-1707478200@chewelah.org
SUMMARY:Adult Pickleball
DESCRIPTION:Monday & Friday 9:00am-11:30am\n243 Par Place by the Chewelah Golf Course\nFree to Everyone! “No Partner? No Problem!”\nContact: sueschlatter17@gmail.com
URL:https://chewelah.org/event/adult-pickleball-3/2024-02-09/
LOCATION:Chewelah Golf & Country Club\, 2537 Sand Canyon Rd\, Chewelah\, WA\, 99109\, United States
CATEGORIES:Family Friendly,Winter Events
END:VEVENT
BEGIN:VEVENT
DTSTART;TZID=America/Los_Angeles:20240209T100000
DTEND;TZID=America/Los_Angeles:20240209T133000
DTSTAMP:20260421T192613
CREATED:20240201T222234Z
LAST-MODIFIED:20240201T222235Z
UID:10039392-1707472800-1707485400@chewelah.org
SUMMARY:Nordic Youth Program
DESCRIPTION:Welcome to the Nordic Youth Program! \nProgram Dates: Fridays\,  February 2nd\, 9th\, and 16th 2024\nStudent Ages:  9-17\nLessons: 90-minute classes\nBeginner Group Lessons: Friday 10:00 am- 11:30 am\nBeyond the Basics Group Lessons: Friday 12:00 pm- 1:30 pm\nContact: If you have any questions\, please contact the Nordic Director\, Greg Mohr\, at 509-680-2490 \nClick Here to register \n 
URL:https://chewelah.org/event/nordic-youth-program/2024-02-09/
LOCATION:49°North\, 3311 Flowery Trail Rd\, Chewelah\, 99109\, United States
CATEGORIES:Family Friendly,Winter Events
END:VEVENT
BEGIN:VEVENT
DTSTART;TZID=America/Los_Angeles:20240211T150000
DTEND;TZID=America/Los_Angeles:20240211T190000
DTSTAMP:20260421T192613
CREATED:20240125T234056Z
LAST-MODIFIED:20240202T191142Z
UID:10039390-1707663600-1707678000@chewelah.org
SUMMARY:The Big Game Party
DESCRIPTION:
URL:https://chewelah.org/event/super-bowl-lviii-party/
LOCATION:Rusty Putter Bar & Grille\, 2537 San Canyon Rd\, Chewelah\, WA\, 99109\, United States
CATEGORIES:Family Friendly,Winter Events
END:VEVENT
BEGIN:VEVENT
DTSTART;TZID=America/Los_Angeles:20240212T090000
DTEND;TZID=America/Los_Angeles:20240212T113000
DTSTAMP:20260421T192613
CREATED:20240119T165144Z
LAST-MODIFIED:20240402T215925Z
UID:10038934-1707728400-1707737400@chewelah.org
SUMMARY:Adult Pickleball
DESCRIPTION:Monday & Friday 9:00am-11:30am\n243 Par Place by the Chewelah Golf Course\nFree to Everyone! “No Partner? No Problem!”\nContact: sueschlatter17@gmail.com
URL:https://chewelah.org/event/adult-pickleball-3/2024-02-12/
LOCATION:Chewelah Golf & Country Club\, 2537 Sand Canyon Rd\, Chewelah\, WA\, 99109\, United States
CATEGORIES:Family Friendly,Winter Events
END:VEVENT
BEGIN:VEVENT
DTSTART;TZID=America/Los_Angeles:20240214T160000
DTEND;TZID=America/Los_Angeles:20240214T200000
DTSTAMP:20260421T192613
CREATED:20240125T233542Z
LAST-MODIFIED:20240201T225529Z
UID:10039389-1707926400-1707940800@chewelah.org
SUMMARY:Rusty Putter Valentine Dinner
DESCRIPTION:
URL:https://chewelah.org/event/rusty-putter-valentine-dinner/
LOCATION:Rusty Putter Bar & Grille\, 2537 San Canyon Rd\, Chewelah\, WA\, 99109\, United States
CATEGORIES:Featured Events,Winter Events
END:VEVENT
BEGIN:VEVENT
DTSTART;TZID=America/Los_Angeles:20240216T090000
DTEND;TZID=America/Los_Angeles:20240216T113000
DTSTAMP:20260421T192613
CREATED:20240119T165144Z
LAST-MODIFIED:20240402T215925Z
UID:10038935-1708074000-1708083000@chewelah.org
SUMMARY:Adult Pickleball
DESCRIPTION:Monday & Friday 9:00am-11:30am\n243 Par Place by the Chewelah Golf Course\nFree to Everyone! “No Partner? No Problem!”\nContact: sueschlatter17@gmail.com
URL:https://chewelah.org/event/adult-pickleball-3/2024-02-16/
LOCATION:Chewelah Golf & Country Club\, 2537 Sand Canyon Rd\, Chewelah\, WA\, 99109\, United States
CATEGORIES:Family Friendly,Winter Events
END:VEVENT
BEGIN:VEVENT
DTSTART;TZID=America/Los_Angeles:20240216T100000
DTEND;TZID=America/Los_Angeles:20240216T133000
DTSTAMP:20260421T192613
CREATED:20240201T222234Z
LAST-MODIFIED:20240201T222235Z
UID:10039393-1708077600-1708090200@chewelah.org
SUMMARY:Nordic Youth Program
DESCRIPTION:Welcome to the Nordic Youth Program! \nProgram Dates: Fridays\,  February 2nd\, 9th\, and 16th 2024\nStudent Ages:  9-17\nLessons: 90-minute classes\nBeginner Group Lessons: Friday 10:00 am- 11:30 am\nBeyond the Basics Group Lessons: Friday 12:00 pm- 1:30 pm\nContact: If you have any questions\, please contact the Nordic Director\, Greg Mohr\, at 509-680-2490 \nClick Here to register \n 
URL:https://chewelah.org/event/nordic-youth-program/2024-02-16/
LOCATION:49°North\, 3311 Flowery Trail Rd\, Chewelah\, 99109\, United States
CATEGORIES:Family Friendly,Winter Events
END:VEVENT
BEGIN:VEVENT
DTSTART;TZID=America/Los_Angeles:20240219T090000
DTEND;TZID=America/Los_Angeles:20240219T113000
DTSTAMP:20260421T192613
CREATED:20240119T165144Z
LAST-MODIFIED:20240402T215925Z
UID:10038936-1708333200-1708342200@chewelah.org
SUMMARY:Adult Pickleball
DESCRIPTION:Monday & Friday 9:00am-11:30am\n243 Par Place by the Chewelah Golf Course\nFree to Everyone! “No Partner? No Problem!”\nContact: sueschlatter17@gmail.com
URL:https://chewelah.org/event/adult-pickleball-3/2024-02-19/
LOCATION:Chewelah Golf & Country Club\, 2537 Sand Canyon Rd\, Chewelah\, WA\, 99109\, United States
CATEGORIES:Family Friendly,Winter Events
END:VEVENT
BEGIN:VEVENT
DTSTART;TZID=America/Los_Angeles:20240223T090000
DTEND;TZID=America/Los_Angeles:20240223T113000
DTSTAMP:20260421T192613
CREATED:20240119T165144Z
LAST-MODIFIED:20240402T215925Z
UID:10038937-1708678800-1708687800@chewelah.org
SUMMARY:Adult Pickleball
DESCRIPTION:Monday & Friday 9:00am-11:30am\n243 Par Place by the Chewelah Golf Course\nFree to Everyone! “No Partner? No Problem!”\nContact: sueschlatter17@gmail.com
URL:https://chewelah.org/event/adult-pickleball-3/2024-02-23/
LOCATION:Chewelah Golf & Country Club\, 2537 Sand Canyon Rd\, Chewelah\, WA\, 99109\, United States
CATEGORIES:Family Friendly,Winter Events
END:VEVENT
BEGIN:VEVENT
DTSTART;TZID=America/Los_Angeles:20240226T090000
DTEND;TZID=America/Los_Angeles:20240226T113000
DTSTAMP:20260421T192613
CREATED:20240119T165144Z
LAST-MODIFIED:20240402T215925Z
UID:10038938-1708938000-1708947000@chewelah.org
SUMMARY:Adult Pickleball
DESCRIPTION:Monday & Friday 9:00am-11:30am\n243 Par Place by the Chewelah Golf Course\nFree to Everyone! “No Partner? No Problem!”\nContact: sueschlatter17@gmail.com
URL:https://chewelah.org/event/adult-pickleball-3/2024-02-26/
LOCATION:Chewelah Golf & Country Club\, 2537 Sand Canyon Rd\, Chewelah\, WA\, 99109\, United States
CATEGORIES:Family Friendly,Winter Events
END:VEVENT
END:VCALENDAR