BEGIN:VCALENDAR
VERSION:2.0
PRODID:-//Chewelah Chamber of Commerce - ECPv6.15.17//NONSGML v1.0//EN
CALSCALE:GREGORIAN
METHOD:PUBLISH
X-ORIGINAL-URL:https://chewelah.org
X-WR-CALDESC:Events for Chewelah Chamber of Commerce
REFRESH-INTERVAL;VALUE=DURATION:PT1H
X-Robots-Tag:noindex
X-PUBLISHED-TTL:PT1H
BEGIN:VTIMEZONE
TZID:America/Los_Angeles
BEGIN:DAYLIGHT
TZOFFSETFROM:-0800
TZOFFSETTO:-0700
TZNAME:PDT
DTSTART:20240310T100000
END:DAYLIGHT
BEGIN:STANDARD
TZOFFSETFROM:-0700
TZOFFSETTO:-0800
TZNAME:PST
DTSTART:20241103T090000
END:STANDARD
BEGIN:DAYLIGHT
TZOFFSETFROM:-0800
TZOFFSETTO:-0700
TZNAME:PDT
DTSTART:20250309T100000
END:DAYLIGHT
BEGIN:STANDARD
TZOFFSETFROM:-0700
TZOFFSETTO:-0800
TZNAME:PST
DTSTART:20251102T090000
END:STANDARD
BEGIN:DAYLIGHT
TZOFFSETFROM:-0800
TZOFFSETTO:-0700
TZNAME:PDT
DTSTART:20260308T100000
END:DAYLIGHT
BEGIN:STANDARD
TZOFFSETFROM:-0700
TZOFFSETTO:-0800
TZNAME:PST
DTSTART:20261101T090000
END:STANDARD
END:VTIMEZONE
BEGIN:VEVENT
DTSTART;TZID=America/Los_Angeles:20250605T170000
DTEND;TZID=America/Los_Angeles:20250628T200000
DTSTAMP:20260419T062555
CREATED:20250529T211203Z
LAST-MODIFIED:20250603T174821Z
UID:10042779-1749142800-1751140800@chewelah.org
SUMMARY:Chewelah Plein Air 2025
DESCRIPTION:
URL:https://chewelah.org/event/chewelah-plein-air-2025/
LOCATION:Trails End Gallery\, 101 N. Park St. \, Suite #B\, Chewelah\, WA\, 99109\, United States
CATEGORIES:Arts & Cultural Events,Spring Events,Summer Events
END:VEVENT
BEGIN:VEVENT
DTSTART;TZID=America/Los_Angeles:20250621T093000
DTEND;TZID=America/Los_Angeles:20250621T130000
DTSTAMP:20260419T062555
CREATED:20250307T170624Z
LAST-MODIFIED:20250307T170625Z
UID:10042492-1750498200-1750510800@chewelah.org
SUMMARY:CVAS Drive Through Vaccination Clinic
DESCRIPTION:
URL:https://chewelah.org/event/cvas-drive-through-vaccination-clinic/2025-06-21/
LOCATION:501 Old Arden Highway
CATEGORIES:Spring Events,Summer Events,Winter Events
END:VEVENT
BEGIN:VEVENT
DTSTART;TZID=America/Los_Angeles:20250621T100000
DTEND;TZID=America/Los_Angeles:20250621T160000
DTSTAMP:20260419T062555
CREATED:20250529T211527Z
LAST-MODIFIED:20250529T211527Z
UID:10043169-1750500000-1750521600@chewelah.org
SUMMARY:Front Porch Farm Garden Tour
DESCRIPTION:Front
URL:https://chewelah.org/event/front-porch-farm-garden-tour/
LOCATION:Front Porch Farm\, 896 Hwy 395 S\, Addy\, WA\, 99101\, United States
CATEGORIES:Family Friendly,Summer Events
END:VEVENT
END:VCALENDAR