BEGIN:VCALENDAR
VERSION:2.0
PRODID:-//Chewelah Chamber of Commerce - ECPv6.15.17//NONSGML v1.0//EN
CALSCALE:GREGORIAN
METHOD:PUBLISH
X-ORIGINAL-URL:https://chewelah.org
X-WR-CALDESC:Events for Chewelah Chamber of Commerce
REFRESH-INTERVAL;VALUE=DURATION:PT1H
X-Robots-Tag:noindex
X-PUBLISHED-TTL:PT1H
BEGIN:VTIMEZONE
TZID:America/Los_Angeles
BEGIN:DAYLIGHT
TZOFFSETFROM:-0800
TZOFFSETTO:-0700
TZNAME:PDT
DTSTART:20230312T100000
END:DAYLIGHT
BEGIN:STANDARD
TZOFFSETFROM:-0700
TZOFFSETTO:-0800
TZNAME:PST
DTSTART:20231105T090000
END:STANDARD
BEGIN:DAYLIGHT
TZOFFSETFROM:-0800
TZOFFSETTO:-0700
TZNAME:PDT
DTSTART:20240310T100000
END:DAYLIGHT
BEGIN:STANDARD
TZOFFSETFROM:-0700
TZOFFSETTO:-0800
TZNAME:PST
DTSTART:20241103T090000
END:STANDARD
BEGIN:DAYLIGHT
TZOFFSETFROM:-0800
TZOFFSETTO:-0700
TZNAME:PDT
DTSTART:20250309T100000
END:DAYLIGHT
BEGIN:STANDARD
TZOFFSETFROM:-0700
TZOFFSETTO:-0800
TZNAME:PST
DTSTART:20251102T090000
END:STANDARD
END:VTIMEZONE
BEGIN:VEVENT
DTSTART;TZID=America/Los_Angeles:20240614T090000
DTEND;TZID=America/Los_Angeles:20240614T113000
DTSTAMP:20260419T063025
CREATED:20240119T165144Z
LAST-MODIFIED:20240402T215925Z
UID:10038969-1718355600-1718364600@chewelah.org
SUMMARY:Adult Pickleball
DESCRIPTION:Monday & Friday 9:00am-11:30am\n243 Par Place by the Chewelah Golf Course\nFree to Everyone! “No Partner? No Problem!”\nContact: sueschlatter17@gmail.com
URL:https://chewelah.org/event/adult-pickleball-3/2024-06-14/
LOCATION:Chewelah Golf & Country Club\, 2537 Sand Canyon Rd\, Chewelah\, WA\, 99109\, United States
CATEGORIES:Family Friendly,Winter Events
END:VEVENT
BEGIN:VEVENT
DTSTART;TZID=America/Los_Angeles:20240614T100000
DTEND;TZID=America/Los_Angeles:20240614T160000
DTSTAMP:20260419T063025
CREATED:20240605T173135Z
LAST-MODIFIED:20240605T180104Z
UID:10040513-1718359200-1718380800@chewelah.org
SUMMARY:Giant Barn & Yard Sale
DESCRIPTION:
URL:https://chewelah.org/event/giant-barn-yard-sale/2024-06-14/
LOCATION:Legacy Farm & Stable\, 4061 WA-292\, Loon Lake\, WA\, 33148
CATEGORIES:Community Event,Family Friendly
END:VEVENT
BEGIN:VEVENT
DTSTART;TZID=America/Los_Angeles:20240614T110000
DTEND;TZID=America/Los_Angeles:20240614T153000
DTSTAMP:20260419T063025
CREATED:20240228T184003Z
LAST-MODIFIED:20240502T182231Z
UID:10039538-1718362800-1718379000@chewelah.org
SUMMARY:Chewelah Farmers Market
DESCRIPTION:
URL:https://chewelah.org/event/chewelah-farmers-market-2/2024-06-14/
LOCATION:Chewelah City Park\, Chewelah\, WA\, 99109\, United States
CATEGORIES:Family Friendly,Summer Events
END:VEVENT
BEGIN:VEVENT
DTSTART;TZID=America/Los_Angeles:20240614T170000
DTEND;TZID=America/Los_Angeles:20240614T200000
DTSTAMP:20260419T063025
CREATED:20240605T165818Z
LAST-MODIFIED:20240605T170715Z
UID:10040493-1718384400-1718395200@chewelah.org
SUMMARY:Chewelah Plein Air 2024
DESCRIPTION:
URL:https://chewelah.org/event/chewelah-plein-air-2024/2024-06-14/
LOCATION:Trails End Gallery\, 101 N. Park St. \, Suite #B\, Chewelah\, WA\, 99109\, United States
CATEGORIES:Arts & Cultural Events,Family Friendly
END:VEVENT
BEGIN:VEVENT
DTSTART;TZID=America/Los_Angeles:20240614T170000
DTEND;TZID=America/Los_Angeles:20240614T200000
DTSTAMP:20260419T063025
CREATED:20240605T171941Z
LAST-MODIFIED:20240605T174444Z
UID:10040511-1718384400-1718395200@chewelah.org
SUMMARY:Colville Valley Animal Sanctuary Fundraiser
DESCRIPTION:
URL:https://chewelah.org/event/colville-valley-animal-sanctuary-fundraiser/
LOCATION:Quartzite Brewery
CATEGORIES:Community Event,Summer Events
END:VEVENT
END:VCALENDAR