BEGIN:VCALENDAR
VERSION:2.0
PRODID:-//Chewelah Chamber of Commerce - ECPv6.15.17//NONSGML v1.0//EN
CALSCALE:GREGORIAN
METHOD:PUBLISH
X-ORIGINAL-URL:https://chewelah.org
X-WR-CALDESC:Events for Chewelah Chamber of Commerce
REFRESH-INTERVAL;VALUE=DURATION:PT1H
X-Robots-Tag:noindex
X-PUBLISHED-TTL:PT1H
BEGIN:VTIMEZONE
TZID:America/Los_Angeles
BEGIN:DAYLIGHT
TZOFFSETFROM:-0800
TZOFFSETTO:-0700
TZNAME:PDT
DTSTART:20230312T100000
END:DAYLIGHT
BEGIN:STANDARD
TZOFFSETFROM:-0700
TZOFFSETTO:-0800
TZNAME:PST
DTSTART:20231105T090000
END:STANDARD
BEGIN:DAYLIGHT
TZOFFSETFROM:-0800
TZOFFSETTO:-0700
TZNAME:PDT
DTSTART:20240310T100000
END:DAYLIGHT
BEGIN:STANDARD
TZOFFSETFROM:-0700
TZOFFSETTO:-0800
TZNAME:PST
DTSTART:20241103T090000
END:STANDARD
BEGIN:DAYLIGHT
TZOFFSETFROM:-0800
TZOFFSETTO:-0700
TZNAME:PDT
DTSTART:20250309T100000
END:DAYLIGHT
BEGIN:STANDARD
TZOFFSETFROM:-0700
TZOFFSETTO:-0800
TZNAME:PST
DTSTART:20251102T090000
END:STANDARD
END:VTIMEZONE
BEGIN:VEVENT
DTSTART;TZID=America/Los_Angeles:20240613T100000
DTEND;TZID=America/Los_Angeles:20240613T113000
DTSTAMP:20260421T131543
CREATED:20240517T211210Z
LAST-MODIFIED:20240517T211210Z
UID:10040069-1718272800-1718278200@chewelah.org
SUMMARY:Free Diapers!
DESCRIPTION:
URL:https://chewelah.org/event/free-diapers/2024-06-13/
LOCATION:St. Mary of The Rosary Church\, 502 E Main Ave\, Chewelah\, WA\, 99109\, United States
CATEGORIES:Community Event,Family Friendly
END:VEVENT
BEGIN:VEVENT
DTSTART;TZID=America/Los_Angeles:20240613T100000
DTEND;TZID=America/Los_Angeles:20240613T140000
DTSTAMP:20260421T131543
CREATED:20240123T000233Z
LAST-MODIFIED:20240123T000434Z
UID:10039233-1718272800-1718287200@chewelah.org
SUMMARY:Food Bank Open 10am-2pm
DESCRIPTION:
URL:https://chewelah.org/event/food-bank-open-10am-2pm-2/2024-06-13/
LOCATION:Chewelah Food Bank\, 302 E Main Ave\, Chewelah\, WA\, 99109\, United States
END:VEVENT
BEGIN:VEVENT
DTSTART;TZID=America/Los_Angeles:20240613T170000
DTEND;TZID=America/Los_Angeles:20240613T190000
DTSTAMP:20260421T131543
CREATED:20240605T182827Z
LAST-MODIFIED:20240605T182827Z
UID:10040518-1718298000-1718305200@chewelah.org
SUMMARY:Free Community Barbeque
DESCRIPTION:
URL:https://chewelah.org/event/free-community-barbeque/
LOCATION:St. Mary’s Catholic Church
CATEGORIES:Community Event,Family Friendly,Summer Events
END:VEVENT
BEGIN:VEVENT
DTSTART;TZID=America/Los_Angeles:20240613T170000
DTEND;TZID=America/Los_Angeles:20240613T200000
DTSTAMP:20260421T131543
CREATED:20240605T165818Z
LAST-MODIFIED:20240605T170715Z
UID:10040492-1718298000-1718308800@chewelah.org
SUMMARY:Chewelah Plein Air 2024
DESCRIPTION:
URL:https://chewelah.org/event/chewelah-plein-air-2024/2024-06-13/
LOCATION:Trails End Gallery\, 101 N. Park St. \, Suite #B\, Chewelah\, WA\, 99109\, United States
CATEGORIES:Arts & Cultural Events,Family Friendly
END:VEVENT
BEGIN:VEVENT
DTSTART;TZID=America/Los_Angeles:20240613T203000
DTEND;TZID=America/Los_Angeles:20240613T233000
DTSTAMP:20260421T131543
CREATED:20240501T185655Z
LAST-MODIFIED:20240809T231250Z
UID:10039891-1718310600-1718321400@chewelah.org
SUMMARY:Kraigmire Karaoke
DESCRIPTION:
URL:https://chewelah.org/event/kraigmire-karaoke/2024-06-13/
LOCATION:Oasis\, 109 N Park Street\, CHEWELAH\, WA\, 99109\, United States
CATEGORIES:Arts & Cultural Events,Community Event,Featured Events
END:VEVENT
END:VCALENDAR